BEGIN:VCALENDAR
VERSION:2.0
PRODID:-//Centro Studi Rosario Livatino - ECPv6.15.20//NONSGML v1.0//EN
CALSCALE:GREGORIAN
METHOD:PUBLISH
X-WR-CALNAME:Centro Studi Rosario Livatino
X-ORIGINAL-URL:https://www.centrostudilivatino.it
X-WR-CALDESC:Eventi per Centro Studi Rosario Livatino
REFRESH-INTERVAL;VALUE=DURATION:PT1H
X-Robots-Tag:noindex
X-PUBLISHED-TTL:PT1H
BEGIN:VTIMEZONE
TZID:UTC
BEGIN:STANDARD
TZOFFSETFROM:+0000
TZOFFSETTO:+0000
TZNAME:UTC
DTSTART:20240101T000000
END:STANDARD
END:VTIMEZONE
BEGIN:VEVENT
DTSTART;TZID=UTC:20250918T193000
DTEND;TZID=UTC:20250918T213000
DTSTAMP:20260422T173954
CREATED:20250916T173125Z
LAST-MODIFIED:20250916T173125Z
UID:14740-1758223800-1758231000@www.centrostudilivatino.it
SUMMARY:Maletto (CT) - Operatori di giustizia
DESCRIPTION:San Vincenzo Ferreri\, Beato Rosario Livatino. Operatori di giustizia
URL:https://www.centrostudilivatino.it/event/maletto-ct-operatori-di-giustizia/
LOCATION:Chiesa Sant’Antonio\, Via Sant'Antonio\, Maletto CT\, Maletto\, 95035\, Italy
ATTACH;FMTTYPE=image/jpeg:https://www.centrostudilivatino.it/wp-content/uploads/2025/09/Operatori-di-giustizia-scaled.jpeg
END:VEVENT
END:VCALENDAR