BEGIN:VCALENDAR
VERSION:2.0
PRODID:-//Centro Studi Rosario Livatino - ECPv6.15.20//NONSGML v1.0//EN
CALSCALE:GREGORIAN
METHOD:PUBLISH
X-ORIGINAL-URL:https://www.centrostudilivatino.it
X-WR-CALDESC:Eventi per Centro Studi Rosario Livatino
REFRESH-INTERVAL;VALUE=DURATION:PT1H
X-Robots-Tag:noindex
X-PUBLISHED-TTL:PT1H
BEGIN:VTIMEZONE
TZID:UTC
BEGIN:STANDARD
TZOFFSETFROM:+0000
TZOFFSETTO:+0000
TZNAME:UTC
DTSTART:20250101T000000
END:STANDARD
END:VTIMEZONE
BEGIN:VEVENT
DTSTART;TZID=UTC:20260207T080000
DTEND;TZID=UTC:20260208T190000
DTSTAMP:20260421T202741
CREATED:20260131T151630Z
LAST-MODIFIED:20260131T151630Z
UID:15136-1770451200-1770577200@www.centrostudilivatino.it
SUMMARY:Adrano (CT) - Peregrinatio Beati Rosarii
DESCRIPTION:
URL:https://www.centrostudilivatino.it/event/adrano-ct-peregrinatio-beati-rosarii/
LOCATION:Parrocchia Santa Maria degli Angeli\, Piazza Armando Diaz\, 40\, Adrano\, 95031\, Italy
ATTACH;FMTTYPE=image/jpeg:https://www.centrostudilivatino.it/wp-content/uploads/2026/01/Peregrinatio-Bearti-Rosarii.jpeg
END:VEVENT
END:VCALENDAR