BEGIN:VCALENDAR
VERSION:2.0
PRODID:-//Centro Studi Rosario Livatino - ECPv6.15.20//NONSGML v1.0//EN
CALSCALE:GREGORIAN
METHOD:PUBLISH
X-ORIGINAL-URL:https://www.centrostudilivatino.it
X-WR-CALDESC:Eventi per Centro Studi Rosario Livatino
REFRESH-INTERVAL;VALUE=DURATION:PT1H
X-Robots-Tag:noindex
X-PUBLISHED-TTL:PT1H
BEGIN:VTIMEZONE
TZID:UTC
BEGIN:STANDARD
TZOFFSETFROM:+0000
TZOFFSETTO:+0000
TZNAME:UTC
DTSTART:20240101T000000
END:STANDARD
END:VTIMEZONE
BEGIN:VEVENT
DTSTART;TZID=UTC:20250603T143000
DTEND;TZID=UTC:20250603T170000
DTSTAMP:20260422T221134
CREATED:20250520T141435Z
LAST-MODIFIED:20250520T141435Z
UID:14349-1748961000-1748970000@www.centrostudilivatino.it
SUMMARY:Roma (RM) - Socialità e dipendenze digitali
DESCRIPTION:
URL:https://www.centrostudilivatino.it/event/roma-rm-socialita-e-dipendenze-digitali/
LOCATION:Sala dell’Istituto Santa Maria in Aquiro\, Piazza Capranica 72\, Roma\, 00186\, Italy
ATTACH;FMTTYPE=image/jpeg:https://www.centrostudilivatino.it/wp-content/uploads/2025/05/locandina-convegno-dipendenze.jpg
END:VEVENT
BEGIN:VEVENT
DTSTART;TZID=UTC:20250617T080000
DTEND;TZID=UTC:20250618T170000
DTSTAMP:20260422T221134
CREATED:20250609T100600Z
LAST-MODIFIED:20250609T100600Z
UID:14411-1750147200-1750266000@www.centrostudilivatino.it
SUMMARY:Roma (RM) - II Festival dell'"umano tutto intero"
DESCRIPTION:I luoghi e le strade della Speranza.
URL:https://www.centrostudilivatino.it/event/roma-rm-ii-festival-dellumano-tutto-intero/
LOCATION:Pio Sodalizio dei Piceni\, Piazza S. Salvatore in Lauro 15\, Roma\, Italy
ATTACH;FMTTYPE=image/jpeg:https://www.centrostudilivatino.it/wp-content/uploads/2025/06/festival-dellumano-1.jpg
END:VEVENT
BEGIN:VEVENT
DTSTART;TZID=UTC:20250918T193000
DTEND;TZID=UTC:20250918T213000
DTSTAMP:20260422T221134
CREATED:20250916T173125Z
LAST-MODIFIED:20250916T173125Z
UID:14740-1758223800-1758231000@www.centrostudilivatino.it
SUMMARY:Maletto (CT) - Operatori di giustizia
DESCRIPTION:San Vincenzo Ferreri\, Beato Rosario Livatino. Operatori di giustizia
URL:https://www.centrostudilivatino.it/event/maletto-ct-operatori-di-giustizia/
LOCATION:Chiesa Sant’Antonio\, Via Sant'Antonio\, Maletto CT\, Maletto\, 95035\, Italy
ATTACH;FMTTYPE=image/jpeg:https://www.centrostudilivatino.it/wp-content/uploads/2025/09/Operatori-di-giustizia-scaled.jpeg
END:VEVENT
BEGIN:VEVENT
DTSTART;TZID=UTC:20251124T100000
DTEND;TZID=UTC:20251129T180000
DTSTAMP:20260422T221134
CREATED:20251120T171209Z
LAST-MODIFIED:20251120T171209Z
UID:14933-1763978400-1764439200@www.centrostudilivatino.it
SUMMARY:Lucca - Mostra: Sub tutela Dei
DESCRIPTION:“SUB TUTELA DEI”. UNA MOSTRA SUL GIUDICE ROSARIO LIVATINO Nelle sale al piano terra del Palazzo Guinigi il 24 novembre sarà inaugurata una mostra dedicata a Rosario Livatino\, il giudice assassinato all’eta di 38 anni dalla mafia nel 1990 mentre\, privo di scorta\, si recava al Tribunale di Agrigento\, ove prestava servizio. Il titolo non è altro che la decrittazione dell’ acronimo “S.T.D.” scritto di pugno da Livatino e rinvenuto sulle sue agende. La mostra\, che sarà visitabile gratuitamente fino a sabato 29 novembre\, è stata presentata per la prima volta in occasione del Meeting dell’Amicizia di Rimini nel 2022\, ed è stata esposta in diverse città e sedi giudiziarie; tra queste\, a Roma\, presso la Corte di Cassazione. La luminosa figura di Rosario Livatino ha assunto un ulteriore rilievo anche grazie al fatto che la Chiesa\, nel 2021\, riconoscendo l’eroicità delle sue virtù e le particolari circostanze del suo martirio\, cui non erano estranee le sue profonde convinzioni religiose\, lo ha proclamato beato. La mostra si divide in 4 sezioni: la prima è dedicata alla formazione personale di Rosario Livatino\, nell’ambiente familiare e sociale in cui è cresciuto (Parrocchia\, Azione Cattolica)\, nonché alla descrizione del difficile contesto storico in cui ha operato come magistrato per la radicata presenza mafiosa in quel territorio. Sono qui messe in risalto la sua profonda umanità e il suo sentimento religioso che lo spingevano\, sempre e comunque\, a rispettare anche i peggiori malviventi. La seconda è dedicata alla figura di Livatino come esempio di magistrato integerrimo e dedito al dovere. Pur essendo privo\, a quel tempo\, degli strumenti normativi di indagine oggi disponibili per combattere la malavita\, la sua intelligenza\, il suo impegno ed il suo rigore nella ricerca della verità al servizio della giustizia\, attirarono su di lui le “attenzioni” dei mafiosi che decisero\, infine\, di eliminarlo. Nella terza si ricostruisce la brutale scena dell’assassinio di Livatino. Centrale\, in essa\, è la figura di Piero Ivano Nava\, coraggioso testimone oculare nei processi contro mandanti ed esecutori\, il quale raccontò le spietate modalità della sua uccisione. Di seguito si descrive l’iter del processo canonico conclusosi con la beatificazione\, ossia con il suo riconoscimento di martire ucciso “in odium fidei” Nella quarta\, infine\, si dà atto della grande eredità non soltanto civile ma anche\, per i credenti\, cristiana\, lasciata da Rosario Livatino. Eredità testimoniata dallo stesso ruolo\, da tutti riconosciuto\, della Chiesa nella resistenza alla mafia ma\, non di meno\, dalle moltissime persone semplici che lo hanno conosciuto e da tanti colleghi di lavoro\, così come. Sono esposte\, infine\, le riproduzioni di due commoventi lettere\, una scritta da un mandante\, l’altra da uno degli esecutori\, acquisite al processo canonico\, indubitabili segni di sincero pentimento. Per le ore 10 del 24 novembre sono state invitate a visitare la mostra alcune classi delle scuole medie superiori della città\, mentre alle ore 15 del pomeriggio essa verrà presentata alla cittadinanza con l’intervento delle Autorità civili e dell’Arcivescovo di Lucca che porteranno i loro saluti. Illustreranno la figura di Rosario Livatino il dott. Pino Morandini\, ex magistrato\, membro del direttivo dei Centri di Aiuto alla Vita; l’Avv. Eva Sala\, membro del Consiglio di Presidenza della Giustizia Amministrativa e\, in chiusura\, il dott. Domenico Airoma\, Procuratore della Repubblica di Avellino e Vicepresidente del Centro Studi Rosario Livatino\, associazione che ha curato l’organizzazione dell’evento con il patrocinio e il contributo del Comune di Lucca\, nell’ambito delle iniziative del progetto “Vivi Lucca 2025”.
URL:https://www.centrostudilivatino.it/event/lucca-mostra-sub-tutela-dei/
LOCATION:Palazzo Giunigi\, Via Giunigi 29\, Lucca\, Italy
ATTACH;FMTTYPE=image/jpeg:https://www.centrostudilivatino.it/wp-content/uploads/2025/11/sub-tutela-dei.jpeg
END:VEVENT
BEGIN:VEVENT
DTSTART;TZID=UTC:20251204T173000
DTEND;TZID=UTC:20251204T190000
DTSTAMP:20260422T221134
CREATED:20251126T113103Z
LAST-MODIFIED:20251126T113103Z
UID:14947-1764869400-1764874800@www.centrostudilivatino.it
SUMMARY:Roma (RM) - E' vita anche alla fine
DESCRIPTION:
URL:https://www.centrostudilivatino.it/event/roma-rm-e-vita-anche-alla-fine/
LOCATION:Edizioni Studium\, Via Gioachino Belli 86\, Roma\, RM\, Italy
ATTACH;FMTTYPE=image/jpeg:https://www.centrostudilivatino.it/wp-content/uploads/2025/11/Presentazione-libro-fine-vita-4.12.2025.jpg
END:VEVENT
BEGIN:VEVENT
DTSTART;TZID=UTC:20260207T080000
DTEND;TZID=UTC:20260208T190000
DTSTAMP:20260422T221134
CREATED:20260131T151630Z
LAST-MODIFIED:20260131T151630Z
UID:15136-1770451200-1770577200@www.centrostudilivatino.it
SUMMARY:Adrano (CT) - Peregrinatio Beati Rosarii
DESCRIPTION:
URL:https://www.centrostudilivatino.it/event/adrano-ct-peregrinatio-beati-rosarii/
LOCATION:Parrocchia Santa Maria degli Angeli\, Piazza Armando Diaz\, 40\, Adrano\, 95031\, Italy
ATTACH;FMTTYPE=image/jpeg:https://www.centrostudilivatino.it/wp-content/uploads/2026/01/Peregrinatio-Bearti-Rosarii.jpeg
END:VEVENT
BEGIN:VEVENT
DTSTART;TZID=UTC:20260212T150000
DTEND;TZID=UTC:20260212T170000
DTSTAMP:20260422T221134
CREATED:20260131T152740Z
LAST-MODIFIED:20260131T152740Z
UID:15141-1770908400-1770915600@www.centrostudilivatino.it
SUMMARY:Roma (RM) - Beato Rosario Angelo Livatino. Modello per la politica\, via alla santità
DESCRIPTION:
URL:https://www.centrostudilivatino.it/event/roma-rm-beato-rosario-angelo-livatino-modello-per-la-politica-via-alla-santita/
LOCATION:Sala Caduti di Nassirya – Palazzo Madama (Senato)
ATTACH;FMTTYPE=image/jpeg:https://www.centrostudilivatino.it/wp-content/uploads/2026/01/Locandina-Beato-Livatino-12-febbraio-2026-copia.jpg
END:VEVENT
BEGIN:VEVENT
DTSTART;TZID=UTC:20260415T100000
DTEND;TZID=UTC:20260415T170000
DTSTAMP:20260422T221134
CREATED:20260323T220524Z
LAST-MODIFIED:20260323T220547Z
UID:15286-1776247200-1776272400@www.centrostudilivatino.it
SUMMARY:Roma (RM) - Giornata di studi in onore di Mauro Ronco
DESCRIPTION:
URL:https://www.centrostudilivatino.it/event/roma-rm-giornata-di-studi-in-onore-di-mauro-ronco/
LOCATION:Università Europea di Roma\, Via degli Aldobrandeschi 190\, Roma\, Italia
ATTACH;FMTTYPE=image/jpeg:https://www.centrostudilivatino.it/wp-content/uploads/2026/03/2026-04-15_Giornata-di-studi-M.-Ronco-Univ.-Europea.jpg
END:VEVENT
BEGIN:VEVENT
DTSTART;TZID=UTC:20260423T143000
DTEND;TZID=UTC:20260423T183000
DTSTAMP:20260422T221134
CREATED:20260415T184310Z
LAST-MODIFIED:20260415T184602Z
UID:15341-1776954600-1776969000@www.centrostudilivatino.it
SUMMARY:Roma (RM) - Giornata di studio su diritto e letteratura
DESCRIPTION:
URL:https://www.centrostudilivatino.it/event/roma-rm-giornata-di-studio-su-diritto-e-letteratura/
LOCATION:Istituto regionale di studi giuridici del Lazio Arturo Carlo Jemolo\, Viale Giulio Cesare\, 31\, Roma\, RM\, 00192\, Italy
ATTACH;FMTTYPE=image/jpeg:https://www.centrostudilivatino.it/wp-content/uploads/2026/04/diritto-e-letteratura.jpeg
END:VEVENT
BEGIN:VEVENT
DTSTART;TZID=UTC:20260513T143000
DTEND;TZID=UTC:20260513T180000
DTSTAMP:20260422T221134
CREATED:20260415T184840Z
LAST-MODIFIED:20260422T205653Z
UID:15345-1778682600-1778695200@www.centrostudilivatino.it
SUMMARY:Roma (RM) - Diritto internazionale: tramonto o crisi?
DESCRIPTION:
URL:https://www.centrostudilivatino.it/event/roma-rm-diritto-internazionale-tramonto-o-crisi/
LOCATION:Sala Capitolare presso il chiostro del convento di s. Maria sopra Minerva\, Piazza della Minerva\, 38\, Roma\, Italia
ATTACH;FMTTYPE=image/jpeg:https://www.centrostudilivatino.it/wp-content/uploads/2026/04/diritto-internazionale-locandina.jpeg
END:VEVENT
END:VCALENDAR