BEGIN:VCALENDAR
VERSION:2.0
PRODID:-//Centro Studi Rosario Livatino - ECPv6.15.20//NONSGML v1.0//EN
CALSCALE:GREGORIAN
METHOD:PUBLISH
X-WR-CALNAME:Centro Studi Rosario Livatino
X-ORIGINAL-URL:https://www.centrostudilivatino.it
X-WR-CALDESC:Eventi per Centro Studi Rosario Livatino
REFRESH-INTERVAL;VALUE=DURATION:PT1H
X-Robots-Tag:noindex
X-PUBLISHED-TTL:PT1H
BEGIN:VTIMEZONE
TZID:UTC
BEGIN:STANDARD
TZOFFSETFROM:+0000
TZOFFSETTO:+0000
TZNAME:UTC
DTSTART:20210101T000000
END:STANDARD
END:VTIMEZONE
BEGIN:VEVENT
DTSTART;TZID=UTC:20220722T180000
DTEND;TZID=UTC:20220722T190000
DTSTAMP:20260420T071750
CREATED:20220720T155330Z
LAST-MODIFIED:20220720T155353Z
UID:11051-1658512800-1658516400@www.centrostudilivatino.it
SUMMARY:Trevi nel Lazio (FR) - Istituzioni e potere
DESCRIPTION:
URL:https://www.centrostudilivatino.it/event/trevi-nel-lazio-fr-istituzioni-e-potere/
LOCATION:Castrum 2022\, Trevi nel Lazio\, Italia
ATTACH;FMTTYPE=image/jpeg:https://www.centrostudilivatino.it/wp-content/uploads/2022/07/Istituzioni-e-potere.jpeg
END:VEVENT
BEGIN:VEVENT
DTSTART;TZID=UTC:20220713T210000
DTEND;TZID=UTC:20220713T210000
DTSTAMP:20260420T071750
CREATED:20220702T084319Z
LAST-MODIFIED:20220702T084421Z
UID:10962-1657746000-1657746000@www.centrostudilivatino.it
SUMMARY:Online - Legale fa più male
DESCRIPTION:Diretta su Facebook https://www.facebook.com/provitaonlus e YouTube https://www.youtube.com/c/ProVita_Video
URL:https://www.centrostudilivatino.it/event/online-legale-fa-piu-male/
LOCATION:Online
ATTACH;FMTTYPE=image/jpeg:https://www.centrostudilivatino.it/wp-content/uploads/2022/07/legale-fa-più-male.jpeg
ORGANIZER;CN="Pro Vita e Famiglia":MAILTO:info@provitaefamiglia.it
END:VEVENT
BEGIN:VEVENT
DTSTART;TZID=UTC:20220713T143000
DTEND;TZID=UTC:20220713T170000
DTSTAMP:20260420T071750
CREATED:20220707T102711Z
LAST-MODIFIED:20220707T102711Z
UID:10995-1657722600-1657731600@www.centrostudilivatino.it
SUMMARY:Roma (RM) - Corte Suprema USA Dobbs v. Jackson: sentenza ingiusta o pronuncia di civiltà?
DESCRIPTION:
URL:https://www.centrostudilivatino.it/event/roma-rm-corte-suprema-usa-dobbs-v-jackson-sentenza-ingiusta-o-pronuncia-di-civilta/
LOCATION:Palazzo Maffei Marescotti\, Via della Pigna\, 13/A\, Roma\, Italia
ATTACH;FMTTYPE=image/jpeg:https://www.centrostudilivatino.it/wp-content/uploads/2022/07/Corte-Suprema-USA-Dobbs-v.-Jackson.jpeg
END:VEVENT
BEGIN:VEVENT
DTSTART;TZID=UTC:20220708T180000
DTEND;TZID=UTC:20220708T180000
DTSTAMP:20260420T071750
CREATED:20220702T084833Z
LAST-MODIFIED:20220702T084833Z
UID:10966-1657303200-1657303200@www.centrostudilivatino.it
SUMMARY:Verona (VR) - Fine vita: la scelta tra cure appropriate a abbandono
DESCRIPTION:
URL:https://www.centrostudilivatino.it/event/verona-vr-fine-vita-la-scelta-tra-cure-appropriate-a-abbandono/
LOCATION:Aula Magna – Fondazione Toniolo\, Via Seminario 8\, Verona\, Italia
ATTACH;FMTTYPE=image/jpeg:https://www.centrostudilivatino.it/wp-content/uploads/2022/07/fine-vita.jpeg
END:VEVENT
BEGIN:VEVENT
DTSTART;TZID=UTC:20220624T203000
DTEND;TZID=UTC:20220624T220000
DTSTAMP:20260420T071750
CREATED:20220620T073709Z
LAST-MODIFIED:20220620T073709Z
UID:10906-1656102600-1656108000@www.centrostudilivatino.it
SUMMARY:Brescia (BS) - OnLife. Conferenza di chiusura
DESCRIPTION:Venerdi 24 Giugno 2022 si terrà la conferenza di chiusura della campagna di sensibilizzazione sulle dipendenze #OnLife. Gli ospiti presenti saranno: l’avvocato Roberto Respinti del Centro Studi “Rosario Livatino”\, il Dr. Daniele Torri e il Dr.Massimo Maruzzi della comunità AI RUCC. Insieme a loro cercheremo di capire il processo che spinge alla dipendenza\, il contrasto a livello giuridico e l’esperienza del recupero delle persone colpite dal cancro della dipendenza dalle droghe\, dal gioco d’azzardo e dall’alcol. \nLa conferenza inizierà alle 20.30 alla Sala Conferenze del Monastero dei Saveriani a Brescia. \nVi aspettiamo numerosi.
URL:https://www.centrostudilivatino.it/event/brescia-bs-onlife-conferenza-di-chiusura/
LOCATION:Monastero dei Saveriani\, Via Giovanni Piamarta 9\, Brescia\, Italia
ATTACH;FMTTYPE=image/jpeg:https://www.centrostudilivatino.it/wp-content/uploads/2022/06/onlife.jpeg
END:VEVENT
BEGIN:VEVENT
DTSTART;TZID=UTC:20220624T174500
DTEND;TZID=UTC:20220624T190000
DTSTAMP:20260420T071750
CREATED:20220613T114452Z
LAST-MODIFIED:20220613T114452Z
UID:10873-1656092700-1656097200@www.centrostudilivatino.it
SUMMARY:Catania (CT) - Eutanasia o cure palliative
DESCRIPTION:
URL:https://www.centrostudilivatino.it/event/catania-ct-eutanasia-o-cure-palliative/
LOCATION:Studio Teologico San Paolo\, Viale Odorico da Pordenone 24\, Catania\, Italia
ATTACH;FMTTYPE=image/jpeg:https://www.centrostudilivatino.it/wp-content/uploads/2022/06/eutanasia-o-cure-palliative.jpeg
END:VEVENT
BEGIN:VEVENT
DTSTART;TZID=UTC:20220620T190000
DTEND;TZID=UTC:20220620T203000
DTSTAMP:20260420T071750
CREATED:20220613T114113Z
LAST-MODIFIED:20220613T114940Z
UID:10869-1655751600-1655757000@www.centrostudilivatino.it
SUMMARY:Avellino (AV) - Accompagnare la sofferenza
DESCRIPTION:
URL:https://www.centrostudilivatino.it/event/avellino-av-accompagnare-la-sofferenza/
LOCATION:Auditorium Polo Giovani\, Via Morelli e Silvati\, Avellino\, Italia
ATTACH;FMTTYPE=image/jpeg:https://www.centrostudilivatino.it/wp-content/uploads/2022/06/accompagnare-la-sofferenza.jpeg
END:VEVENT
BEGIN:VEVENT
DTSTART;TZID=UTC:20220607T211500
DTEND;TZID=UTC:20220607T223000
DTSTAMP:20260420T071750
CREATED:20220526T075748Z
LAST-MODIFIED:20220526T075748Z
UID:10789-1654636500-1654641000@www.centrostudilivatino.it
SUMMARY:Online - Riforma e referendum: quale Giustizia?
DESCRIPTION:
URL:https://www.centrostudilivatino.it/event/online-riforma-e-referendum-quale-giustizia/
LOCATION:Online
ATTACH;FMTTYPE=image/jpeg:https://www.centrostudilivatino.it/wp-content/uploads/2022/05/Riforma-e-referendum-quale-giustizia.jpeg
END:VEVENT
BEGIN:VEVENT
DTSTART;TZID=UTC:20220603T170000
DTEND;TZID=UTC:20220603T190000
DTSTAMP:20260420T071750
CREATED:20220504T172311Z
LAST-MODIFIED:20220504T172311Z
UID:10610-1654275600-1654282800@www.centrostudilivatino.it
SUMMARY:Bari (BA) - Nel segno dell’Umanità custodire l’Ambiente\, tutelare la Salute\, promuovere l’Equità\, proteggere la Vita
DESCRIPTION:
URL:https://www.centrostudilivatino.it/event/bari-ba-nel-segno-dellumanita-custodire-lambiente-tutelare-la-salute-promuovere-lequita-proteggere-la-vita/
LOCATION:Circolo Unione – Salone delle Muse\, Via A. Sordi 7\, Bari\, Italia
ATTACH;FMTTYPE=image/jpeg:https://www.centrostudilivatino.it/wp-content/uploads/2022/05/Nel-segno-dellumanita.jpg
END:VEVENT
BEGIN:VEVENT
DTSTART;TZID=UTC:20220601T110000
DTEND;TZID=UTC:20220601T130000
DTSTAMP:20260420T071750
CREATED:20220526T080449Z
LAST-MODIFIED:20220526T080449Z
UID:10792-1654081200-1654088400@www.centrostudilivatino.it
SUMMARY:Roma (RM) - Europa chiama Italia: ora riformare la Giustizia
DESCRIPTION:
URL:https://www.centrostudilivatino.it/event/roma-rm-europa-chiama-italia-ora-riformare-la-giustizia/
LOCATION:Campidoglio – Sala del Carroccio\, Piazza del Campidoglio\, Roma\, Italia
ATTACH;FMTTYPE=image/jpeg:https://www.centrostudilivatino.it/wp-content/uploads/2022/05/Europa-chiama-Italia-ora-riformare-la-giustizia.jpeg
END:VEVENT
BEGIN:VEVENT
DTSTART;TZID=UTC:20220531T150000
DTEND;TZID=UTC:20220531T180000
DTSTAMP:20260420T071750
CREATED:20220513T170713Z
LAST-MODIFIED:20220513T170713Z
UID:10735-1654009200-1654020000@www.centrostudilivatino.it
SUMMARY:Reggio Emilia (RE) - Quale legge per il fine vita dopo la sentenza 50/2022?
DESCRIPTION:
URL:https://www.centrostudilivatino.it/event/reggio-emilia-re-quale-legge-per-il-fine-vita-dopo-la-sentenza-50-2022/
LOCATION:Sala del Museo diocesano\, Via Vittorio Veneto 6\, Reggio Emilia (RE)\, Italia
ATTACH;FMTTYPE=image/png:https://www.centrostudilivatino.it/wp-content/uploads/2022/05/Quale-legge-per-il-fine-vita.png
END:VEVENT
BEGIN:VEVENT
DTSTART;TZID=UTC:20220520T183000
DTEND;TZID=UTC:20220520T200000
DTSTAMP:20260420T071750
CREATED:20220513T165404Z
LAST-MODIFIED:20220513T165404Z
UID:10726-1653071400-1653076800@www.centrostudilivatino.it
SUMMARY:Caserta (CE) - Rosario Livatino\, la toga ed il martirio
DESCRIPTION:
URL:https://www.centrostudilivatino.it/event/caserta-ce-rosario-livatino-la-toga-ed-il-martirio/
LOCATION:Biblioteca del Seminario\, Piazza Duomo\, Caserta (CE)\, Italia
ATTACH;FMTTYPE=image/jpeg:https://www.centrostudilivatino.it/wp-content/uploads/2022/05/Rosario-Livatino-la-toga-e-il-martirio.jpeg
END:VEVENT
BEGIN:VEVENT
DTSTART;TZID=UTC:20220520T170000
DTEND;TZID=UTC:20220520T190000
DTSTAMP:20260420T071750
CREATED:20220513T164913Z
LAST-MODIFIED:20220513T164933Z
UID:10722-1653066000-1653073200@www.centrostudilivatino.it
SUMMARY:Portici (NA) - Incontri di orientamento agli studi e alle professioni del diritto
DESCRIPTION:
URL:https://www.centrostudilivatino.it/event/portici-na-incontri-di-orientamento-agli-studi-e-alle-professioni-del-diritto/
LOCATION:Villa Fernandes\, Via Diaz 144\, Portici (NA)\, Italia
ATTACH;FMTTYPE=image/jpeg:https://www.centrostudilivatino.it/wp-content/uploads/2022/05/Orientamento-professioni-del-diritto.jpeg
END:VEVENT
BEGIN:VEVENT
DTSTART;TZID=UTC:20220520T150000
DTEND;TZID=UTC:20220520T183000
DTSTAMP:20260420T071750
CREATED:20220421T165555Z
LAST-MODIFIED:20220430T213607Z
UID:10542-1653058800-1653071400@www.centrostudilivatino.it
SUMMARY:Rimini (RN) - L'ufficio per il processo: una vera opportunità di giustizia?
DESCRIPTION:
URL:https://www.centrostudilivatino.it/event/rimini-rn-lufficio-per-il-processo-una-vera-opportunita-di-giustizia/
LOCATION:Tribule di imini – Aula Falcone e Borsellino\, Viale Carlo Alberto dalla Chiesa\, 11\, Rimini\, 47923\, Italia
ATTACH;FMTTYPE=image/jpeg:https://www.centrostudilivatino.it/wp-content/uploads/2022/04/Lufficio-per-il-processo-una-vera-opportunità-di-giustizia.jpg
END:VEVENT
BEGIN:VEVENT
DTSTART;TZID=UTC:20220519T183000
DTEND;TZID=UTC:20220519T200000
DTSTAMP:20260420T071750
CREATED:20220516T063735Z
LAST-MODIFIED:20220516T063735Z
UID:10741-1652985000-1652990400@www.centrostudilivatino.it
SUMMARY:Online - Rosario Livatino (in inglese)
DESCRIPTION:
URL:https://www.centrostudilivatino.it/event/online-rosario-livatino-in-inglese/
LOCATION:Online
ATTACH;FMTTYPE=image/jpeg:https://www.centrostudilivatino.it/wp-content/uploads/2022/05/Conference-on-Rosario-Livatino.jpeg
END:VEVENT
BEGIN:VEVENT
DTSTART;TZID=UTC:20220516T203000
DTEND;TZID=UTC:20220516T220000
DTSTAMP:20260420T071750
CREATED:20220513T165855Z
LAST-MODIFIED:20220513T165855Z
UID:10730-1652733000-1652738400@www.centrostudilivatino.it
SUMMARY:Piacenza (PC) - Il suicidio assistito e il suicidio dell'Occidente
DESCRIPTION:
URL:https://www.centrostudilivatino.it/event/piacenza-pc-il-suicidio-assistito-e-il-suicidio-delloccidente/
LOCATION:Auditorium Sant’Ilario\, Corso Garibaldi 17\, Piacenza (PC)\, Italia
ATTACH;FMTTYPE=image/jpeg:https://www.centrostudilivatino.it/wp-content/uploads/2022/05/Il-sucidio-assistito-e-il-suicidio-dellOccidente.jpeg
END:VEVENT
BEGIN:VEVENT
DTSTART;TZID=UTC:20220514T114500
DTEND;TZID=UTC:20220514T130000
DTSTAMP:20260420T071750
CREATED:20220511T113447Z
LAST-MODIFIED:20220511T113454Z
UID:10703-1652528700-1652533200@www.centrostudilivatino.it
SUMMARY:Roma (RM) - È l'Italia che vogliamo
DESCRIPTION:Il 14 maggio 2022 si terrà a Roma la manifestazione È l’Italia che vogliamo\, giornata organizzata dalla Lega Nord e dedicata a varie aree tematiche. \nRiportiamo di seguito l’elenco dei partecipanti alla sezione dedicata all’area giustizia\, che si terrà alle ore 11\,45 sotto il titolo La giustizia che vogliamo. \nAndrea Ostellari\, presidente della Commissione giustizia del Senato \nCAMBIARE IL CSM PER CAMBIARE LA GIUSTIZIA. NE PARLANO TRE PM E UN GIUDICE \nEnrico Infante\, P.M. sostituto Procuratore di Foggia \nAlfredo Mantovano\, vicepresidente del Centro Studi Rosario Livatino \nCarlo Nordio\, già Procuratore aggiunto di Venezia \nIlaria Perinu\, P.M. Sostituto Procuratore di Milano \n  \n  \n 
URL:https://www.centrostudilivatino.it/event/roma-rm-e-litalia-che-vogliamo/
LOCATION:La Lanterna\, Via Tomacelli\, 157\, Roma\, 00186\, Italia
ATTACH;FMTTYPE=image/png:https://www.centrostudilivatino.it/wp-content/uploads/2022/05/è-litalia-che-vogliamo.png
END:VEVENT
BEGIN:VEVENT
DTSTART;TZID=UTC:20220506T143000
DTEND;TZID=UTC:20220506T180000
DTSTAMP:20260420T071750
CREATED:20220420T120130Z
LAST-MODIFIED:20220430T213829Z
UID:10528-1651847400-1651860000@www.centrostudilivatino.it
SUMMARY:Roma (RM) - Droga\, le ragioni del no. Scienza\, prevenzione\, contrasto\, recupero
DESCRIPTION:Venerdì 6 maggio\, alle ore 14\,30\, a Roma presso la Sala Capitolare presso il chiostro del convento di s. Maria sopra Minerva\, Piazza della Minerva\, 38\, si terrà il convegno nazionale annuale del Centro Studi Livatino\, che avrà per tema “Droga\, le ragioni del no. Scienza\, prevenzione\, contrasto\, recupero“. \nDi seguito trovate l’invito e il modulo di adesione da compilare e inviare entro il 30 aprile 2022 a info@centrostudilivatino.it. \nSi ricorda che la partecipazione al convegno è consentita esclusivamente a chi sia munito di una delle certificazioni verdi Covid-19 rafforzate. I giornalisti devono accreditarsi scrivendo a: info@centrostudilivatino.it \n \n \nConvegno droga modulo registrazione (1)
URL:https://www.centrostudilivatino.it/event/roma-rm-droga-le-ragioni-del-no-scienza-prevenzione-contrasto-recupero/
LOCATION:Sala Capitolare presso il chiostro del convento di s. Maria sopra Minerva\, Piazza della Minerva\, 38\, Roma\, Italia
ATTACH;FMTTYPE=image/png:https://www.centrostudilivatino.it/wp-content/uploads/2022/04/Droga-le-ragioni-del-no-convegno.png
END:VEVENT
BEGIN:VEVENT
DTSTART;TZID=UTC:20220505T203000
DTEND;TZID=UTC:20220505T220000
DTSTAMP:20260420T071750
CREATED:20220430T213340Z
LAST-MODIFIED:20220430T213743Z
UID:10582-1651782600-1651788000@www.centrostudilivatino.it
SUMMARY:Eutanasia legale: le ragioni del NO
DESCRIPTION:
URL:https://www.centrostudilivatino.it/event/eutanasia-legale-le-ragioni-del-no/
LOCATION:Parrocchia Santa Maria Immacolata e San Vincenzo De Paoli\, Via di Tor Sapienza 52\, Roma\, Italia
ATTACH;FMTTYPE=image/jpeg:https://www.centrostudilivatino.it/wp-content/uploads/2022/04/Eutanasia-legale-le-ragioni-del-no.jpeg
END:VEVENT
BEGIN:VEVENT
DTSTART;TZID=UTC:20220505T161500
DTEND;TZID=UTC:20220505T180000
DTSTAMP:20260420T071750
CREATED:20220421T165039Z
LAST-MODIFIED:20220430T213655Z
UID:10537-1651767300-1651773600@www.centrostudilivatino.it
SUMMARY:Milano (MI) - La guerra in Ucraina. Uno sguardo sulla realtà e su alcune sue implicazioni
DESCRIPTION:
URL:https://www.centrostudilivatino.it/event/milano-mi-la-guerra-in-ucraina-uno-sguardo-sulla-realta-e-su-alcune-sue-implicazioni/
LOCATION:Spazio Chiossetto\, Via Chiossetto 20\, Milano\, Italia
ATTACH;FMTTYPE=image/jpeg:https://www.centrostudilivatino.it/wp-content/uploads/2022/04/La-guerra-in-Ucraina.jpeg
END:VEVENT
BEGIN:VEVENT
DTSTART;TZID=UTC:20220502T200000
DTEND;TZID=UTC:20220502T220000
DTSTAMP:20260420T071750
CREATED:20220422T135021Z
LAST-MODIFIED:20220422T135027Z
UID:10552-1651521600-1651528800@www.centrostudilivatino.it
SUMMARY:Bassano del Grappa (VI) - Quanto è pericolosa per la libertà l'autodeterminazione
DESCRIPTION:
URL:https://www.centrostudilivatino.it/event/bassano-del-grappa-vi-quanto-e-pericolosa-per-la-liberta-lautodeterminazione/
LOCATION:Hotel Palladio\, Via Gramsci 2\, Bassano Del Grappa\, Italy
ATTACH;FMTTYPE=image/jpeg:https://www.centrostudilivatino.it/wp-content/uploads/2022/04/Scuola-di-cultura-cattolica.jpeg
END:VEVENT
BEGIN:VEVENT
DTSTART;TZID=UTC:20220501T210000
DTEND;TZID=UTC:20220501T220000
DTSTAMP:20260420T071750
CREATED:20220430T214657Z
LAST-MODIFIED:20220430T214657Z
UID:10588-1651438800-1651442400@www.centrostudilivatino.it
SUMMARY:Radio Maria - Tavola rotonda sulla droga
DESCRIPTION:Trasmissione curata da Domenico Airoma. I vari aspetti del tema saranno trattati\, oltre che dal nostro Vicepresidente\, da Daniela Bianchini\, dal Dott. Antonino Amato (medico) e da Roberto Respinti. Nell’occasione verrano anche presentati il libro “Droga. Le ragioni del NO” il Convegno del 6 maggio.
URL:https://www.centrostudilivatino.it/event/radio-maria-tavola-rotonda-sulla-droga/
LOCATION:Radio Maria
END:VEVENT
BEGIN:VEVENT
DTSTART;TZID=UTC:20220430T083000
DTEND;TZID=UTC:20220430T130000
DTSTAMP:20260420T071750
CREATED:20220422T134511Z
LAST-MODIFIED:20220422T134511Z
UID:10547-1651307400-1651323600@www.centrostudilivatino.it
SUMMARY:Napoli (NA) - Carlo Casini\, testimone di misericordia
DESCRIPTION:
URL:https://www.centrostudilivatino.it/event/napoli-na-carlo-casini-testimone-di-misericordia/
LOCATION:Hotel Tiempo\, Via Sannio\, 19\, Napoli\, NA\, 80146\, Italia
ATTACH;FMTTYPE=image/jpeg:https://www.centrostudilivatino.it/wp-content/uploads/2022/04/Programma_Casini-Testimone-di-Misericordia-.jpg
END:VEVENT
BEGIN:VEVENT
DTSTART;TZID=UTC:20220429T193000
DTEND;TZID=UTC:20220429T203000
DTSTAMP:20260420T071750
CREATED:20220420T114732Z
LAST-MODIFIED:20220420T114732Z
UID:10519-1651260600-1651264200@www.centrostudilivatino.it
SUMMARY:Lecce (LE) - Eutanasia. Le ragioni del no
DESCRIPTION:
URL:https://www.centrostudilivatino.it/event/lecce-le-eutanasia-le-ragioni-del-no/
LOCATION:Parrocchia S. Giovanni Battista\, Via Novara\, Lecce\, Italia
ATTACH;FMTTYPE=image/webp:https://www.centrostudilivatino.it/wp-content/uploads/2022/04/Conferenza-eutanasia-Lecce.webp
END:VEVENT
BEGIN:VEVENT
DTSTART;TZID=UTC:20220423T173000
DTEND;TZID=UTC:20220423T190000
DTSTAMP:20260420T071750
CREATED:20220420T115114Z
LAST-MODIFIED:20220420T115114Z
UID:10523-1650735000-1650740400@www.centrostudilivatino.it
SUMMARY:PAOLA (CS) - Eutanasia. Le ragioni del no
DESCRIPTION:Sabato 23 aprile a Paola (CS) alle ore 17\,30 presso la Biblioteca Charitas del Santuario di San Francesco di Paola\, in occasione della giornata mondiale del libro e del diritto d’autore\, Domenico Airoma ed Antonio Mondelli\, dopo i saluti del M.R.P. Provinciale Francesco Maria Trebisonda\, presenteranno il volume Eutanasia. Le ragioni del no.
URL:https://www.centrostudilivatino.it/event/paola-cs-eutanasia-le-ragioni-del-no/
LOCATION:Biblioteca Charitas\, Santuario S. Francesco di Paola\, Paola (CS)\, Italia
ATTACH;FMTTYPE=image/webp:https://www.centrostudilivatino.it/wp-content/uploads/2022/04/Incontro-Paola.webp
END:VEVENT
BEGIN:VEVENT
DTSTART;TZID=UTC:20220406T090000
DTEND;TZID=UTC:20220406T120000
DTSTAMP:20260420T071750
CREATED:20220329T193134Z
LAST-MODIFIED:20220329T193134Z
UID:10425-1649235600-1649246400@www.centrostudilivatino.it
SUMMARY:Online  e Roma - Teologia e spiritualità di Dante
DESCRIPTION:
URL:https://www.centrostudilivatino.it/event/online-e-roma-teologia-e-spiritualita-di-dante/
LOCATION:Lumsa Università\, Via di Porta Castello 44\, Roma\, Italia
ATTACH;FMTTYPE=image/jpeg:https://www.centrostudilivatino.it/wp-content/uploads/2022/03/Teologia-e-spiritualità-di-Dante.jpg
END:VEVENT
BEGIN:VEVENT
DTSTART;TZID=UTC:20220401T173000
DTEND;TZID=UTC:20220401T190000
DTSTAMP:20260420T071750
CREATED:20220318T143248Z
LAST-MODIFIED:20220318T143248Z
UID:10378-1648834200-1648839600@www.centrostudilivatino.it
SUMMARY:Online - Eutanasia\, le ragioni del no
DESCRIPTION:
URL:https://www.centrostudilivatino.it/event/online-eutanasia-le-ragioni-del-no-3/
LOCATION:Online
ATTACH;FMTTYPE=image/jpeg:https://www.centrostudilivatino.it/wp-content/uploads/2022/03/No-alleutanasia.jpg
END:VEVENT
BEGIN:VEVENT
DTSTART;TZID=UTC:20220311T080000
DTEND;TZID=UTC:20220311T170000
DTSTAMP:20260420T071750
CREATED:20220121T181520Z
LAST-MODIFIED:20220420T115715Z
UID:10103-1646985600-1647018000@www.centrostudilivatino.it
SUMMARY:CORSO DI PERFEZIONAMENTO IN SESSUALITÀ\, FERTILITÀ\, AMBIENTE E STILI DI VITA
DESCRIPTION:Università Cattolica del Sacro Cuore Facoltà di Medicina e Chirurgia \nCORSO DI PERFEZIONAMENTO IN SESSUALITÀ\, FERTILITÀ\, AMBIENTE E STILI DI VITA \nII edizione – anno accademico 2021/2022 \n➢ Offrire conoscenze sulle condizioni e cause\, che possono danneggiare la fertilità femminile e maschile. ➢ Fornire strumenti per disegnare e realizzare interventi di riduzione del rischio per la fertilità e la salute preconcezionale attraverso il miglioramento degli stili di vita e la cura dell’ambiente di vita e di lavoro. \n➢ Sensibilizzare alla consulenza preconcezionale.\n➢ Progettare interventi culturali e socioeconomici per ridurre il tasso di denatalità in Italia. \nQuesti gli obiettivi principali del Corso di Perfezionamento in Sessualità\, fertilità\, ambiente e stili di vita promosso dal Centro di Ricerca e Studi sulla Salute Procreativa dell’Università Cattolica del Sacro Cuore. \nIl corso\, erogato in modalità online\, è organizzato in quattro moduli: \n➢ 11-12 marzo 2022 \n➢ 22-23 aprile 2022 ➢ 13-14 maggio 2022 ➢ 15-16 luglio 2022 \nPartendo dal concetto di “salute preconcezionale” nell’ottica di sanità pubblica\, se ne analizzeranno – nel I modulo – i determinanti (alimentazione\, attività fisica\, inquinanti nell’ambiente di vita e lavoro\, esposizione a farmaci e radiazioni\, comportamenti di consumo\, stato vaccinale\, attività fisica)\, le conoscenze e i comportamenti. \nIl II modulo è dedicato alle patologie maschile e femminile che possono ridurre la fertilità\, con un focus anche sulla preservazione della fertilità femminile in caso di patologia oncologica.\nIl III e il IV modulo prenderanno in esame la proposta della consulenza preconcezionale\, la fertilità tra pandemia Covid19 e vaccini\, la conoscenza della fertilità femminile\, gli aspetti antropologici\, etici\, pedagogici e sociali\, con una particolare attenzione agli aspetti della comunicazione di massa e alle ricadute delle politiche demografiche\, economiche e del Welfare State sulla natalità. \nIl Corso è rivolto a medici\, psicologi\, pedagogisti\, ostetriche\, infermieri\, insegnanti\, e a quanti sono impegnati in contesti di promozione della salute\, prevenzione ed educazione. \nPer maggiori informazioni e iscrizione entro il 14 febbraio 2022\, cliccare su: \nhttps://formazionecontinua.unicatt.it/formazione-sessualita-fertilita-ambiente-e-stili-di-vita- s121rm1049123-01 \no scrivere a: \ncentro.saluteprocreativa@unicatt.it \n\nScarica il programma
URL:https://www.centrostudilivatino.it/event/corso-di-perfezionamento-in-sessualita-fertilita-ambiente-e-stili-di-vita/
LOCATION:Università Cattolica del Sacro Cuore
END:VEVENT
BEGIN:VEVENT
DTSTART;TZID=UTC:20220309T143000
DTEND;TZID=UTC:20220309T183000
DTSTAMP:20260420T071750
CREATED:20220307T094215Z
LAST-MODIFIED:20220307T094302Z
UID:10319-1646836200-1646850600@www.centrostudilivatino.it
SUMMARY:Roma (RM) - Pubblica agenda sussidiaria e condivisa
DESCRIPTION:
URL:https://www.centrostudilivatino.it/event/roma-rm-pubblica-agenda-sussidiaria-e-condivisa/
LOCATION:Pontificia Università San Tommaso D’Aquino – Angelicum\, Largo Angelicum 1\, Roma\, Italia
ATTACH;FMTTYPE=image/jpeg:https://www.centrostudilivatino.it/wp-content/uploads/2022/03/Pubblica-Agenda-sussidiaria-e-condivisa.jpg
END:VEVENT
BEGIN:VEVENT
DTSTART;TZID=UTC:20220218T210000
DTEND;TZID=UTC:20220218T230000
DTSTAMP:20260420T071750
CREATED:20220215T202700Z
LAST-MODIFIED:20220215T202700Z
UID:10237-1645218000-1645225200@www.centrostudilivatino.it
SUMMARY:Online - In vece del popolo italiano
DESCRIPTION:
URL:https://www.centrostudilivatino.it/event/online-in-vece-del-popolo-italiano/
LOCATION:Online
ATTACH;FMTTYPE=image/png:https://www.centrostudilivatino.it/wp-content/uploads/2022/02/In-vece-del-popolo-italiano.png
END:VEVENT
END:VCALENDAR