BEGIN:VCALENDAR
VERSION:2.0
PRODID:-//Centro Studi Rosario Livatino - ECPv6.15.20//NONSGML v1.0//EN
CALSCALE:GREGORIAN
METHOD:PUBLISH
X-WR-CALNAME:Centro Studi Rosario Livatino
X-ORIGINAL-URL:https://www.centrostudilivatino.it
X-WR-CALDESC:Eventi per Centro Studi Rosario Livatino
REFRESH-INTERVAL;VALUE=DURATION:PT1H
X-Robots-Tag:noindex
X-PUBLISHED-TTL:PT1H
BEGIN:VTIMEZONE
TZID:UTC
BEGIN:STANDARD
TZOFFSETFROM:+0000
TZOFFSETTO:+0000
TZNAME:UTC
DTSTART:20200101T000000
END:STANDARD
END:VTIMEZONE
BEGIN:VEVENT
DTSTART;TZID=UTC:20220502T200000
DTEND;TZID=UTC:20220502T220000
DTSTAMP:20260420T131709
CREATED:20220422T135021Z
LAST-MODIFIED:20220422T135027Z
UID:10552-1651521600-1651528800@www.centrostudilivatino.it
SUMMARY:Bassano del Grappa (VI) - Quanto è pericolosa per la libertà l'autodeterminazione
DESCRIPTION:
URL:https://www.centrostudilivatino.it/event/bassano-del-grappa-vi-quanto-e-pericolosa-per-la-liberta-lautodeterminazione/
LOCATION:Hotel Palladio\, Via Gramsci 2\, Bassano Del Grappa\, Italy
ATTACH;FMTTYPE=image/jpeg:https://www.centrostudilivatino.it/wp-content/uploads/2022/04/Scuola-di-cultura-cattolica.jpeg
END:VEVENT
BEGIN:VEVENT
DTSTART;TZID=UTC:20220501T210000
DTEND;TZID=UTC:20220501T220000
DTSTAMP:20260420T131709
CREATED:20220430T214657Z
LAST-MODIFIED:20220430T214657Z
UID:10588-1651438800-1651442400@www.centrostudilivatino.it
SUMMARY:Radio Maria - Tavola rotonda sulla droga
DESCRIPTION:Trasmissione curata da Domenico Airoma. I vari aspetti del tema saranno trattati\, oltre che dal nostro Vicepresidente\, da Daniela Bianchini\, dal Dott. Antonino Amato (medico) e da Roberto Respinti. Nell’occasione verrano anche presentati il libro “Droga. Le ragioni del NO” il Convegno del 6 maggio.
URL:https://www.centrostudilivatino.it/event/radio-maria-tavola-rotonda-sulla-droga/
LOCATION:Radio Maria
END:VEVENT
BEGIN:VEVENT
DTSTART;TZID=UTC:20220430T083000
DTEND;TZID=UTC:20220430T130000
DTSTAMP:20260420T131709
CREATED:20220422T134511Z
LAST-MODIFIED:20220422T134511Z
UID:10547-1651307400-1651323600@www.centrostudilivatino.it
SUMMARY:Napoli (NA) - Carlo Casini\, testimone di misericordia
DESCRIPTION:
URL:https://www.centrostudilivatino.it/event/napoli-na-carlo-casini-testimone-di-misericordia/
LOCATION:Hotel Tiempo\, Via Sannio\, 19\, Napoli\, NA\, 80146\, Italia
ATTACH;FMTTYPE=image/jpeg:https://www.centrostudilivatino.it/wp-content/uploads/2022/04/Programma_Casini-Testimone-di-Misericordia-.jpg
END:VEVENT
BEGIN:VEVENT
DTSTART;TZID=UTC:20220429T193000
DTEND;TZID=UTC:20220429T203000
DTSTAMP:20260420T131709
CREATED:20220420T114732Z
LAST-MODIFIED:20220420T114732Z
UID:10519-1651260600-1651264200@www.centrostudilivatino.it
SUMMARY:Lecce (LE) - Eutanasia. Le ragioni del no
DESCRIPTION:
URL:https://www.centrostudilivatino.it/event/lecce-le-eutanasia-le-ragioni-del-no/
LOCATION:Parrocchia S. Giovanni Battista\, Via Novara\, Lecce\, Italia
ATTACH;FMTTYPE=image/webp:https://www.centrostudilivatino.it/wp-content/uploads/2022/04/Conferenza-eutanasia-Lecce.webp
END:VEVENT
BEGIN:VEVENT
DTSTART;TZID=UTC:20220423T173000
DTEND;TZID=UTC:20220423T190000
DTSTAMP:20260420T131709
CREATED:20220420T115114Z
LAST-MODIFIED:20220420T115114Z
UID:10523-1650735000-1650740400@www.centrostudilivatino.it
SUMMARY:PAOLA (CS) - Eutanasia. Le ragioni del no
DESCRIPTION:Sabato 23 aprile a Paola (CS) alle ore 17\,30 presso la Biblioteca Charitas del Santuario di San Francesco di Paola\, in occasione della giornata mondiale del libro e del diritto d’autore\, Domenico Airoma ed Antonio Mondelli\, dopo i saluti del M.R.P. Provinciale Francesco Maria Trebisonda\, presenteranno il volume Eutanasia. Le ragioni del no.
URL:https://www.centrostudilivatino.it/event/paola-cs-eutanasia-le-ragioni-del-no/
LOCATION:Biblioteca Charitas\, Santuario S. Francesco di Paola\, Paola (CS)\, Italia
ATTACH;FMTTYPE=image/webp:https://www.centrostudilivatino.it/wp-content/uploads/2022/04/Incontro-Paola.webp
END:VEVENT
BEGIN:VEVENT
DTSTART;TZID=UTC:20220406T090000
DTEND;TZID=UTC:20220406T120000
DTSTAMP:20260420T131709
CREATED:20220329T193134Z
LAST-MODIFIED:20220329T193134Z
UID:10425-1649235600-1649246400@www.centrostudilivatino.it
SUMMARY:Online  e Roma - Teologia e spiritualità di Dante
DESCRIPTION:
URL:https://www.centrostudilivatino.it/event/online-e-roma-teologia-e-spiritualita-di-dante/
LOCATION:Lumsa Università\, Via di Porta Castello 44\, Roma\, Italia
ATTACH;FMTTYPE=image/jpeg:https://www.centrostudilivatino.it/wp-content/uploads/2022/03/Teologia-e-spiritualità-di-Dante.jpg
END:VEVENT
BEGIN:VEVENT
DTSTART;TZID=UTC:20220401T173000
DTEND;TZID=UTC:20220401T190000
DTSTAMP:20260420T131709
CREATED:20220318T143248Z
LAST-MODIFIED:20220318T143248Z
UID:10378-1648834200-1648839600@www.centrostudilivatino.it
SUMMARY:Online - Eutanasia\, le ragioni del no
DESCRIPTION:
URL:https://www.centrostudilivatino.it/event/online-eutanasia-le-ragioni-del-no-3/
LOCATION:Online
ATTACH;FMTTYPE=image/jpeg:https://www.centrostudilivatino.it/wp-content/uploads/2022/03/No-alleutanasia.jpg
END:VEVENT
BEGIN:VEVENT
DTSTART;TZID=UTC:20220311T080000
DTEND;TZID=UTC:20220311T170000
DTSTAMP:20260420T131709
CREATED:20220121T181520Z
LAST-MODIFIED:20220420T115715Z
UID:10103-1646985600-1647018000@www.centrostudilivatino.it
SUMMARY:CORSO DI PERFEZIONAMENTO IN SESSUALITÀ\, FERTILITÀ\, AMBIENTE E STILI DI VITA
DESCRIPTION:Università Cattolica del Sacro Cuore Facoltà di Medicina e Chirurgia \nCORSO DI PERFEZIONAMENTO IN SESSUALITÀ\, FERTILITÀ\, AMBIENTE E STILI DI VITA \nII edizione – anno accademico 2021/2022 \n➢ Offrire conoscenze sulle condizioni e cause\, che possono danneggiare la fertilità femminile e maschile. ➢ Fornire strumenti per disegnare e realizzare interventi di riduzione del rischio per la fertilità e la salute preconcezionale attraverso il miglioramento degli stili di vita e la cura dell’ambiente di vita e di lavoro. \n➢ Sensibilizzare alla consulenza preconcezionale.\n➢ Progettare interventi culturali e socioeconomici per ridurre il tasso di denatalità in Italia. \nQuesti gli obiettivi principali del Corso di Perfezionamento in Sessualità\, fertilità\, ambiente e stili di vita promosso dal Centro di Ricerca e Studi sulla Salute Procreativa dell’Università Cattolica del Sacro Cuore. \nIl corso\, erogato in modalità online\, è organizzato in quattro moduli: \n➢ 11-12 marzo 2022 \n➢ 22-23 aprile 2022 ➢ 13-14 maggio 2022 ➢ 15-16 luglio 2022 \nPartendo dal concetto di “salute preconcezionale” nell’ottica di sanità pubblica\, se ne analizzeranno – nel I modulo – i determinanti (alimentazione\, attività fisica\, inquinanti nell’ambiente di vita e lavoro\, esposizione a farmaci e radiazioni\, comportamenti di consumo\, stato vaccinale\, attività fisica)\, le conoscenze e i comportamenti. \nIl II modulo è dedicato alle patologie maschile e femminile che possono ridurre la fertilità\, con un focus anche sulla preservazione della fertilità femminile in caso di patologia oncologica.\nIl III e il IV modulo prenderanno in esame la proposta della consulenza preconcezionale\, la fertilità tra pandemia Covid19 e vaccini\, la conoscenza della fertilità femminile\, gli aspetti antropologici\, etici\, pedagogici e sociali\, con una particolare attenzione agli aspetti della comunicazione di massa e alle ricadute delle politiche demografiche\, economiche e del Welfare State sulla natalità. \nIl Corso è rivolto a medici\, psicologi\, pedagogisti\, ostetriche\, infermieri\, insegnanti\, e a quanti sono impegnati in contesti di promozione della salute\, prevenzione ed educazione. \nPer maggiori informazioni e iscrizione entro il 14 febbraio 2022\, cliccare su: \nhttps://formazionecontinua.unicatt.it/formazione-sessualita-fertilita-ambiente-e-stili-di-vita- s121rm1049123-01 \no scrivere a: \ncentro.saluteprocreativa@unicatt.it \n\nScarica il programma
URL:https://www.centrostudilivatino.it/event/corso-di-perfezionamento-in-sessualita-fertilita-ambiente-e-stili-di-vita/
LOCATION:Università Cattolica del Sacro Cuore
END:VEVENT
BEGIN:VEVENT
DTSTART;TZID=UTC:20220309T143000
DTEND;TZID=UTC:20220309T183000
DTSTAMP:20260420T131709
CREATED:20220307T094215Z
LAST-MODIFIED:20220307T094302Z
UID:10319-1646836200-1646850600@www.centrostudilivatino.it
SUMMARY:Roma (RM) - Pubblica agenda sussidiaria e condivisa
DESCRIPTION:
URL:https://www.centrostudilivatino.it/event/roma-rm-pubblica-agenda-sussidiaria-e-condivisa/
LOCATION:Pontificia Università San Tommaso D’Aquino – Angelicum\, Largo Angelicum 1\, Roma\, Italia
ATTACH;FMTTYPE=image/jpeg:https://www.centrostudilivatino.it/wp-content/uploads/2022/03/Pubblica-Agenda-sussidiaria-e-condivisa.jpg
END:VEVENT
BEGIN:VEVENT
DTSTART;TZID=UTC:20220218T210000
DTEND;TZID=UTC:20220218T230000
DTSTAMP:20260420T131709
CREATED:20220215T202700Z
LAST-MODIFIED:20220215T202700Z
UID:10237-1645218000-1645225200@www.centrostudilivatino.it
SUMMARY:Online - In vece del popolo italiano
DESCRIPTION:
URL:https://www.centrostudilivatino.it/event/online-in-vece-del-popolo-italiano/
LOCATION:Online
ATTACH;FMTTYPE=image/png:https://www.centrostudilivatino.it/wp-content/uploads/2022/02/In-vece-del-popolo-italiano.png
END:VEVENT
BEGIN:VEVENT
DTSTART;TZID=UTC:20220217T211500
DTEND;TZID=UTC:20220217T223000
DTSTAMP:20260420T131709
CREATED:20220215T202033Z
LAST-MODIFIED:20220215T202033Z
UID:10232-1645132500-1645137000@www.centrostudilivatino.it
SUMMARY:Milano (MI) - Quale libertà vale più della vita?
DESCRIPTION:
URL:https://www.centrostudilivatino.it/event/milano-mi-quale-liberta-vale-piu-della-vita/
LOCATION:Parrocchia S. Ignazio di Loyola\, Piazza Borotti 5\, Milano\, Italia
ATTACH;FMTTYPE=image/jpeg:https://www.centrostudilivatino.it/wp-content/uploads/2022/02/Quale-libertà-vale-più-della-vita.jpeg
END:VEVENT
BEGIN:VEVENT
DTSTART;TZID=UTC:20220209T103000
DTEND;TZID=UTC:20220209T123000
DTSTAMP:20260420T131709
CREATED:20220127T092226Z
LAST-MODIFIED:20220127T092226Z
UID:10123-1644402600-1644409800@www.centrostudilivatino.it
SUMMARY:Online: Eutanasia: vite da scartare?
DESCRIPTION:Online con iscrizione al link noeutanasialegale.it/evento
URL:https://www.centrostudilivatino.it/event/online-eutanasia-vite-da-scartare/
LOCATION:Online
ATTACH;FMTTYPE=image/jpeg:https://www.centrostudilivatino.it/wp-content/uploads/2022/01/Eutanasia-vite-da-scartare.jpeg
END:VEVENT
BEGIN:VEVENT
DTSTART;TZID=UTC:20220131T210000
DTEND;TZID=UTC:20220131T223000
DTSTAMP:20260420T131709
CREATED:20220127T100323Z
LAST-MODIFIED:20220127T100544Z
UID:10128-1643662800-1643668200@www.centrostudilivatino.it
SUMMARY:Milano (MI) - L'eutanasia non è la soluzione
DESCRIPTION:L’evento sarà fruibile in presenza con green pass e mascherina ffp2\, prenotazione obbligatoria milano@alleanzacattolica.org\, oppure online su YouTube: https://www.youtube.com/c/AlleanzaCattolicaCristianità
URL:https://www.centrostudilivatino.it/event/milano-mi-leutanasia-non-e-la-soluzione/
LOCATION:Teatro Rosetum\, Via Pisanello 1\, MIlano\, 20146\, Italia
ATTACH;FMTTYPE=image/jpeg:https://www.centrostudilivatino.it/wp-content/uploads/2022/01/Leutanasia-non-è-la-soluzione.jpeg
END:VEVENT
BEGIN:VEVENT
DTSTART;TZID=UTC:20220126T183000
DTEND;TZID=UTC:20220126T193000
DTSTAMP:20260420T131710
CREATED:20220118T112532Z
LAST-MODIFIED:20220118T112608Z
UID:10082-1643221800-1643225400@www.centrostudilivatino.it
SUMMARY:Online - Eutanasia. Le ragioni del no
DESCRIPTION:Online su Facebook  https://www.facebook.com/osservatoriobioetica e YouTube https://www.youtube.com/channel/UCzOO_1sAf4tKGXpW70wmw5A
URL:https://www.centrostudilivatino.it/event/online-eutanasia-le-ragioni-del-no-2/
LOCATION:Online
ATTACH;FMTTYPE=image/jpeg:https://www.centrostudilivatino.it/wp-content/uploads/2022/01/Eutanasia-le-ragioni-del-no-presentazione.jpeg
END:VEVENT
BEGIN:VEVENT
DTSTART;TZID=UTC:20220117T210000
DTEND;TZID=UTC:20220117T220000
DTSTAMP:20260420T131710
CREATED:20220114T192337Z
LAST-MODIFIED:20220114T192337Z
UID:10065-1642453200-1642456800@www.centrostudilivatino.it
SUMMARY:Online - No all'eutanasia\, sì alla cura e all'accompagnamento
DESCRIPTION:
URL:https://www.centrostudilivatino.it/event/online-no-alleutanasia-si-alla-cura-e-allaccompagnamento/
LOCATION:Online
ATTACH;FMTTYPE=image/jpeg:https://www.centrostudilivatino.it/wp-content/uploads/2022/01/No-alleutanasia-17.01.22.jpg
END:VEVENT
BEGIN:VEVENT
DTSTART;TZID=UTC:20220117T190000
DTEND;TZID=UTC:20220117T200000
DTSTAMP:20260420T131710
CREATED:20220112T141201Z
LAST-MODIFIED:20220112T141201Z
UID:10050-1642446000-1642449600@www.centrostudilivatino.it
SUMMARY:Online - Eutanasia: le ragioni del NO
DESCRIPTION:
URL:https://www.centrostudilivatino.it/event/online-eutanasia-le-ragioni-del-no/
LOCATION:Online
ATTACH;FMTTYPE=image/jpeg:https://www.centrostudilivatino.it/wp-content/uploads/2022/01/Eutanasia-le-ragioni-del-NO.jpg
END:VEVENT
BEGIN:VEVENT
DTSTART;TZID=UTC:20220117T103000
DTEND;TZID=UTC:20220117T113000
DTSTAMP:20260420T131710
CREATED:20220112T140323Z
LAST-MODIFIED:20220112T140323Z
UID:10043-1642415400-1642419000@www.centrostudilivatino.it
SUMMARY:Radio - La gnosi al potere. Denatalità ed eutanasia
DESCRIPTION:
URL:https://www.centrostudilivatino.it/event/radio-la-gnosi-al-potere-denatalita-ed-eutanasia/
ATTACH;FMTTYPE=image/jpeg:https://www.centrostudilivatino.it/wp-content/uploads/2022/01/La-gnosi-al-potere_locandina.jpeg
END:VEVENT
BEGIN:VEVENT
DTSTART;TZID=UTC:20220115T100000
DTEND;TZID=UTC:20220115T110000
DTSTAMP:20260420T131710
CREATED:20220110T130711Z
LAST-MODIFIED:20220110T130711Z
UID:10032-1642240800-1642244400@www.centrostudilivatino.it
SUMMARY:Online - Eutanasia e suicidio assistito: tra utopia e realtà
DESCRIPTION:
URL:https://www.centrostudilivatino.it/event/online-eutanasia-e-suicidio-assistito-tra-utopia-e-realta/
LOCATION:Online
ATTACH;FMTTYPE=image/jpeg:https://www.centrostudilivatino.it/wp-content/uploads/2022/01/Eutanasia-e-suicidio-assistito.jpeg
END:VEVENT
BEGIN:VEVENT
DTSTART;TZID=UTC:20211215T210000
DTEND;TZID=UTC:20211215T223000
DTSTAMP:20260420T131710
CREATED:20211122T202203Z
LAST-MODIFIED:20211122T202203Z
UID:9894-1639602000-1639607400@www.centrostudilivatino.it
SUMMARY:Roma (RM) - Quando la vita è disponibile
DESCRIPTION:
URL:https://www.centrostudilivatino.it/event/roma-rm-quando-la-vita-e-disponibile/
LOCATION:Alleanza Cattolica – Roma\, Viale Parioli 40\, Roma\, Italia
ATTACH;FMTTYPE=image/jpeg:https://www.centrostudilivatino.it/wp-content/uploads/2021/11/Eutanasia-2021.jpg
END:VEVENT
BEGIN:VEVENT
DTSTART;TZID=UTC:20211210T180000
DTEND;TZID=UTC:20211210T193000
DTSTAMP:20260420T131710
CREATED:20211203T180300Z
LAST-MODIFIED:20211203T180401Z
UID:9937-1639159200-1639164600@www.centrostudilivatino.it
SUMMARY:Roma (RM) - Legge omofobia perché non va - presentazione libro
DESCRIPTION:Nell’ambito di Atreju- il Natale dei conservatori 6-12 dicembre  2021 \nRoma- piazza Risorgimento \nVenerdì 10 alle ore 18.00 \nPresentazione del libro “Legge omofobia perché non va” a cura di Alfredo Mantovano \nPartecipano: Alfredo Mantovano (magistrato\, vicepresidente del Centro Studi Livatino)\, Marina Terragni (giornalista)\, Mauro Coruzzi (in arte Platinette\, giornalista e conduttore radiofonico)\, Tommaso Cerno (senatore Pd) \nIntroduce: Isabella Rauti (senatrice\, responsabile Pari Opportunità\, Famiglia e valori non negoziabili FdI) \nModera: Emanuele Boffi (direttore Tempi)
URL:https://www.centrostudilivatino.it/event/roma-rm-legge-omofobia-perche-non-va-presentazione-libro/
LOCATION:Piazza Risorgimento – Roma\, Piazza Risorgimento\, Roma\, RM\, Italia
ATTACH;FMTTYPE=image/png:https://www.centrostudilivatino.it/wp-content/uploads/2021/12/Atreju.png
END:VEVENT
BEGIN:VEVENT
DTSTART;TZID=UTC:20211206T170000
DTEND;TZID=UTC:20211206T183000
DTSTAMP:20260420T131710
CREATED:20211203T181141Z
LAST-MODIFIED:20211203T181141Z
UID:9942-1638810000-1638815400@www.centrostudilivatino.it
SUMMARY:Campi Salentina (LE) - In vece del popolo italiano
DESCRIPTION:
URL:https://www.centrostudilivatino.it/event/campi-salentina-le-in-vece-del-popolo-italiano/
LOCATION:Calasanzio Cultura e formazione\, Via Cavour 7\, Campi Salentina\, Lecce\, Italia
ATTACH;FMTTYPE=image/png:https://www.centrostudilivatino.it/wp-content/uploads/2021/12/In-vece-del-popolo-italiano-.png
END:VEVENT
BEGIN:VEVENT
DTSTART;TZID=UTC:20211204T103000
DTEND;TZID=UTC:20211204T120000
DTSTAMP:20260420T131710
CREATED:20211122T090303Z
LAST-MODIFIED:20211122T090303Z
UID:9884-1638613800-1638619200@www.centrostudilivatino.it
SUMMARY:Matera (MT) - Rosario Livatino. La toga e il martirio
DESCRIPTION:
URL:https://www.centrostudilivatino.it/event/matera-mt-rosario-livatino-la-toga-e-il-martirio/
LOCATION:Hotel del Campo\, Via Lucrezio\, Matera\, MT\, 388844\, Italia
ATTACH;FMTTYPE=image/jpeg:https://www.centrostudilivatino.it/wp-content/uploads/2021/11/Rosario-Livatino.-La-toga-e-il-martirio.jpeg
END:VEVENT
BEGIN:VEVENT
DTSTART;TZID=UTC:20211201T210000
DTEND;TZID=UTC:20211201T223000
DTSTAMP:20260420T131710
CREATED:20211104T111442Z
LAST-MODIFIED:20211104T111442Z
UID:9838-1638392400-1638397800@www.centrostudilivatino.it
SUMMARY:Online - Transizione: ecologica o ideologica?
DESCRIPTION:Incontro riservato agli under 35. \nL’incontro si terrà online sulla piattaforma Teams. Per link o info scrivere a info@centrostudilivatino.it.
URL:https://www.centrostudilivatino.it/event/online-transizione-ecologica-o-ideologica/
LOCATION:Online
ATTACH;FMTTYPE=image/jpeg:https://www.centrostudilivatino.it/wp-content/uploads/2021/11/Transizione-ecologica-o-ideologica.jpg
END:VEVENT
BEGIN:VEVENT
DTSTART;TZID=UTC:20211130T180000
DTEND;TZID=UTC:20211130T193000
DTSTAMP:20260420T131710
CREATED:20211119T102414Z
LAST-MODIFIED:20211119T102602Z
UID:9875-1638295200-1638300600@www.centrostudilivatino.it
SUMMARY:Roma (RM) - Un giudice come Dio comanda
DESCRIPTION:Sarà possibile seguire l’evento sulla pagina Facebook di OVer Edizioni: https://www.facebook.com/OVer-Edizioni-100229805038413
URL:https://www.centrostudilivatino.it/event/roma-rm-un-giudice-come-dio-comanda/
LOCATION:Via Antonio Gramsci 36\, Via Antonio Gramsci 36\, Roma\, Italia
ATTACH;FMTTYPE=image/jpeg:https://www.centrostudilivatino.it/wp-content/uploads/2021/11/Un-giudice-come-dio-comanda.jpg
END:VEVENT
BEGIN:VEVENT
DTSTART;TZID=UTC:20211129T173000
DTEND;TZID=UTC:20211129T190000
DTSTAMP:20260420T131710
CREATED:20211125T081400Z
LAST-MODIFIED:20211125T081400Z
UID:9916-1638207000-1638212400@www.centrostudilivatino.it
SUMMARY:Roma (RM) - Un giudice come Dio comanda. Rosario Livatino\, la toga e il martirio
DESCRIPTION:
URL:https://www.centrostudilivatino.it/event/roma-rm-un-giudice-come-dio-comanda-rosario-livatino-la-toga-e-il-martirio/
LOCATION:Fondazione Luigi Einaudi\, Via della Conciliazione 10\, Roma\, RM\, Italia
ATTACH;FMTTYPE=image/jpeg:https://www.centrostudilivatino.it/wp-content/uploads/2021/11/un-giudice-come-Dio-comanda.jpeg
END:VEVENT
BEGIN:VEVENT
DTSTART;VALUE=DATE:20211129
DTEND;VALUE=DATE:20211204
DTSTAMP:20260420T131710
CREATED:20211122T201301Z
LAST-MODIFIED:20211122T201301Z
UID:9888-1638144000-1638575999@www.centrostudilivatino.it
SUMMARY:Roma (RM) - Settimana della legalità
DESCRIPTION:
URL:https://www.centrostudilivatino.it/event/roma-rm-settimana-della-legalita/
LOCATION:Liceo scientifico e linguistico Ettore Majorana\, Via C. Avolio 111\, Roma\, RM\, 00128\, Italia
ATTACH;FMTTYPE=image/jpeg:https://www.centrostudilivatino.it/wp-content/uploads/2021/11/Settimana-della-legalità.jpg
END:VEVENT
BEGIN:VEVENT
DTSTART;TZID=UTC:20211106T083000
DTEND;TZID=UTC:20211106T130000
DTSTAMP:20260420T131710
CREATED:20211022T140259Z
LAST-MODIFIED:20211022T140259Z
UID:9787-1636187400-1636203600@www.centrostudilivatino.it
SUMMARY:Cantù (CO) - Lo sballo sballa
DESCRIPTION:
URL:https://www.centrostudilivatino.it/event/cantu-co-lo-sballo-sballa/
LOCATION:Teatro San Teodoro\, Via Eugenio Corbetta 7\, Cantù\, CO\, Italia
ATTACH;FMTTYPE=image/jpeg:https://www.centrostudilivatino.it/wp-content/uploads/2021/10/lo-sballo-sballa_locandina.jpg
END:VEVENT
BEGIN:VEVENT
DTSTART;TZID=UTC:20211029T190000
DTEND;TZID=UTC:20211029T200000
DTSTAMP:20260420T131710
CREATED:20211008T093359Z
LAST-MODIFIED:20211008T093359Z
UID:9726-1635534000-1635537600@www.centrostudilivatino.it
SUMMARY:Manfredonia (FG) - Rosario Livatino\, la toga e il martirio. Un giudice come Dio comanda
DESCRIPTION:
URL:https://www.centrostudilivatino.it/event/manfredonia-fg-rosario-livatino-la-toga-e-il-martirio-un-giudice-come-dio-comanda/
LOCATION:Chiesa S. Benedetto\, Manfredonia\, FG\, 71040\, Italia
ATTACH;FMTTYPE=image/jpeg:https://www.centrostudilivatino.it/wp-content/uploads/2021/10/Rosario-Livatino-la-toga-e-il-martirio.jpeg
END:VEVENT
BEGIN:VEVENT
DTSTART;TZID=UTC:20211022T210000
DTEND;TZID=UTC:20211022T223000
DTSTAMP:20260420T131710
CREATED:20211008T094814Z
LAST-MODIFIED:20211008T094814Z
UID:9734-1634936400-1634941800@www.centrostudilivatino.it
SUMMARY:Monza (MB) - In vece del popolo italiano
DESCRIPTION:
URL:https://www.centrostudilivatino.it/event/monza-mb-in-vece-del-popolo-italiano/
LOCATION:Istituto Leone Dehon\, Via Andrea Apppiani 1\, Monza
ATTACH;FMTTYPE=image/jpeg:https://www.centrostudilivatino.it/wp-content/uploads/2021/10/In-vece-del-popolo-italiano.jpg
END:VEVENT
BEGIN:VEVENT
DTSTART;TZID=UTC:20211022T173000
DTEND;TZID=UTC:20211022T190000
DTSTAMP:20260420T131710
CREATED:20211003T184245Z
LAST-MODIFIED:20211003T184304Z
UID:9705-1634923800-1634929200@www.centrostudilivatino.it
SUMMARY:Civitavecchia (RM) - Il giudice beato: Rosario Livatino testimone di fede e di diritto
DESCRIPTION:
URL:https://www.centrostudilivatino.it/event/civitavecchia-rm-il-giudice-beato-rosario-livatino-testimone-di-fede-e-di-diritto/
LOCATION:Teatro salesiano “Buonarroti”\, Via Buonarroti 13/b\, Civitavecchia\, Italia
ATTACH;FMTTYPE=image/jpeg:https://www.centrostudilivatino.it/wp-content/uploads/2021/10/Il-giudice-Rosario-Livatino-29-SETTEMBRE-scaled.jpg
END:VEVENT
END:VCALENDAR