BEGIN:VCALENDAR
VERSION:2.0
PRODID:-//Centro Studi Rosario Livatino - ECPv6.15.20//NONSGML v1.0//EN
CALSCALE:GREGORIAN
METHOD:PUBLISH
X-WR-CALNAME:Centro Studi Rosario Livatino
X-ORIGINAL-URL:https://www.centrostudilivatino.it
X-WR-CALDESC:Eventi per Centro Studi Rosario Livatino
REFRESH-INTERVAL;VALUE=DURATION:PT1H
X-Robots-Tag:noindex
X-PUBLISHED-TTL:PT1H
BEGIN:VTIMEZONE
TZID:UTC
BEGIN:STANDARD
TZOFFSETFROM:+0000
TZOFFSETTO:+0000
TZNAME:UTC
DTSTART:20200101T000000
END:STANDARD
END:VTIMEZONE
BEGIN:VEVENT
DTSTART;VALUE=DATE:20211129
DTEND;VALUE=DATE:20211204
DTSTAMP:20260420T205256
CREATED:20211122T201301Z
LAST-MODIFIED:20211122T201301Z
UID:9888-1638144000-1638575999@www.centrostudilivatino.it
SUMMARY:Roma (RM) - Settimana della legalità
DESCRIPTION:
URL:https://www.centrostudilivatino.it/event/roma-rm-settimana-della-legalita/
LOCATION:Liceo scientifico e linguistico Ettore Majorana\, Via C. Avolio 111\, Roma\, RM\, 00128\, Italia
ATTACH;FMTTYPE=image/jpeg:https://www.centrostudilivatino.it/wp-content/uploads/2021/11/Settimana-della-legalità.jpg
END:VEVENT
BEGIN:VEVENT
DTSTART;TZID=UTC:20211106T083000
DTEND;TZID=UTC:20211106T130000
DTSTAMP:20260420T205256
CREATED:20211022T140259Z
LAST-MODIFIED:20211022T140259Z
UID:9787-1636187400-1636203600@www.centrostudilivatino.it
SUMMARY:Cantù (CO) - Lo sballo sballa
DESCRIPTION:
URL:https://www.centrostudilivatino.it/event/cantu-co-lo-sballo-sballa/
LOCATION:Teatro San Teodoro\, Via Eugenio Corbetta 7\, Cantù\, CO\, Italia
ATTACH;FMTTYPE=image/jpeg:https://www.centrostudilivatino.it/wp-content/uploads/2021/10/lo-sballo-sballa_locandina.jpg
END:VEVENT
BEGIN:VEVENT
DTSTART;TZID=UTC:20211029T190000
DTEND;TZID=UTC:20211029T200000
DTSTAMP:20260420T205256
CREATED:20211008T093359Z
LAST-MODIFIED:20211008T093359Z
UID:9726-1635534000-1635537600@www.centrostudilivatino.it
SUMMARY:Manfredonia (FG) - Rosario Livatino\, la toga e il martirio. Un giudice come Dio comanda
DESCRIPTION:
URL:https://www.centrostudilivatino.it/event/manfredonia-fg-rosario-livatino-la-toga-e-il-martirio-un-giudice-come-dio-comanda/
LOCATION:Chiesa S. Benedetto\, Manfredonia\, FG\, 71040\, Italia
ATTACH;FMTTYPE=image/jpeg:https://www.centrostudilivatino.it/wp-content/uploads/2021/10/Rosario-Livatino-la-toga-e-il-martirio.jpeg
END:VEVENT
BEGIN:VEVENT
DTSTART;TZID=UTC:20211022T210000
DTEND;TZID=UTC:20211022T223000
DTSTAMP:20260420T205256
CREATED:20211008T094814Z
LAST-MODIFIED:20211008T094814Z
UID:9734-1634936400-1634941800@www.centrostudilivatino.it
SUMMARY:Monza (MB) - In vece del popolo italiano
DESCRIPTION:
URL:https://www.centrostudilivatino.it/event/monza-mb-in-vece-del-popolo-italiano/
LOCATION:Istituto Leone Dehon\, Via Andrea Apppiani 1\, Monza
ATTACH;FMTTYPE=image/jpeg:https://www.centrostudilivatino.it/wp-content/uploads/2021/10/In-vece-del-popolo-italiano.jpg
END:VEVENT
BEGIN:VEVENT
DTSTART;TZID=UTC:20211022T173000
DTEND;TZID=UTC:20211022T190000
DTSTAMP:20260420T205256
CREATED:20211003T184245Z
LAST-MODIFIED:20211003T184304Z
UID:9705-1634923800-1634929200@www.centrostudilivatino.it
SUMMARY:Civitavecchia (RM) - Il giudice beato: Rosario Livatino testimone di fede e di diritto
DESCRIPTION:
URL:https://www.centrostudilivatino.it/event/civitavecchia-rm-il-giudice-beato-rosario-livatino-testimone-di-fede-e-di-diritto/
LOCATION:Teatro salesiano “Buonarroti”\, Via Buonarroti 13/b\, Civitavecchia\, Italia
ATTACH;FMTTYPE=image/jpeg:https://www.centrostudilivatino.it/wp-content/uploads/2021/10/Il-giudice-Rosario-Livatino-29-SETTEMBRE-scaled.jpg
END:VEVENT
BEGIN:VEVENT
DTSTART;TZID=UTC:20211016T193000
DTEND;TZID=UTC:20211016T203000
DTSTAMP:20260420T205256
CREATED:20211008T094121Z
LAST-MODIFIED:20211008T094121Z
UID:9730-1634412600-1634416200@www.centrostudilivatino.it
SUMMARY:Collepasso (LE) - Un giudice come Dio comanda
DESCRIPTION:
URL:https://www.centrostudilivatino.it/event/collepasso-le-un-giudice-come-dio-comanda/
LOCATION:Auditorium scuola primaria\, Via Puccini\, Collepasso\, LE\, Italia
ATTACH;FMTTYPE=image/jpeg:https://www.centrostudilivatino.it/wp-content/uploads/2021/10/Un-giudice-come-Dio-comanda.jpeg
END:VEVENT
BEGIN:VEVENT
DTSTART;TZID=UTC:20211015T190000
DTEND;TZID=UTC:20211015T200000
DTSTAMP:20260420T205256
CREATED:20211008T092632Z
LAST-MODIFIED:20211008T092703Z
UID:9722-1634324400-1634328000@www.centrostudilivatino.it
SUMMARY:Potenza (PZ) - Rosario Livatino. La toga e il martirio
DESCRIPTION:
URL:https://www.centrostudilivatino.it/event/potenza-pz-rosario-livatino-la-toga-e-il-martirio/
LOCATION:Cattedrale di Potenza\, Largo Duomo\, 1\, Potenza\, PZ\, 85100\, Italia
ATTACH;FMTTYPE=image/jpeg:https://www.centrostudilivatino.it/wp-content/uploads/2021/10/Rosario-Livatino.-La-toga-e-il-martirio.jpeg
END:VEVENT
BEGIN:VEVENT
DTSTART;TZID=UTC:20211014T140000
DTEND;TZID=UTC:20211014T170000
DTSTAMP:20260420T205256
CREATED:20210909T133228Z
LAST-MODIFIED:20211008T091521Z
UID:9615-1634220000-1634230800@www.centrostudilivatino.it
SUMMARY:Online - Riforma della giustizia: un approccio critico
DESCRIPTION:
URL:https://www.centrostudilivatino.it/event/online-riforma-della-giustizia-un-approccio-critico/
LOCATION:Online
ATTACH;FMTTYPE=image/jpeg:https://www.centrostudilivatino.it/wp-content/uploads/2021/09/2021.10.14_RIFORMA-DELLA-GIUSTIZIA.-UN-APPROCCIO-CRITICO.jpg
END:VEVENT
BEGIN:VEVENT
DTSTART;TZID=UTC:20210925T090000
DTEND;TZID=UTC:20210926T123000
DTSTAMP:20260420T205256
CREATED:20210914T103310Z
LAST-MODIFIED:20210914T103441Z
UID:9631-1632560400-1632659400@www.centrostudilivatino.it
SUMMARY:Scuola di bioetica
DESCRIPTION:Vedi il programma completo
URL:https://www.centrostudilivatino.it/event/scuola-di-bioetica-2/
LOCATION:MT
ATTACH;FMTTYPE=image/jpeg:https://www.centrostudilivatino.it/wp-content/uploads/2021/09/Programma_Scuola_Bioetica_2021.jpg
ORGANIZER;CN="Pro Vita e Famiglia":MAILTO:info@provitaefamiglia.it
END:VEVENT
BEGIN:VEVENT
DTSTART;TZID=UTC:20210821T210000
DTEND;TZID=UTC:20210821T223000
DTSTAMP:20260420T205256
CREATED:20210731T072655Z
LAST-MODIFIED:20210731T072655Z
UID:9534-1629579600-1629585000@www.centrostudilivatino.it
SUMMARY:Lecce (LE) - Il giudice Rosario Livatino
DESCRIPTION:
URL:https://www.centrostudilivatino.it/event/lecce-le-il-giudice-rosario-livatino/
LOCATION:Chiostro ex convento dei teatini\, Via Vittorio Emanuele II\, 34\, Lecce\, 73100\, Italia
ATTACH;FMTTYPE=image/jpeg:https://www.centrostudilivatino.it/wp-content/uploads/2021/07/Il-giudice-Rosario-Livatino.jpeg
END:VEVENT
BEGIN:VEVENT
DTSTART;TZID=UTC:20210819T193000
DTEND;TZID=UTC:20210819T210000
DTSTAMP:20260420T205256
CREATED:20210731T070726Z
LAST-MODIFIED:20210731T070726Z
UID:9527-1629401400-1629406800@www.centrostudilivatino.it
SUMMARY:Nardò (LE) - Giudice beato Rosario Livatino
DESCRIPTION:
URL:https://www.centrostudilivatino.it/event/nardo-le-giudice-beato-rosario-livatino/
LOCATION:Parrocchia Santa Caterina d’Alessandria\, Via Pietro Micca\, 48\, Nardò\, 73050\, Italia
ATTACH;FMTTYPE=image/jpeg:https://www.centrostudilivatino.it/wp-content/uploads/2021/07/Giudice-beato-Rosario-Livatino.jpeg
END:VEVENT
BEGIN:VEVENT
DTSTART;TZID=UTC:20210806T203000
DTEND;TZID=UTC:20210806T220000
DTSTAMP:20260420T205256
CREATED:20210731T070213Z
LAST-MODIFIED:20210731T070213Z
UID:9520-1628281800-1628287200@www.centrostudilivatino.it
SUMMARY:Marina di Ginosa  (TA) - Un giudice come Dio comanda
DESCRIPTION:
URL:https://www.centrostudilivatino.it/event/marina-di-ginosa-ta-un-giudice-come-dio-comanda/
LOCATION:Salone Parrochiale Marina di Ginosa\, Parrocchia Maria SS. Immacolata\, Marina di Ginosa
ATTACH;FMTTYPE=image/jpeg:https://www.centrostudilivatino.it/wp-content/uploads/2021/07/un-giudice-come-Dio-comanda.jpeg
END:VEVENT
BEGIN:VEVENT
DTSTART;TZID=UTC:20210802T210000
DTEND;TZID=UTC:20210802T223000
DTSTAMP:20260420T205256
CREATED:20210731T071412Z
LAST-MODIFIED:20210731T071412Z
UID:9531-1627938000-1627943400@www.centrostudilivatino.it
SUMMARY:Racale (LE) - Un giudice come Dio comanda
DESCRIPTION:
URL:https://www.centrostudilivatino.it/event/racale-le-un-giudice-come-dio-comanda/
LOCATION:Piazza San Sebastiano\, Piazza San Sebastiano\, Racale
ATTACH;FMTTYPE=image/jpeg:https://www.centrostudilivatino.it/wp-content/uploads/2021/07/Un-giudice-come-Dio-comanda_Racale.jpeg
END:VEVENT
BEGIN:VEVENT
DTSTART;TZID=UTC:20210719T080000
DTEND;TZID=UTC:20210719T170000
DTSTAMP:20260420T205256
CREATED:20210719T122246Z
LAST-MODIFIED:20210719T122246Z
UID:9490-1626681600-1626714000@www.centrostudilivatino.it
SUMMARY:Roma (RM) e Online - GIUSTIZIA - CARCERI Teatro e cinema come occasione di consapevolezza e riscatto Senato
DESCRIPTION:SU INIZIATIVA DELLA SENATRICE PAOLA BINETTI \nVenerdì\, 23 Luglio 2021 ore 10:00 \nGIUSTIZIA – CARCERI \nTeatro e cinema come occasione di consapevolezza e riscatto \nSenato – Sala Zuccari PALAZZO GIUSTINIANI \nvia della Dogana Vecchia 29\, Roma \n  \nMai come in questo momento il dibattito parlamentare è concentrato sul tema Giustizia\, non solo per riflettere sulla sua riforma\, ma anche per valutare il significato stesso della pena e garantire almeno un clima di umanità alle persone che sono in carcere. \nL’incontro in Senato di Venerdi 23 luglio si snoderà quindi su due direttive essenziali: \n\nla proiezione del Cortometraggio Stabat Mater\, realizzato con i detenuti della Casa circondariale di Pistoia\, che ha tra i suoi obiettivi quello di dar parola a chi è impossibilitato a far udire la propria voce».\nUn Panel in cui saranno affrontati alcuni aspetti salienti della Riforma della Giustizia attualmente in discussione in Parlamento\, cercando di valutarli nell’ottica delle persone attualmente detenute e nella prospettiva della non-recidiva\n\nPROGRAMMA \n9:30   Registrazione dei partecipanti \n10:00 Introduzione – Sen. Paola Binetti: “Non c’è giustizia senza umanità” \n10:15 Proiezione del Cortometraggio “Stabat Mater” – Giuseppe Tesi\, Regista \nInterviene: Don Dario Viganò \n11:30 Tavola rotonda: Alcune riflessioni sulla attuale Riforma della Giustizia: \nIntervengono: A. Mantovano\, R. Turrini Vita\, G. Caliendo\, B. Nicotra \n12:30 Conclusioni On. Paolo Sisto – Sottosegretario alla Giustizia \nI lavori del convegno saranno trasmessi in diretta streaming al link https://webtv.senato.it e sul canale YouTube del Senato Italiano https://www.youtube.com/user/SenatoItaliano\, salvo richiesta contraria dell’organizzatore.
URL:https://www.centrostudilivatino.it/event/roma-rm-e-online-giustizia-carceri-teatro-e-cinema-come-occasione-di-consapevolezza-e-riscatto-senato/
LOCATION:Senato – Sala Zuccari PALAZZO GIUSTINIANI\, via della Dogana Vecchia 29\, Roma
END:VEVENT
BEGIN:VEVENT
DTSTART;TZID=UTC:20210709T150000
DTEND;TZID=UTC:20210709T170000
DTSTAMP:20260420T205256
CREATED:20210705T161423Z
LAST-MODIFIED:20210705T161444Z
UID:9434-1625842800-1625850000@www.centrostudilivatino.it
SUMMARY:Online - Giuristi a confronto sul ddl Zan
DESCRIPTION:
URL:https://www.centrostudilivatino.it/event/online-giuristi-a-confronto-sul-ddl-zan/
LOCATION:Online
ATTACH;FMTTYPE=image/jpeg:https://www.centrostudilivatino.it/wp-content/uploads/2021/07/Locandina-ddl-Zan-bozza.jpg
END:VEVENT
BEGIN:VEVENT
DTSTART;TZID=UTC:20210705T150000
DTEND;TZID=UTC:20210705T170000
DTSTAMP:20260420T205256
CREATED:20210704T175408Z
LAST-MODIFIED:20210704T175408Z
UID:9431-1625497200-1625504400@www.centrostudilivatino.it
SUMMARY:Online - Il crocifisso in aula. Identità e valori
DESCRIPTION:
URL:https://www.centrostudilivatino.it/event/online-il-crocifisso-in-aula-identita-e-valori/
LOCATION:Online
ATTACH;FMTTYPE=image/jpeg:https://www.centrostudilivatino.it/wp-content/uploads/2021/07/webinar-crocifisso-def-pdf.jpg
END:VEVENT
BEGIN:VEVENT
DTSTART;TZID=UTC:20210702T210000
DTEND;TZID=UTC:20210702T223000
DTSTAMP:20260420T205256
CREATED:20210628T082823Z
LAST-MODIFIED:20210628T082823Z
UID:9389-1625259600-1625265000@www.centrostudilivatino.it
SUMMARY:Marsala (TP) - Un bavaglio inaccettabile. La verità sul ddl Zan
DESCRIPTION:
URL:https://www.centrostudilivatino.it/event/marsala-tp-un-bavaglio-inaccettabile-la-verita-sul-ddl-zan/
LOCATION:Opera Santuario Signora di Fatima\, C.da Birgi Nivaloro 136\, Marsala\, TP\, 91025\, Italia
ATTACH;FMTTYPE=image/jpeg:https://www.centrostudilivatino.it/wp-content/uploads/2021/06/un-bavaglio-inaccettabile.jpeg
END:VEVENT
BEGIN:VEVENT
DTSTART;TZID=UTC:20210702T170000
DTEND;TZID=UTC:20210702T183000
DTSTAMP:20260420T205256
CREATED:20210628T083813Z
LAST-MODIFIED:20210628T083912Z
UID:9397-1625245200-1625250600@www.centrostudilivatino.it
SUMMARY:Alcamo (TP) - DDL Zan. Conoscere per giudicare
DESCRIPTION:
URL:https://www.centrostudilivatino.it/event/alcamo-tp-ddl-zan-conoscere-per-giudicare/
LOCATION:Parrocchia Gesù Cristo Redentore\, Via John Fitzgerald Kennedy\, 128/A\, Alcamo\, TP\, 91011\, Italia
ATTACH;FMTTYPE=image/jpeg:https://www.centrostudilivatino.it/wp-content/uploads/2021/06/ddl-zan-airoma.jpeg
END:VEVENT
BEGIN:VEVENT
DTSTART;TZID=UTC:20210702T150000
DTEND;TZID=UTC:20210702T170000
DTSTAMP:20260420T205256
CREATED:20210625T210946Z
LAST-MODIFIED:20210625T210946Z
UID:9376-1625238000-1625245200@www.centrostudilivatino.it
SUMMARY:Online – Vaccini anti Covid-19
DESCRIPTION:
URL:https://www.centrostudilivatino.it/event/online-vaccini-anti-covid-19/
LOCATION:MT
ATTACH;FMTTYPE=image/jpeg:https://www.centrostudilivatino.it/wp-content/uploads/2021/06/IVREA_Vaccini_2.7.2021.jpg
END:VEVENT
BEGIN:VEVENT
DTSTART;TZID=UTC:20210701T190000
DTEND;TZID=UTC:20210701T200000
DTSTAMP:20260420T205256
CREATED:20210628T083232Z
LAST-MODIFIED:20210628T083232Z
UID:9393-1625166000-1625169600@www.centrostudilivatino.it
SUMMARY:Canicattì (AG) - Un giudice come Dio comanda
DESCRIPTION:
URL:https://www.centrostudilivatino.it/event/canicatti-ag-un-giudice-come-dio-comanda/
LOCATION:Centro Culturale S. Domenico\, Piazza Dante\, Canicattì\, AG\, 92024
ATTACH;FMTTYPE=image/jpeg:https://www.centrostudilivatino.it/wp-content/uploads/2021/06/livatino.jpeg
END:VEVENT
BEGIN:VEVENT
DTSTART;TZID=UTC:20210701T130000
DTEND;TZID=UTC:20210701T170000
DTSTAMP:20260420T205256
CREATED:20210625T212043Z
LAST-MODIFIED:20210625T212043Z
UID:9379-1625144400-1625158800@www.centrostudilivatino.it
SUMMARY:Roma (RM) - Sì! Ma non così
DESCRIPTION:
URL:https://www.centrostudilivatino.it/event/roma-rm-si-ma-non-cosi/
LOCATION:Sala Caduti di Nassirya – Palazzo Madama (Senato)
ATTACH;FMTTYPE=image/jpeg:https://www.centrostudilivatino.it/wp-content/uploads/2021/06/Controlediscriminazioni-INVITO-1-7-H-13.jpg
END:VEVENT
BEGIN:VEVENT
DTSTART;TZID=UTC:20210630T150000
DTEND;TZID=UTC:20210630T170000
DTSTAMP:20260420T205256
CREATED:20210627T092124Z
LAST-MODIFIED:20210627T092124Z
UID:9383-1625065200-1625072400@www.centrostudilivatino.it
SUMMARY:Online - Verso un nuovo caso Lautsi? L'esposizione del crocifisso nelle aule scolastiche
DESCRIPTION:
URL:https://www.centrostudilivatino.it/event/online-verso-un-nuovo-caso-lautsi-lesposizione-del-crocifisso-nelle-aule-scolastiche/
LOCATION:Online
ATTACH;FMTTYPE=image/jpeg:https://www.centrostudilivatino.it/wp-content/uploads/2021/06/webinar-crocifisso.jpeg
END:VEVENT
BEGIN:VEVENT
DTSTART;TZID=UTC:20210629T174500
DTEND;TZID=UTC:20210629T183000
DTSTAMP:20260420T205256
CREATED:20210628T143824Z
LAST-MODIFIED:20210628T143824Z
UID:9408-1624988700-1624991400@www.centrostudilivatino.it
SUMMARY:Radio - A rischio la libertà educativa dei genitori e la libertà di insegnamento
DESCRIPTION:
URL:https://www.centrostudilivatino.it/event/radio-a-rischio-la-liberta-educativa-dei-genitori-e-la-liberta-di-insegnamento/
LOCATION:Radio Mater
ATTACH;FMTTYPE=image/jpeg:https://www.centrostudilivatino.it/wp-content/uploads/2021/06/a-richio-la-libertà-educativa-dei-genitori.jpeg
END:VEVENT
BEGIN:VEVENT
DTSTART;TZID=UTC:20210618T190000
DTEND;TZID=UTC:20210618T203000
DTSTAMP:20260420T205256
CREATED:20210614T090333Z
LAST-MODIFIED:20210614T090333Z
UID:9331-1624042800-1624048200@www.centrostudilivatino.it
SUMMARY:Andria (BT) - Conversazione con Alfredo Mantovano
DESCRIPTION:
URL:https://www.centrostudilivatino.it/event/andria-bt-conversazione-con-alfredo-mantovano/
LOCATION:Sala del Consiglio Comunale\, Piazza Umberto I\, Andria\, 76123\, Italia
ATTACH;FMTTYPE=image/jpeg:https://www.centrostudilivatino.it/wp-content/uploads/2021/06/Mantovano.jpeg
END:VEVENT
BEGIN:VEVENT
DTSTART;TZID=UTC:20210609T200000
DTEND;TZID=UTC:20210609T213000
DTSTAMP:20260420T205256
CREATED:20210603T115413Z
LAST-MODIFIED:20210603T115427Z
UID:9286-1623268800-1623274200@www.centrostudilivatino.it
SUMMARY:Roma - Rosario Livatino. Le tappe di un cammino di santità
DESCRIPTION:
URL:https://www.centrostudilivatino.it/event/roma-rosario-livatino-le-tappe-di-un-cammino-di-santita/
LOCATION:Parrocchia S. Pio X – Roma\, Via Attilio Friggeri 87\, Roma\, 00136\, Italia
ATTACH;FMTTYPE=image/jpeg:https://www.centrostudilivatino.it/wp-content/uploads/2021/06/Locandina-incontro-su-Rosario-Livatino.jpeg
END:VEVENT
BEGIN:VEVENT
DTSTART;TZID=UTC:20210608T210000
DTEND;TZID=UTC:20210608T220000
DTSTAMP:20260420T205256
CREATED:20210607T093704Z
LAST-MODIFIED:20210607T093704Z
UID:9296-1623186000-1623189600@www.centrostudilivatino.it
SUMMARY:Online - DDL Zan: perché non va?
DESCRIPTION:
URL:https://www.centrostudilivatino.it/event/online-ddl-zan-perche-non-va/
LOCATION:Online
ATTACH;FMTTYPE=image/png:https://www.centrostudilivatino.it/wp-content/uploads/2021/06/DDL-ZAN_perché-non-va.png
END:VEVENT
BEGIN:VEVENT
DTSTART;TZID=UTC:20210607T211500
DTEND;TZID=UTC:20210607T223000
DTSTAMP:20260420T205256
CREATED:20210602T070104Z
LAST-MODIFIED:20210602T070104Z
UID:9283-1623100500-1623105000@www.centrostudilivatino.it
SUMMARY:Online - DDL Zan. Conoscere per giudicare
DESCRIPTION:
URL:https://www.centrostudilivatino.it/event/online-ddl-zan-conoscere-per-giudicare/
LOCATION:Online
ATTACH;FMTTYPE=image/jpeg:https://www.centrostudilivatino.it/wp-content/uploads/2021/06/DDL-Zan.-Conoscere-per-giudicare.jpeg
END:VEVENT
BEGIN:VEVENT
DTSTART;TZID=UTC:20210531T211000
DTEND;TZID=UTC:20210531T223000
DTSTAMP:20260420T205256
CREATED:20210531T112109Z
LAST-MODIFIED:20210531T112109Z
UID:9270-1622495400-1622500200@www.centrostudilivatino.it
SUMMARY:Online - Legge omofobia\, perché non va
DESCRIPTION:
URL:https://www.centrostudilivatino.it/event/online-legge-omofobia-perche-non-va-2/
LOCATION:Radio Mater
ATTACH;FMTTYPE=image/jpeg:https://www.centrostudilivatino.it/wp-content/uploads/2021/05/legge-omofobia-perché-non-va_presentazione.jpeg
END:VEVENT
BEGIN:VEVENT
DTSTART;TZID=UTC:20210531T210000
DTEND;TZID=UTC:20210531T220000
DTSTAMP:20260420T205256
CREATED:20210531T110417Z
LAST-MODIFIED:20210531T110417Z
UID:9266-1622494800-1622498400@www.centrostudilivatino.it
SUMMARY:Online - Analisi e riflessioni sul DDL Zan
DESCRIPTION:
URL:https://www.centrostudilivatino.it/event/online-analisi-e-riflessioni-sul-ddl-zan/
LOCATION:Online
ATTACH;FMTTYPE=image/jpeg:https://www.centrostudilivatino.it/wp-content/uploads/2021/05/analisi-e-riflessioni-sul-ddl-zan.jpeg
END:VEVENT
BEGIN:VEVENT
DTSTART;TZID=UTC:20210526T210000
DTEND;TZID=UTC:20210526T220000
DTSTAMP:20260420T205256
CREATED:20210520T151117Z
LAST-MODIFIED:20210520T151117Z
UID:9225-1622062800-1622066400@www.centrostudilivatino.it
SUMMARY:Online - Under 35. Un giudice come Dio comanda
DESCRIPTION:
URL:https://www.centrostudilivatino.it/event/online-under-35-un-giudice-come-dio-comanda/
LOCATION:Online
ATTACH;FMTTYPE=image/jpeg:https://www.centrostudilivatino.it/wp-content/uploads/2021/05/Un-giudice-come-Dio-comanda.jpeg
END:VEVENT
END:VCALENDAR