BEGIN:VCALENDAR
VERSION:2.0
PRODID:-//Centro Studi Rosario Livatino - ECPv6.15.20//NONSGML v1.0//EN
CALSCALE:GREGORIAN
METHOD:PUBLISH
X-WR-CALNAME:Centro Studi Rosario Livatino
X-ORIGINAL-URL:https://www.centrostudilivatino.it
X-WR-CALDESC:Eventi per Centro Studi Rosario Livatino
REFRESH-INTERVAL;VALUE=DURATION:PT1H
X-Robots-Tag:noindex
X-PUBLISHED-TTL:PT1H
BEGIN:VTIMEZONE
TZID:UTC
BEGIN:STANDARD
TZOFFSETFROM:+0000
TZOFFSETTO:+0000
TZNAME:UTC
DTSTART:20190101T000000
END:STANDARD
END:VTIMEZONE
BEGIN:VEVENT
DTSTART;TZID=UTC:20210414T080000
DTEND;TZID=UTC:20210414T170000
DTSTAMP:20260421T100354
CREATED:20210414T125128Z
LAST-MODIFIED:20210414T125128Z
UID:9037-1618387200-1618419600@www.centrostudilivatino.it
SUMMARY:Online - Sempre meno\, sempre più a rischio: la condizione dei bambini in Italia
DESCRIPTION:Per informazioni: patrizia.delprincipe@unicatt.it
URL:https://www.centrostudilivatino.it/event/online-sempre-meno-sempre-piu-a-rischio-la-condizione-dei-bambini-in-italia/
LOCATION:Online
ATTACH;FMTTYPE=image/jpeg:https://www.centrostudilivatino.it/wp-content/uploads/2021/04/Webinar_-Sempre-meno-sempre-più-a-rischio_22-aprile-2021.jpg
END:VEVENT
BEGIN:VEVENT
DTSTART;TZID=UTC:20210409T170000
DTEND;TZID=UTC:20210409T190000
DTSTAMP:20260421T100354
CREATED:20210325T210017Z
LAST-MODIFIED:20210325T210240Z
UID:8961-1617987600-1617994800@www.centrostudilivatino.it
SUMMARY:Online - L. 194/1978\, RU 486\, EllaOne Verso la privatizzazione dell’aborto?
DESCRIPTION:Evento accreditato per la formazione forense (2 crediti) \nPer iscrizioni contattare: c.s.livatinopisa@gmail.com \nDiretta fb: https://www.facebook.com/centrostudilivatino \nLa registrazione sarà poi disponibile sul canale YouTube https://www.youtube.com/c/CentroStudiLivatino
URL:https://www.centrostudilivatino.it/event/online-l-194-1978-ru-486-ellaone-verso-la-privatizzazione-dellaborto/
LOCATION:Online
ATTACH;FMTTYPE=image/jpeg:https://www.centrostudilivatino.it/wp-content/uploads/2021/03/locandina.jpg
END:VEVENT
BEGIN:VEVENT
DTSTART;TZID=UTC:20210408T190000
DTEND;TZID=UTC:20210408T200000
DTSTAMP:20260421T100354
CREATED:20210408T132505Z
LAST-MODIFIED:20210408T132505Z
UID:9010-1617908400-1617912000@www.centrostudilivatino.it
SUMMARY:DDL Zan
DESCRIPTION:
URL:https://www.centrostudilivatino.it/event/ddl-zan/
LOCATION:Online
ATTACH;FMTTYPE=image/jpeg:https://www.centrostudilivatino.it/wp-content/uploads/2021/04/ddl-zan.jpeg
END:VEVENT
BEGIN:VEVENT
DTSTART;TZID=UTC:20210327T080000
DTEND;TZID=UTC:20210327T170000
DTSTAMP:20260421T100354
CREATED:20210311T150353Z
LAST-MODIFIED:20210326T152315Z
UID:8908-1616832000-1616864400@www.centrostudilivatino.it
SUMMARY:Online - Festival nazionale per la Giornata della Vita Nascente
DESCRIPTION:
URL:https://www.centrostudilivatino.it/event/online-festival-nazionale-per-la-giornata-della-vita-nascente/
LOCATION:Online
ATTACH;FMTTYPE=image/jpeg:https://www.centrostudilivatino.it/wp-content/uploads/2021/03/programma-festival-2021-def.jpg
END:VEVENT
BEGIN:VEVENT
DTSTART;TZID=UTC:20210324T210000
DTEND;TZID=UTC:20210324T220000
DTSTAMP:20260421T100354
CREATED:20210315T121157Z
LAST-MODIFIED:20210315T121214Z
UID:8922-1616619600-1616623200@www.centrostudilivatino.it
SUMMARY:Online - Under 35: Deontologia e doveri dell'avvocato nel processo civile
DESCRIPTION:Per avere il link di accesso scrivere a info@centrostudilivatino.it
URL:https://www.centrostudilivatino.it/event/online-under-35-deontologia-e-doveri-dellavvocato-nel-processo-civile/
LOCATION:Online
ATTACH;FMTTYPE=image/jpeg:https://www.centrostudilivatino.it/wp-content/uploads/2021/03/deontologia.jpg
END:VEVENT
BEGIN:VEVENT
DTSTART;TZID=UTC:20210323T170000
DTEND;TZID=UTC:20210323T180000
DTSTAMP:20260421T100354
CREATED:20210316T084143Z
LAST-MODIFIED:20210316T084222Z
UID:8928-1616518800-1616522400@www.centrostudilivatino.it
SUMMARY:Online - In preghiera per e con Carlo Casini
DESCRIPTION:
URL:https://www.centrostudilivatino.it/event/online-in-preghiera-per-e-con-carlo-casini/
LOCATION:Online
ATTACH;FMTTYPE=image/jpeg:https://www.centrostudilivatino.it/wp-content/uploads/2021/03/23-marzo.jpg
END:VEVENT
BEGIN:VEVENT
DTSTART;TZID=UTC:20210318T163000
DTEND;TZID=UTC:20210318T173000
DTSTAMP:20260421T100354
CREATED:20210315T121714Z
LAST-MODIFIED:20210315T121714Z
UID:8925-1616085000-1616088600@www.centrostudilivatino.it
SUMMARY:Online - L'autodistruzione dell'Occidente
DESCRIPTION:
URL:https://www.centrostudilivatino.it/event/online-lautodistruzione-delloccidente/
LOCATION:Online
ATTACH;FMTTYPE=image/png:https://www.centrostudilivatino.it/wp-content/uploads/2021/03/presentazione-online-capozzi-2.png
END:VEVENT
BEGIN:VEVENT
DTSTART;TZID=UTC:20210312T080000
DTEND;TZID=UTC:20210312T170000
DTSTAMP:20260421T100354
CREATED:20210119T225648Z
LAST-MODIFIED:20210119T225648Z
UID:8745-1615536000-1615568400@www.centrostudilivatino.it
SUMMARY:Online - Corso di perfezionamento in Sessualità\, fertilità ambiente e stili di vita
DESCRIPTION:
URL:https://www.centrostudilivatino.it/event/online-corso-di-perfezionamento-in-sessualita-fertilita-ambiente-e-stili-di-vita/
LOCATION:Online
ATTACH;FMTTYPE=image/jpeg:https://www.centrostudilivatino.it/wp-content/uploads/2021/01/Presentazione_Corso-di-Perfezionamento-Rev.jpg
END:VEVENT
BEGIN:VEVENT
DTSTART;TZID=UTC:20210219T173000
DTEND;TZID=UTC:20210219T190000
DTSTAMP:20260421T100354
CREATED:20210217T101959Z
LAST-MODIFIED:20210217T101959Z
UID:8848-1613755800-1613761200@www.centrostudilivatino.it
SUMMARY:Online - Intrappolati nella rete
DESCRIPTION:Diretta Facebook sulla pagina di Azione Universitaria – Roma: https://www.facebook.com/AzioneUniversitariaRoma
URL:https://www.centrostudilivatino.it/event/online-intrappolati-nella-rete/
LOCATION:Online
ATTACH;FMTTYPE=image/jpeg:https://www.centrostudilivatino.it/wp-content/uploads/2021/02/intrappolati-nella-rete.jpeg
END:VEVENT
BEGIN:VEVENT
DTSTART;TZID=UTC:20210207T153000
DTEND;TZID=UTC:20210207T170000
DTSTAMP:20260421T100354
CREATED:20210202T120441Z
LAST-MODIFIED:20210202T120450Z
UID:8779-1612711800-1612717200@www.centrostudilivatino.it
SUMMARY:Online - Libertà e Vita\, alle radici della responsabilità
DESCRIPTION:
URL:https://www.centrostudilivatino.it/event/online-liberta-e-vita-alle-radici-della-responsabilita/
LOCATION:Online
ATTACH;FMTTYPE=image/jpeg:https://www.centrostudilivatino.it/wp-content/uploads/2021/02/43-giornata-per-la-vita.jpeg
END:VEVENT
BEGIN:VEVENT
DTSTART;TZID=UTC:20210205T210000
DTEND;TZID=UTC:20210205T223000
DTSTAMP:20260421T100354
CREATED:20210202T125648Z
LAST-MODIFIED:20210202T125648Z
UID:8783-1612558800-1612564200@www.centrostudilivatino.it
SUMMARY:Online - Liberi per la vita
DESCRIPTION:
URL:https://www.centrostudilivatino.it/event/online-liberi-per-la-vita/
LOCATION:Online
ATTACH;FMTTYPE=image/jpeg:https://www.centrostudilivatino.it/wp-content/uploads/2021/02/liberi-per-la-vita.jpeg
END:VEVENT
BEGIN:VEVENT
DTSTART;TZID=UTC:20210127T210000
DTEND;TZID=UTC:20210127T220000
DTSTAMP:20260421T100354
CREATED:20210107T202333Z
LAST-MODIFIED:20210114T151305Z
UID:8689-1611781200-1611784800@www.centrostudilivatino.it
SUMMARY:Online - Incontro under 35: In vece del popolo italiano
DESCRIPTION:Per informazioni: info@centrostudilivatino.it
URL:https://www.centrostudilivatino.it/event/online-incontro-under-35-in-vece-del-popolo-italiano/
LOCATION:Online
ATTACH;FMTTYPE=image/jpeg:https://www.centrostudilivatino.it/wp-content/uploads/2021/01/in-vece-del-popolo-webinar-1.jpeg
END:VEVENT
BEGIN:VEVENT
DTSTART;TZID=UTC:20210125T190000
DTEND;TZID=UTC:20210125T200000
DTSTAMP:20260421T100354
CREATED:20210122T132644Z
LAST-MODIFIED:20210122T132644Z
UID:8753-1611601200-1611604800@www.centrostudilivatino.it
SUMMARY:Online - La politica nei social network
DESCRIPTION:
URL:https://www.centrostudilivatino.it/event/online-la-politica-nei-social-network/
LOCATION:Online
ATTACH;FMTTYPE=image/jpeg:https://www.centrostudilivatino.it/wp-content/uploads/2021/01/politica-nei-social-network.jpg
END:VEVENT
BEGIN:VEVENT
DTSTART;TZID=UTC:20210121T183000
DTEND;TZID=UTC:20210121T193000
DTSTAMP:20260421T100354
CREATED:20210111T101637Z
LAST-MODIFIED:20210111T101637Z
UID:8706-1611253800-1611257400@www.centrostudilivatino.it
SUMMARY:Online - Fermare l'immigrazione?
DESCRIPTION:RSVP: comunicazioni.lazio@ucid.it
URL:https://www.centrostudilivatino.it/event/online-fermare-limmigrazione/
LOCATION:Online
ATTACH;FMTTYPE=image/jpeg:https://www.centrostudilivatino.it/wp-content/uploads/2021/01/Locandina-FERMARE-LIMMIGRAZIONE.jpg
END:VEVENT
BEGIN:VEVENT
DTSTART;TZID=UTC:20210119T120000
DTEND;TZID=UTC:20210119T140000
DTSTAMP:20260421T100354
CREATED:20210108T231112Z
LAST-MODIFIED:20210108T231306Z
UID:8697-1611057600-1611064800@www.centrostudilivatino.it
SUMMARY:Online - La protezione dei dati personali del minore
DESCRIPTION:
URL:https://www.centrostudilivatino.it/event/online-la-protezione-dei-dati-personali-del-minore/
LOCATION:Online
ATTACH;FMTTYPE=image/jpeg:https://www.centrostudilivatino.it/wp-content/uploads/2021/01/Locandina-webinar-del-19-01-2021_La-protezione-dei-dati-personali-del-minore_Ordine-avvocati-Roma.jpg
END:VEVENT
BEGIN:VEVENT
DTSTART;TZID=UTC:20210105T180000
DTEND;TZID=UTC:20210105T200000
DTSTAMP:20260421T100354
CREATED:20201229T175423Z
LAST-MODIFIED:20210102T190028Z
UID:8655-1609869600-1609876800@www.centrostudilivatino.it
SUMMARY:Online - Rosario Livatino. Il giudice santo
DESCRIPTION:
URL:https://www.centrostudilivatino.it/event/online-rosario-livatino-il-giudice-santo/
LOCATION:Online
ATTACH;FMTTYPE=image/jpeg:https://www.centrostudilivatino.it/wp-content/uploads/2020/12/webinar-livatino-ultimo.jpg
END:VEVENT
BEGIN:VEVENT
DTSTART;TZID=UTC:20201204T133000
DTEND;TZID=UTC:20201204T150000
DTSTAMP:20260421T100354
CREATED:20201203T093144Z
LAST-MODIFIED:20201203T093144Z
UID:8585-1607088600-1607094000@www.centrostudilivatino.it
SUMMARY:Online - Per il futuro della libertà di educare
DESCRIPTION:NON MANCARE IL 4 DICEMBRE 2020\, \nPER IL FUTURO  \nDELLA LIBERTA’ DI EDUCAZIONE! \nLa realtà educativa libera delle scuole paritarie è sostanzialmente assenti nella proposta di legge di stabilità (“bilancio 2021”)\, che a giorni verrà licenziata dalla Camera dei deputati. \nPer questo\, oltre 70 associazioni chiedono la Tua partecipazione a un gesto tanto semplice quanto fondamentale: un WEB PRESSING con i leader politici di Montecitorio\, per chiedere loro di non discriminare bambini e giovani\, soprattutto con disabilità\, approvando pochi emendamenti proposti a tutti i gruppi parlamentari da Agorà per la parità e da USMI-CISM. \n  \nInterverranno\, tra gli altri: Suor Anna Monia ALFIERI (ALTIS-Univ. Cattolica-USMI)\, Paola Binetti (UDC)\, Maria Elena BOSCHI (Italia Viva)\, Piero FASSINO (PD)\, Stefano FASSINA (LEU)\, Padre Luigi GAETANI (USMI-CISM)\, Mariastella GELMINI (FI)\, Paola FRASSINETTI (Fratelli d’Italia)\, Giancarlo GIORGETTI (Lega)\, Virginia KALADICH (FIDAE)\, Stefano LEPRI (PD)\, Maurizio LUPI (misto)\, Luigi MORGANO (FISM)\, Maria Rachele RUIU (membro Fonags)\, Gianluca ROSPI (Misto). \nIntroduce\, Domenico Menorello. Coordina Giancarlo LOQUENZI\, giornalista. \nClicca subito QUI per esserci: \nhttps://us02web.zoom.us/meeting/register/tZIocOqqrDgoEt0B_Z908-ksCE3HFxHy6V5d\nCompletata la registrazione a Zoom riceverai per e-mail la password per accedere al meeting. Ti preghiamo di tenere spento il microfono durante l’evento. Puoi usare la chat per domande e osservazioni. \nPer le Associazioni promotrici del web-pressing \nAlleanza Cattolica\, Ass. Amici di Lazzaro\, Ass. Articolo 26\, Ass. Cuore Azzurro\, Ass. Cerchiamo il Tuo volto\, Collatio.it\, Ass. Convergenza Cristiana 3.0\, Ass. Costruire Insieme\, Ass. Culturale Zammeru Maskil\, Ass. Difendere la vita con Maria\, Ass. Donum Vitae\, Associazione Genitori Scuole Cattoliche (A.G.E.S.C.)\, Ass. Esserci\, Ass. Etica & Democrazia\, Ass. FamigliaSI\, Ass. Family Day- Difendiamo i Nostri Figli\, Associazione Genitori Scuole Cattoliche (A.G.E.S.C.)\, Ass. Il Crocevia\, Aippc – Ass. Italiana Psicologi e Psichiatri Cattolici\, Ass. L’albero\, Ass. Liberi e Forti\, Associazioni Medici Cattolici Italiani\, Ass. Nuova Generazione\, Ass. naz. Pier Giorgio Frassati\, Ass. Nonni 2.0\, Ass. Non si tocca la famiglia\, Ass. Politicainsieme\, Ass. Progetto culturale\, Ass. Proposte per Roma\, Ass. Pro Vita & Famiglia\, Ass. Generazione Famiglia\, Ass. Radici\, Ass. Rete Popolare\, Ass. Risveglio\, Ass. Umanitaria Padana\, Ass. Vita Nuova – Rete Italia Insieme\, Ass. Vivere Salendo\, Associazione volontariato Opera Baldo\, Avvocatura In Missione\, Associazione Nazionale Autonoma Professionisti (A.N.A.P.S.)\, Ass. Vita Consacrata per la Lombardia (AVCL)\,  Ass. Nazionale Istituti Non Statali di Educazione e di Istruzione (ANINSEI) – Confindustria\, Ass. genitori scuole statali – A.Ge. LAZIO\, Centro Nazionale Economi di Comunità (C.N.E.C.)\, Centro Italiano di Promozione e di Assistenza per la Famiglia\, Centro internazionale Giovanni Paolo II e per il magistero sociale della Chiesa\, Centro Studi Livatino\, Civiltà dell’amore\, Circoli insieme\, Comitato SALE per la dottrina sociale\, Confederazione internazionale del clero\, Conferenza Italiana Superiori Maggiori (C.I.S.M.)\, CulturaCattolica.it\, Confapi Scuole Paritarie della Campania\, Comitato Nazionale per il riconoscimento del servizio nella paritaria\, Federazione Italiana Istituti Non Statali di Educazione ed Istruzione (F.I.I.N.S.E.I.)\, Federazione Italiana Licei Linguistici e Istituti Scolastici Non Statali (F.I.L.I.N.S)\, Federazione Italiana Scuola Materne (F.I.S.M.)\, Fondazione ALMERICI  di Cesena\,  Forum Cultura Pace e Vita Ets\, Forum delle Associazioni sociosanitarie\, Giuristi per la Vita\, International Family News\, La Casa dei diritti\, LIFE – Libertà Famiglia Educazione\, Movimento Italiano Genitori (Moige)\, Movimento Per: Politica\, Etica\, Responsabilità\, Movimento per la Vita\, Movimento Regina dell’amore\, Osservatorio di bioetica di Siena\, Osservatorio parlamentare “Vera lex?”\, Politicainsieme\, Popolo della Famiglia\, Presidenza Comitato scientifico UCID\, Presidenza onoraria Società italiana di bioetica e comitati etici\, Rete Liberi di educare\, Scuola di Cultura Cattolica\, Steadfast\, Unione Superiori Maggiori (U.S.M.I.). \ninfo@polispropersona.com \nwww.polispropersona.com \nSi ringraziano per aver consentito l’evento: Osservatorio parlamentare “Vera lex?”\, Associazione Pro Vita & Famiglia\, Ass. Ricostruire
URL:https://www.centrostudilivatino.it/event/online-per-il-futuro-della-liberta-di-educare/
LOCATION:Online
END:VEVENT
BEGIN:VEVENT
DTSTART;TZID=UTC:20201127T150000
DTEND;TZID=UTC:20201127T180000
DTSTAMP:20260421T100354
CREATED:20200927T192544Z
LAST-MODIFIED:20201015T073419Z
UID:8371-1606489200-1606500000@www.centrostudilivatino.it
SUMMARY:Roma (RM) - Salute e salvezza (RINVIATO)
DESCRIPTION:Rinvio del Convegno “Salute e salvezza”  \n\n \nSiamo rammaricati nel dover comunicare il rinvio a data da individuare del Convegno nazionale del Centro Studi Rosario Livatino “Salute e salvezza”\, già fissato per il 27 novembre 2020 a Roma.\n \nInducono a tanto la ripresa  dei contagi da Covid e le prevedibili ulteriori restrizioni per le riunioni al chiuso.\n \nAbbiamo anche preso in esame l’ipotesi di uno svolgimento dei lavori via web\, ma l’importanza dei Relatori e il taglio del convegno raccomandano di riprogrammarlo “in presenza” quando – Dio piacendo\, il prima possibile – la situazione sarà meno grave.
URL:https://www.centrostudilivatino.it/event/roma-rm-salute-e-salvezza/
END:VEVENT
BEGIN:VEVENT
DTSTART;TZID=UTC:20201125T210000
DTEND;TZID=UTC:20201125T220000
DTSTAMP:20260421T100354
CREATED:20201117T172851Z
LAST-MODIFIED:20201117T181906Z
UID:8543-1606338000-1606341600@www.centrostudilivatino.it
SUMMARY:Online - Sicurezza e ordine pubblico
DESCRIPTION:Incontro per partecipanti Under 35 anni. Scrivere a info@centrostudilivatino.it.
URL:https://www.centrostudilivatino.it/event/online-sicurezza-e-ordine-pubblico/
LOCATION:Online
ATTACH;FMTTYPE=image/jpeg:https://www.centrostudilivatino.it/wp-content/uploads/2020/11/sicurezza-e-ordine-pubblico.jpg
END:VEVENT
BEGIN:VEVENT
DTSTART;TZID=UTC:20201116T190000
DTEND;TZID=UTC:20201116T200000
DTSTAMP:20260421T100354
CREATED:20201109T085215Z
LAST-MODIFIED:20201109T085215Z
UID:8509-1605553200-1605556800@www.centrostudilivatino.it
SUMMARY:Online - Omofobi per legge?
DESCRIPTION:
URL:https://www.centrostudilivatino.it/event/online-omofobi-per-legge/
LOCATION:Online
ATTACH;FMTTYPE=image/jpeg:https://www.centrostudilivatino.it/wp-content/uploads/2020/11/Omofobi-per-legge.jpeg
END:VEVENT
BEGIN:VEVENT
DTSTART;TZID=UTC:20201113T213000
DTEND;TZID=UTC:20201113T223000
DTSTAMP:20260421T100354
CREATED:20201110T101135Z
LAST-MODIFIED:20201110T115003Z
UID:8515-1605303000-1605306600@www.centrostudilivatino.it
SUMMARY:Online - Omofobi per legge?
DESCRIPTION:
URL:https://www.centrostudilivatino.it/event/online-omofobi-per-legge-2/
LOCATION:Online
ATTACH;FMTTYPE=image/jpeg:https://www.centrostudilivatino.it/wp-content/uploads/2020/11/omofobi-per-legge-torino-1.jpeg
END:VEVENT
BEGIN:VEVENT
DTSTART;TZID=UTC:20201020T143000
DTEND;TZID=UTC:20201020T183000
DTSTAMP:20260421T100354
CREATED:20200930T094452Z
LAST-MODIFIED:20200930T094527Z
UID:8380-1603204200-1603218600@www.centrostudilivatino.it
SUMMARY:Online - Sempre più tardi\, sempre meno: la sfida della natalità in Italia
DESCRIPTION:
URL:https://www.centrostudilivatino.it/event/sempre-piu-tardi-sempre-meno-la-sfida-della-natalita-in-italia/
LOCATION:Online
ATTACH;FMTTYPE=image/jpeg:https://www.centrostudilivatino.it/wp-content/uploads/2020/09/Sempre-più-tardi-1.jpg
END:VEVENT
BEGIN:VEVENT
DTSTART;TZID=UTC:20201015T210000
DTEND;TZID=UTC:20201015T223000
DTSTAMP:20260421T100354
CREATED:20201005T191019Z
LAST-MODIFIED:20201005T191019Z
UID:8403-1602795600-1602801000@www.centrostudilivatino.it
SUMMARY:Online - Diritto del minore all'istruzione\, responsabilità genitoriale e legislazione scolastica
DESCRIPTION:Incontro per partecipanti Under 35 anni. Scrivere a info@centrostudilivatino.it.
URL:https://www.centrostudilivatino.it/event/online-diritto-del-minore-allistruzione-responsabilita-genitoriale-e-legislazione-scolastica/
LOCATION:Online
ATTACH;FMTTYPE=image/jpeg:https://www.centrostudilivatino.it/wp-content/uploads/2020/10/locadina-15.10.2020-scaled.jpg
END:VEVENT
BEGIN:VEVENT
DTSTART;TZID=UTC:20201007T210000
DTEND;TZID=UTC:20201007T223000
DTSTAMP:20260421T100354
CREATED:20200930T095111Z
LAST-MODIFIED:20200930T095111Z
UID:8386-1602104400-1602109800@www.centrostudilivatino.it
SUMMARY:Ravenna (RA) - Quali sono i rischi per le attività degli oratori\, se venisse approvato il PDL Zan sull'omofobia?
DESCRIPTION:
URL:https://www.centrostudilivatino.it/event/ravenna-ra-quali-sono-i-rischi-per-le-attivita-degli-oratori-se-venisse-approvato-il-pdl-zan-sullomofobia/
LOCATION:Parrocchia S. Maria del Torrione\, Via Umberto Majoli 8\, Ravenna\, Italia
ATTACH;FMTTYPE=image/jpeg:https://www.centrostudilivatino.it/wp-content/uploads/2020/09/PDL-Zan.jpeg
END:VEVENT
BEGIN:VEVENT
DTSTART;TZID=UTC:20201003T113000
DTEND;TZID=UTC:20201004T140000
DTSTAMP:20260421T100354
CREATED:20200918T161436Z
LAST-MODIFIED:20200918T161436Z
UID:8336-1601724600-1601820000@www.centrostudilivatino.it
SUMMARY:Roma (RM) - Piccolo festival dell'essenziale
DESCRIPTION:PROGRAMMA PROVVISORIO\n​\nSABATO 3 OTTOBRE \n\nH 11.30 \nintroduzione al piccolo Festival dell’ESSENZIALE \nDavide Rondoni – La poesia dell’amicizia \n\nSalus \nVivere nell’epoca dell’”amerai il tuo unico BIO” \nUna società fondata sul “timor di Io?” \nSergio Belardinelli\, professore ordinario di Sociologia dei processi culturali e comunicativi – Università di Bologna \n\nH 12 | Giudizio \nDove finisce la giustizia \nAlfredo Mantovano\, magistrato \nFrancesco Cortesi\, magistrato \nIntroduce Francesco Malfitano\, Associazione Un Sanpietrino \n​ \nLIGHT LUNCH \n\nH 15.45 | Comunità \nCon Dante in esilio. Poesia e arte nei luoghi di sterminio (Ed. Ares\, 2020) \nNicola Bultrini\, poeta e saggista \n\nH 16.30 | Giovinezza \nStiamo bruciando i talenti di vent’anni? \nGian Carlo Blangiardo\, presidente Istat \n\nH 17 \nScrivere a/i vent’anni – poeti\, narratori\, giornalisti e cine-visionari \nFlaminia Colella\, Gipo Fasano\, Angelica Grivel Serra\, Alessandro Guerra\, Vittoria Rizzardi Pinalosa\, Asia Vaudo\, Giampaolo Plini \nIntroduce Daniele Mencarelli\, poeta e scrittore \n\nH 19.30 \nSchegge dal docufilm di P.P. Pasolini sui giovani – Documentario Rai Teche \nIntroduzione Maria Pia Ammirati\, scrittrice e giornalista. Presidente Istituto Luce Cinecittà \n\nH 21.30 | Basilica di Santa Maria degli Angeli e dei Martiri \nSaluto di Lorenzo Casini\, Capo di Gabinetto del Ministro per i beni e le attività culturali \nThe Ateliers \nCon Valeria Spagnuolo\, traduttrice LIS \nIntervento del Maestro scultore Ernesto Lamagna\, autore di alcune delle opere ospitate in chiesa \nLaude Novella sia cantata \nRaffaello Simeoni\, cantante\, musicista\, compositore \nAndrea Lonardo\, direttore ufficio per la cultura e l’università – Vicariato di Roma \n\nDOMENICA 4 OTTOBRE \n\nH 11 | Salus \nL’epoca sanitaria \nWalter Ricciardi\, professore Ordinario di Igiene e medicina preventiva – Medicina e Chirurgia Policlinico “A. Gemelli” Roma \nGiancarlo Cesana\, professore di Igiene Generale – Università degli Studi Milano \n  \nH 12 | Comunità \nCorpi intermedi\, corpi sfilacciati? – focus su comunità e educazione \nGiampaolo Gualaccini\, consigliere Non Profit – CNEL \nCesare Moreno\, presidente maestri di strada ONLUS – Napoli \nAntonio Romano\, presidente Istituto Sacro Cuore – Napoli \n  \nH 13 \nL’estro dell’artista come servizio alla comunità \nSara Taglialagamba\, storica dell’arte – Fondazione Pedretti \nBrindisi in musica con The Ateliers \n  \nDurante il Festival interventi artistici del fotografo Marco Rossi e del pittore Alessandro La Motta \n​
URL:https://www.centrostudilivatino.it/event/roma-rm-piccolo-festival-dellessenziale/
LOCATION:Domus Australia\, Via Cernaia 14/b\, Roma\, Italia
END:VEVENT
BEGIN:VEVENT
DTSTART;TZID=UTC:20200926T090000
DTEND;TZID=UTC:20200927T123000
DTSTAMP:20260421T100354
CREATED:20200916T130708Z
LAST-MODIFIED:20200916T131050Z
UID:8319-1601110800-1601209800@www.centrostudilivatino.it
SUMMARY:Roma (RM) - Scuola di bioetica
DESCRIPTION:
URL:https://www.centrostudilivatino.it/event/roma-rm-scuola-di-bioetica/
LOCATION:Pro Vita & Famiglia\, Viale Manzoni 28c\, Roma\, Italia
ATTACH;FMTTYPE=image/png:https://www.centrostudilivatino.it/wp-content/uploads/2020/09/scuola-di-bioetica.png
END:VEVENT
BEGIN:VEVENT
DTSTART;TZID=UTC:20200925T170000
DTEND;TZID=UTC:20200925T190000
DTSTAMP:20260421T100354
CREATED:20200917T154522Z
LAST-MODIFIED:20200917T154522Z
UID:8329-1601053200-1601060400@www.centrostudilivatino.it
SUMMARY:Online - Autodeterminazione e salute pubblica. La biopolitica dopo il Covid
DESCRIPTION:
URL:https://www.centrostudilivatino.it/event/online-autodeterminazione-e-salute-pubblica-la-biopolitica-dopo-il-covid/
LOCATION:Online
ATTACH;FMTTYPE=image/jpeg:https://www.centrostudilivatino.it/wp-content/uploads/2020/09/autodeterminazione-e-salute-pubblica.jpeg
END:VEVENT
BEGIN:VEVENT
DTSTART;TZID=UTC:20200921T083000
DTEND;TZID=UTC:20200921T093000
DTSTAMP:20260421T100354
CREATED:20200909T101726Z
LAST-MODIFIED:20200909T101726Z
UID:8287-1600677000-1600680600@www.centrostudilivatino.it
SUMMARY:Roma (RM) - S. Messa nella ricorrenza dei 30 anni dalla morte di Rosario Livatino 1990-2020
DESCRIPTION:
URL:https://www.centrostudilivatino.it/event/roma-rm-s-messa-nella-ricorrenza-dei-30-anni-dalla-morte-di-rosario-livatino-1990-2020/
LOCATION:Chiesa S. Cuore del Suffragio\, Lungotevere Prati\, Roma\, Italia
ATTACH;FMTTYPE=image/jpeg:https://www.centrostudilivatino.it/wp-content/uploads/2020/09/s.messa-in-memoria-di-rosario-livatino.jpg
END:VEVENT
BEGIN:VEVENT
DTSTART;TZID=UTC:20200918T173000
DTEND;TZID=UTC:20200918T193000
DTSTAMP:20260421T100354
CREATED:20200912T122432Z
LAST-MODIFIED:20200912T122432Z
UID:8306-1600450200-1600457400@www.centrostudilivatino.it
SUMMARY:Montepulciano (SI) - DDL Zan: rischio reato d'opinione
DESCRIPTION:
URL:https://www.centrostudilivatino.it/event/montepulciano-si-ddl-zan-rischio-reato-dopinione/
LOCATION:Auditorio B.C.C.\, Montepulciano\, Italia
ATTACH;FMTTYPE=image/jpeg:https://www.centrostudilivatino.it/wp-content/uploads/2020/09/ddl-zan-rischio-reato-dopinione.jpeg
END:VEVENT
BEGIN:VEVENT
DTSTART;TZID=UTC:20200915T210000
DTEND;TZID=UTC:20200915T223000
DTSTAMP:20260421T100354
CREATED:20200912T121459Z
LAST-MODIFIED:20200912T121832Z
UID:8301-1600203600-1600209000@www.centrostudilivatino.it
SUMMARY:Online - Le ragioni del NO al referendum
DESCRIPTION:L’incontro sarà trasmesso dal vivo su Facebook\, al reguente link: https://www.facebook.com/acstreamto.vm.3
URL:https://www.centrostudilivatino.it/event/online-le-ragioni-del-no-al-referendum/
LOCATION:Online
ATTACH;FMTTYPE=image/jpeg:https://www.centrostudilivatino.it/wp-content/uploads/2020/09/no-referendum-scaled.jpg
END:VEVENT
END:VCALENDAR