BEGIN:VCALENDAR
VERSION:2.0
PRODID:-//Centro Studi Rosario Livatino - ECPv6.15.20//NONSGML v1.0//EN
CALSCALE:GREGORIAN
METHOD:PUBLISH
X-WR-CALNAME:Centro Studi Rosario Livatino
X-ORIGINAL-URL:https://www.centrostudilivatino.it
X-WR-CALDESC:Eventi per Centro Studi Rosario Livatino
REFRESH-INTERVAL;VALUE=DURATION:PT1H
X-Robots-Tag:noindex
X-PUBLISHED-TTL:PT1H
BEGIN:VTIMEZONE
TZID:UTC
BEGIN:STANDARD
TZOFFSETFROM:+0000
TZOFFSETTO:+0000
TZNAME:UTC
DTSTART:20180101T000000
END:STANDARD
END:VTIMEZONE
BEGIN:VEVENT
DTSTART;TZID=UTC:20200723T190000
DTEND;TZID=UTC:20200723T203000
DTSTAMP:20260423T113559
CREATED:20200723T070227Z
LAST-MODIFIED:20200723T070358Z
UID:8151-1595530800-1595536200@www.centrostudilivatino.it
SUMMARY:Terracina (LT) - Presentazione del libro "Omofobi per legge?"
DESCRIPTION:
URL:https://www.centrostudilivatino.it/event/terracina-lt-presentazione-del-libro-omofobi-per-legge/
LOCATION:Terrazza del Municipio\, Piazza del Municipio\, Terracina (LT)\, Italia
ATTACH;FMTTYPE=image/jpeg:https://www.centrostudilivatino.it/wp-content/uploads/2020/07/locandina-Omofobi-per-legge.jpeg
END:VEVENT
BEGIN:VEVENT
DTSTART;TZID=UTC:20200721T173000
DTEND;TZID=UTC:20200721T183000
DTSTAMP:20260423T113559
CREATED:20200701T105116Z
LAST-MODIFIED:20200702T140922Z
UID:8084-1595352600-1595356200@www.centrostudilivatino.it
SUMMARY:Online: Obiezione di coscienza - Fine vita e cure palliative: cosa sta succedendo?
DESCRIPTION:Obiezione di coscienza – Fine vita e cure palliative: cosa sta succedendo?
URL:https://www.centrostudilivatino.it/event/online-obiezione-di-coscienza-fine-vita-e-cure-palliative-cosa-sta-succedendo/
LOCATION:Online
ATTACH;FMTTYPE=image/jpeg:https://www.centrostudilivatino.it/wp-content/uploads/2020/07/Cosa-sta-succedendo_.jpg
END:VEVENT
BEGIN:VEVENT
DTSTART;TZID=UTC:20200715T173000
DTEND;TZID=UTC:20200715T183000
DTSTAMP:20260423T113559
CREATED:20200701T104948Z
LAST-MODIFIED:20200702T140931Z
UID:8082-1594834200-1594837800@www.centrostudilivatino.it
SUMMARY:Online: Obiezione di coscienza - Inizio vita: cosa sta succedendo?
DESCRIPTION:Obiezione di coscienza – Inizio vita: cosa sta succedendo?
URL:https://www.centrostudilivatino.it/event/online-obiezione-di-coscienza-inizio-vita-cosa-sta-succedendo/
LOCATION:Online
ATTACH;FMTTYPE=image/jpeg:https://www.centrostudilivatino.it/wp-content/uploads/2020/07/Cosa-sta-succedendo_.jpg
END:VEVENT
BEGIN:VEVENT
DTSTART;TZID=UTC:20200714T173000
DTEND;TZID=UTC:20200714T190000
DTSTAMP:20260423T113559
CREATED:20200707T100005Z
LAST-MODIFIED:20200710T155451Z
UID:8111-1594747800-1594753200@www.centrostudilivatino.it
SUMMARY:Roma (RM) - Delitto di leso gender?
DESCRIPTION:
URL:https://www.centrostudilivatino.it/event/roma-rm-delitto-di-leso-gender/
LOCATION:Palazzo Maffei Marescotti\, Via della Pigna\, 13/A\, Roma\, Italia
ATTACH;FMTTYPE=image/jpeg:https://www.centrostudilivatino.it/wp-content/uploads/2020/07/Locandina-presentazione-Omofobi-per-legge.jpeg
END:VEVENT
BEGIN:VEVENT
DTSTART;TZID=UTC:20200708T180000
DTEND;TZID=UTC:20200708T190000
DTSTAMP:20260423T113559
CREATED:20200707T093914Z
LAST-MODIFIED:20200707T094114Z
UID:8106-1594231200-1594234800@www.centrostudilivatino.it
SUMMARY:Online - Una nuova legge contro l'omotransfobia?
DESCRIPTION:“Una nuova legge contro l’omotransfobia?”. Leggiamo ed analizziamo insieme la proposta di testo unificato presentato qualche giorno fa alla Camera dei deputati\, per comprendere cosa dice davvero e quali conseguenze porterebbe.\nSaranno con noi: Monica Ricci Sargentini (giornalista\, Corriere della Sera)\, Luciano Eusebi (giurista\, S&V)\, Alfredo Mantovano (giurista\, Centro Studi “Livatino”)\, Damiano Nocilla (giurista\, UGCI)\, Alberto Gambino (giurista\, S&V\, UGCI). Conduce Maurizio Calipari. \nDiretta Facebook sulla pagina di Scienza e Vita
URL:https://www.centrostudilivatino.it/event/online-una-nuova-legge-contro-lomotransfobia/
LOCATION:Online
ATTACH;FMTTYPE=image/jpeg:https://www.centrostudilivatino.it/wp-content/uploads/2020/07/incontriamoci-e-parliamone.jpg
END:VEVENT
BEGIN:VEVENT
DTSTART;TZID=UTC:20200707T173000
DTEND;TZID=UTC:20200707T183000
DTSTAMP:20260423T113559
CREATED:20200701T103722Z
LAST-MODIFIED:20200702T140940Z
UID:8077-1594143000-1594146600@www.centrostudilivatino.it
SUMMARY:Online - RU486: cosa sta succedendo?
DESCRIPTION:RU486: cosa sta succedendo?
URL:https://www.centrostudilivatino.it/event/online-ru486-cosa-sta-succedendo/
LOCATION:Online
ATTACH;FMTTYPE=image/jpeg:https://www.centrostudilivatino.it/wp-content/uploads/2020/07/Cosa-sta-succedendo_.jpg
END:VEVENT
BEGIN:VEVENT
DTSTART;TZID=UTC:20200628T210000
DTEND;TZID=UTC:20200628T220000
DTSTAMP:20260423T113559
CREATED:20200625T083238Z
LAST-MODIFIED:20200625T083238Z
UID:8061-1593378000-1593381600@www.centrostudilivatino.it
SUMMARY:Radio Maria - Tavola rotonda sulle proposta di legge in materia di omotransfobia
DESCRIPTION:Domenica 28 giugno alle 21 su Radio Maria si svolgerà una tavola rotonda condotta da Marco Invernizzi sul contenuto delle proposte di legge in materia di omotransfobia in discussione presso la Commissione Giustizia della Camera dei Deputati. Nell’occasione verrà presentato il libro Omofobi per legge? Colpevoli di non aver commesso il fatto. Interverranno Francesco Cavallo e Roberto Respinti\, entrambi del Centro Studi Livatino\, che sono ancora due degli autori del testo.
URL:https://www.centrostudilivatino.it/event/radio-maria-tavola-rotonda-sulle-proposta-di-legge-in-materia-di-omotransfobia/
LOCATION:Online
END:VEVENT
BEGIN:VEVENT
DTSTART;TZID=UTC:20200615T124500
DTEND;TZID=UTC:20200615T140000
DTSTAMP:20260423T113559
CREATED:20200611T110050Z
LAST-MODIFIED:20200613T100647Z
UID:8014-1592225100-1592229600@www.centrostudilivatino.it
SUMMARY:Online - Più parità per le paritarie\, più libertà per tutti
DESCRIPTION:Lunedì 15 giugno dalle 12:45 il “web-pressing” parlamentare organizzato dalle 50 associazioni non profit dell’appello pro-paritarie (Comitato POLIS PRO PERSONA)\, da RICOSTRUIRE e dal FORUM delle ASSOCIAZIONI FAMILIARI. \nPrima del voto alla Camera sul “DL Rilancio” occorre un impegno straordinario e appassionato del Parlamento affinché le scuole paritarie possano riaprire\, a settembre. E con la sopravvivenza della scuola pubblica paritaria è in gioco un pezzo essenziale della stessa libertà di tutti. \nClicca qui per registrarti al webinar\nhttps://us02web.zoom.us/meeting/register/tZ0qceGopzwpHtOraEd-Rt9xqJaEK3ngTEPg \nUn impegno straordinario del Parlamento che Giancarlo Loquenzi chiederà\, fra gli altri\, a Paola BINETTI (Udc)\, Maria Elena BOSCHI (Iv)\, Tiziana DRAGO (M5S)\, Maria Stella GELMINI (Fi)\, Giancarlo GIORGETTI (Lega)\, Stefano FASSINA (LEU)\, Piero FASSINO e Stefano LEPRI (PD)\, Maurizio LUPI (NCI)\, Giorgia MELONI (FdI)\, nonché Anna ASCANI\, Viceministra alla Pubblica Istruzione\, che si alterneranno collegandosi con la piattaforma. L’incontro webinar sarà introdotto da un saluto scritto della Senatrice Maria Elisabetta Alberti Casellati\, Presidente del Senato della Repubblica. \nIl webinar nasce da una serie di documenti sulla scuola pubblicati durante la emergenza Covid-19 elaborati dalle associazioni Agorà per la parità (https://bit.ly/2UIOo7Z) presentato da Luigi Morgano (FISM-AGORÀ) e Gigi De Palo (Forum); dal Centro Studi Livatino (https://bit.ly/2MUB63D) presentato da Alfredo Mantovano; da RICOSTRUIRE (https://bit.ly/2XNV1rt ) presentato da Stefano Parisi (promotore di Ricostruire); dal Family day (https://bit.ly/3cQ97g5) presentato da Massimo Gandolfini; dall’appello delle 50 associazioni non profit per le scuole paritarie (https://bit.ly/2XMcvEl) presentato da Suor Anna Monia Alfieri e Domenico Menorello. \nCome iscriversi al webinar\nCompletata la registrazione a Zoom\, riceverai per email la password e le indicazioni per unirti al meeting. Ti preghiamo di non tenere acceso il microfono durante il webinar. Si può usare la chat per le domande e osservazioni. \nRICOSTRUIRE\nwww.ricostruireitalia.it\nYouTube\nhttps://bit.ly/3c44DD3\nTelegram @RICOSTRUIRE\nhttps://bit.ly/2KH2H7u\nInstagram\nricostruire_ita
URL:https://www.centrostudilivatino.it/event/online-piu-parita-per-le-paritarie-piu-liberta-per-tutti/
LOCATION:Online
END:VEVENT
BEGIN:VEVENT
DTSTART;TZID=UTC:20200605T133000
DTEND;TZID=UTC:20200605T153000
DTSTAMP:20260423T113559
CREATED:20200602T093303Z
LAST-MODIFIED:20200602T093303Z
UID:7958-1591363800-1591371000@www.centrostudilivatino.it
SUMMARY:Online - Giustizia\, l'appello del Centro Studi Livatino a ripartire davvero
DESCRIPTION:GIUSTIZIA\, L’APPELLO DEL CENTRO STUDI LIVATINO A RIPARTIRE DAVVERO. CON UNA INTERVISTA AD ALFREDO MANTOVANO \nVenerdì 5 giugno dalle 13:30\, Giancarlo Loquenzi intervista Alfredo Mantovano sull’appello del Centro Studi Livatino a Governo e partiti per far ripartire in sicurezza la Giustizia italiana. Scuola e Giustizia sono servizi pubblici essenziali che non possono fermarsi ancora. Come nella Giustizia civile\, dove i crediti bloccati significano mancata liquidità per aziende\, enti pubblici\, banche\, professionisti\, mondo privato e delle famiglie. \nClicca qui per registrarti al webinar\nhttps://us02web.zoom.us/meeting/register/tZEqf-qgqT0rH9aAwT3QBaYdfcqcB2PglZWs \nCompletata la registrazione a Zoom\, riceverai per email la password e le indicazioni per unirti al meeting. Ti preghiamo di non tenere acceso il microfono durante il webinar. Si può usare la chat per le domande e osservazioni. \nRICOSTRUIRE\nwww.ricostruireitalia.it\nYouTube\nhttps://bit.ly/3c44DD3\nTelegram @RICOSTRUIRE\nhttps://bit.ly/2KH2H7u
URL:https://www.centrostudilivatino.it/event/online-giustizia-lappello-del-centro-studi-livatino-a-ripartire-davvero/
LOCATION:Online
END:VEVENT
BEGIN:VEVENT
DTSTART;TZID=UTC:20200602T210000
DTEND;TZID=UTC:20200602T220000
DTSTAMP:20260423T113559
CREATED:20200530T130558Z
LAST-MODIFIED:20200530T130558Z
UID:7943-1591131600-1591135200@www.centrostudilivatino.it
SUMMARY:Online - La proposta di legge "Zan" sull'omofobia
DESCRIPTION:
URL:https://www.centrostudilivatino.it/event/online-la-proposta-di-legge-zan-sullomofobia/
LOCATION:Online
ATTACH;FMTTYPE=image/jpeg:https://www.centrostudilivatino.it/wp-content/uploads/2020/05/legge-zan-sullomofobia.jpeg
END:VEVENT
BEGIN:VEVENT
DTSTART;TZID=UTC:20200601T213000
DTEND;TZID=UTC:20200601T223000
DTSTAMP:20260423T113559
CREATED:20200530T130302Z
LAST-MODIFIED:20200530T130302Z
UID:7940-1591047000-1591050600@www.centrostudilivatino.it
SUMMARY:Online - Pandemia giudiziaria: come ristabilire una piena democrazia
DESCRIPTION:
URL:https://www.centrostudilivatino.it/event/online-pandemia-giudiziaria-come-ristabilire-una-piena-democrazia/
LOCATION:Online
ATTACH;FMTTYPE=image/jpeg:https://www.centrostudilivatino.it/wp-content/uploads/2020/05/picchi-pills.jpeg
END:VEVENT
BEGIN:VEVENT
DTSTART;TZID=UTC:20200522T180000
DTEND;TZID=UTC:20200522T200000
DTSTAMP:20260423T113559
CREATED:20200504T100749Z
LAST-MODIFIED:20200505T124938Z
UID:7773-1590170400-1590177600@www.centrostudilivatino.it
SUMMARY:Online - Persona\, lavoratore e impresa in epoca di globalizzazione
DESCRIPTION:venerdì 22 maggio 2020 – ore 18\,00 \n1970-2020 Lo Statuto dei lavoratori mezzo secolo dopo \nPersona\, lavoratore e impresa in epoca di globalizzazione\n  \nIntroduzione e coordinamento dei lavori\navv. Roberto RESPINTI\nDocente al Master di II livello in Diritto del Lavoro e Relazioni Industriali dell’Università degli Studi di Milano \nRelazioni \nsen. Maurizio SACCONI\ngià Ministro del lavoro\, della salute e delle politiche sociali \nIl rapporto di lavoro: dallo scambio freddo tra remunerazione e prestazione alla relazione intensa tra persone \nprof. Armando TURSI\nOrdinario di Diritto del Lavoro nell’Università degli Studi di Milano \nIl diritto del lavoro tra riformismo debole e radicalismo culturale \ndott. Luigi SBARRA\nSegretario Generale Aggiunto della CISL \nPersona\, lavoro\, sindacato: dallo Statuto dei lavoratori alle sfide del 4.0 \nInterventi programmati \nLink Invito Workshop 22 maggio\nChi desidera prenotarsi per un proprio intervento è invitato a comunicarlo entro il 20 maggio 2020 a info@centrostudilivatino.it \n  \nIl lavoro è oggi caratterizzato dal contesto di un mercato unico globalizzato: uno scenario che è possible vivere non passivamente\, operando per orientarne le conseguenze. \nLavoratori\, corpi intermedi\, management aziendale e operatori del diritto sono protagonisti di un recupero dei valori fondanti il lavoro per la persona e l’impresa: per rimettere al centro il “perché”\, prima del “come” della relazione di lavoro. \n 
URL:https://www.centrostudilivatino.it/event/online-persona-lavoratore-e-impresa-in-epoca-di-globalizzazione/
LOCATION:Online
ATTACH;FMTTYPE=image/jpeg:https://www.centrostudilivatino.it/wp-content/uploads/2020/05/Locandina-Workshop-22-maggio-scaled.jpg
END:VEVENT
BEGIN:VEVENT
DTSTART;TZID=UTC:20200515T183000
DTEND;TZID=UTC:20200515T200000
DTSTAMP:20260423T113559
CREATED:20200505T124432Z
LAST-MODIFIED:20200506T160023Z
UID:7793-1589567400-1589572800@www.centrostudilivatino.it
SUMMARY:Online - Eutanasia\, suicidio asistido y principio del doble efecto
DESCRIPTION:Il 15 maggio 2020 ore 12.30-14 (ore 18.30-20 italiane)\, la Academia de Derecho Penal de la Universidad de los Andes (Santiago del Cile) organizza una  incontro di studi sul tema eutanasia\,  suicidio assistito e principio del doppio effetto.\nInterverranno Alejandro Miranda (Universidad de los Andes)\, Pablo Castillo (Universidad del Desarrollo)\, Vicente Hargous (Comunidad y Justicia) e Carmelo Leotta (Università Europea di Roma)\, anche in rappresentanza del Centro Studi Livatino.\nL’evento si svolge su Zoom ID 817 3442 2717 Password: 072774.
URL:https://www.centrostudilivatino.it/event/online-eutanasia-suicidio-asistido-y-principio-del-doble-efecto/
ATTACH;FMTTYPE=image/jpeg:https://www.centrostudilivatino.it/wp-content/uploads/2020/05/Chile_Suicidio-asistido_15.5.2020.jpg
END:VEVENT
BEGIN:VEVENT
DTSTART;TZID=UTC:20200307T153000
DTEND;TZID=UTC:20200307T170000
DTSTAMP:20260423T113559
CREATED:20200228T142504Z
LAST-MODIFIED:20200228T142504Z
UID:7374-1583595000-1583600400@www.centrostudilivatino.it
SUMMARY:Latina (LT) - Corso: Cooperatore dei diritti umani
DESCRIPTION:
URL:https://www.centrostudilivatino.it/event/latina-lt-corso-cooperatore-dei-diritti-umani/
LOCATION:Museo Civico Dulio Cambellotti\, Piazza San Marco\, Latina\, Italia
ATTACH;FMTTYPE=image/jpeg:https://www.centrostudilivatino.it/wp-content/uploads/2020/02/corso-cooperatore-dei-diritti-umani.jpeg
END:VEVENT
BEGIN:VEVENT
DTSTART;TZID=UTC:20200221T210000
DTEND;TZID=UTC:20200221T230000
DTSTAMP:20260423T113559
CREATED:20191218T122447Z
LAST-MODIFIED:20191218T122447Z
UID:7211-1582318800-1582326000@www.centrostudilivatino.it
SUMMARY:Monza (MB) - La meraviglia della vita (II incontro)
DESCRIPTION:Il diritto\, l’accoglienza\, la tutela. Una scelta d’amore.
URL:https://www.centrostudilivatino.it/event/monza-mb-la-meraviglia-della-vita-ii-incontro/
LOCATION:Istituto Leone Dehon\, Via Andrea Apppiani 1\, Monza
ATTACH;FMTTYPE=image/jpeg:https://www.centrostudilivatino.it/wp-content/uploads/2019/12/la-meraviglia-della-vita.jpg
END:VEVENT
BEGIN:VEVENT
DTSTART;TZID=UTC:20200221T190000
DTEND;TZID=UTC:20200221T203000
DTSTAMP:20260423T113559
CREATED:20200212T135148Z
LAST-MODIFIED:20200212T135148Z
UID:7323-1582311600-1582317000@www.centrostudilivatino.it
SUMMARY:San Vito dei Normanni (BR) - Disporre della vita... Eutanasia profili etici e giuridici
DESCRIPTION:
URL:https://www.centrostudilivatino.it/event/san-vito-dei-normanni-br-disporre-della-vita-eutanasia-profili-etici-e-giuridici/
LOCATION:Chiesa di san Giovanni\, Via Monsignor Annibale de Leo \,65\, San Vito dei Normanni (BR)\, 72019\, Italia
ATTACH;FMTTYPE=image/jpeg:https://www.centrostudilivatino.it/wp-content/uploads/2020/02/Disporre-della-vita....jpeg
END:VEVENT
BEGIN:VEVENT
DTSTART;TZID=UTC:20200218T210000
DTEND;TZID=UTC:20200218T223000
DTSTAMP:20260423T113559
CREATED:20200130T095837Z
LAST-MODIFIED:20200130T095837Z
UID:7288-1582059600-1582065000@www.centrostudilivatino.it
SUMMARY:Carugate (Mi) - La vita tra desideri\, diritti e doveri
DESCRIPTION:
URL:https://www.centrostudilivatino.it/event/carugate-mi-la-vita-tra-desideri-diritti-e-doveri/
LOCATION:Auditorium Don Enrico De Gasperi\, Via San Giovanni Bosco 10\, Carugate (Mi)\, Italia
ATTACH;FMTTYPE=image/jpeg:https://www.centrostudilivatino.it/wp-content/uploads/2020/01/La-Meraviglia-della-Vita_volantino-scaled.jpg
END:VEVENT
BEGIN:VEVENT
DTSTART;TZID=UTC:20200207T210000
DTEND;TZID=UTC:20200207T230000
DTSTAMP:20260423T113559
CREATED:20191218T122150Z
LAST-MODIFIED:20191218T122150Z
UID:7208-1581109200-1581116400@www.centrostudilivatino.it
SUMMARY:Monza (MB) - La meraviglia della vita (I incontro)
DESCRIPTION:Il diritto\, l’accoglienza\, la tutela. Una scelta d’amore.
URL:https://www.centrostudilivatino.it/event/monza-mb-la-meraviglia-della-vita-i-incontro/
LOCATION:Istituto Leone Dehon\, Via Andrea Apppiani 1\, Monza
ATTACH;FMTTYPE=image/jpeg:https://www.centrostudilivatino.it/wp-content/uploads/2019/12/la-meraviglia-della-vita.jpg
END:VEVENT
BEGIN:VEVENT
DTSTART;TZID=UTC:20200131T184500
DTEND;TZID=UTC:20200131T200000
DTSTAMP:20260423T113559
CREATED:20200121T112425Z
LAST-MODIFIED:20200121T112425Z
UID:7269-1580496300-1580500800@www.centrostudilivatino.it
SUMMARY:Roma (RM) - La fine della vita umana\, "oggi"
DESCRIPTION:
URL:https://www.centrostudilivatino.it/event/roma-rm-la-fine-della-vita-umana-oggi/
LOCATION:Palazzo Chigi\, Piazza Colonna 370\, Roma\, Italia
ATTACH;FMTTYPE=image/jpeg:https://www.centrostudilivatino.it/wp-content/uploads/2020/01/locandina-dagostino.jpg
END:VEVENT
BEGIN:VEVENT
DTSTART;TZID=UTC:20200129T173000
DTEND;TZID=UTC:20200129T193000
DTSTAMP:20260423T113559
CREATED:20200115T181610Z
LAST-MODIFIED:20200115T181737Z
UID:7259-1580319000-1580326200@www.centrostudilivatino.it
SUMMARY:Roma (RM) - Popolo ed èlite
DESCRIPTION:
URL:https://www.centrostudilivatino.it/event/roma-rm-popolo-ed-elite/
LOCATION:Unioncamere\, Sala Longhi - Piazza Sallustio 21\, Roma\, Italia
ATTACH;FMTTYPE=image/jpeg:https://www.centrostudilivatino.it/wp-content/uploads/2020/01/Presentazione-libro-Popolo-ed-elite-scaled.jpg
END:VEVENT
BEGIN:VEVENT
DTSTART;TZID=UTC:20200118T183000
DTEND;TZID=UTC:20200118T193000
DTSTAMP:20260423T113559
CREATED:20200107T124503Z
LAST-MODIFIED:20200107T124503Z
UID:7241-1579372200-1579375800@www.centrostudilivatino.it
SUMMARY:Lecce (LE) - Immigrazione: quadro normativo e prospettive
DESCRIPTION:
URL:https://www.centrostudilivatino.it/event/lecce-le-immigrazione-quadro-normativo-e-prospettive/
LOCATION:Sala Conferenze – Convitto Palmieri\, Piazzetta Carducci\, Lecce\, Italia
ATTACH;FMTTYPE=image/jpeg:https://www.centrostudilivatino.it/wp-content/uploads/2020/01/Immigrazione-Mantovano-1.jpg
END:VEVENT
BEGIN:VEVENT
DTSTART;TZID=UTC:20200118T100000
DTEND;TZID=UTC:20200118T124500
DTSTAMP:20260423T113559
CREATED:20191227T111459Z
LAST-MODIFIED:20191227T111459Z
UID:7223-1579341600-1579351500@www.centrostudilivatino.it
SUMMARY:Milano (MI): “Libertà in gabbia?”
DESCRIPTION:I NONNI 2.0 preoccupati dell’incalzante prevalere del “pensiero unico” e della conseguente crescita del “politicamente corretto” che tendono a mettere in serio pericolo le libertà di pensiero e di opinione con pesanti ricadute sui loro nipoti che rischiano di essere costretti a vivere in futuro in epoche di silenzio culturale\, hanno deciso\, in collaborazione con ESSERCI\, Alleanza Cattolica\, Centro Studi Livatino e Centro Culturale e Artistico Francescano\, di affrontare questo tema in un Convegno che si terrà il 18 gennaio 2020\, Milano\, dalle ore 10 alle ore 12.45\, presso il Teatro Rosetum\, in Via Pisanello 1\, dal titolo “Libertà in gabbia?” \nRelatori: \nFrancesco Botturi\, già ordinario di Filosofia morale presso l’Università Cattolica di Milano  \nCostanza Miriano\, giornalista e scrittrice  \nRoberto Respinti\, avvocato \nModera Robi Ronza\, giornalista e scrittore 
URL:https://www.centrostudilivatino.it/event/milano-mi-liberta-in-gabbia/
LOCATION:Teatro Rosetum\, Via Pisanello 1\, MIlano\, 20146\, Italia
END:VEVENT
BEGIN:VEVENT
DTSTART;TZID=UTC:20200117T204500
DTEND;TZID=UTC:20200117T223000
DTSTAMP:20260423T113559
CREATED:20200115T180952Z
LAST-MODIFIED:20200115T180952Z
UID:7255-1579293900-1579300200@www.centrostudilivatino.it
SUMMARY:San Donà di Piave (VE) - Il ritorno del padre
DESCRIPTION:
URL:https://www.centrostudilivatino.it/event/san-dona-di-piave-ve-il-ritorno-del-padre/
LOCATION:Oratorio Don Bosco\, Via XIII Martiri 86\, San Donà di Piave (VE)\, Italia
ATTACH;FMTTYPE=image/jpeg:https://www.centrostudilivatino.it/wp-content/uploads/2020/01/Il-ritorno-del-padre.jpeg
END:VEVENT
BEGIN:VEVENT
DTSTART;TZID=UTC:20200117T173000
DTEND;TZID=UTC:20200117T190000
DTSTAMP:20260423T113559
CREATED:20200107T122834Z
LAST-MODIFIED:20200107T122834Z
UID:7237-1579282200-1579287600@www.centrostudilivatino.it
SUMMARY:Matino (LE) - Il diritto di morire o la morte del diritto?
DESCRIPTION:
URL:https://www.centrostudilivatino.it/event/matino-le-il-diritto-di-morire-o-la-morte-del-diritto/
LOCATION:Palazzo Marchesale “Del Tufo”\, Piazza San Giorgio\, Matino (LE)\, Italia
ATTACH;FMTTYPE=image/jpeg:https://www.centrostudilivatino.it/wp-content/uploads/2020/01/Il-diritto-di-morire-locandina.jpg
END:VEVENT
BEGIN:VEVENT
DTSTART;TZID=UTC:20191213T090000
DTEND;TZID=UTC:20191213T110000
DTSTAMP:20260423T113559
CREATED:20191202T175649Z
LAST-MODIFIED:20191202T175649Z
UID:7174-1576227600-1576234800@www.centrostudilivatino.it
SUMMARY:Sassuolo (MO) - Coltivare l'umano: democrazia e legalità sono ancora valori?
DESCRIPTION:
URL:https://www.centrostudilivatino.it/event/sassuolo-mo-coltivare-lumano-democrazia-e-legalita-sono-ancora-valori/
LOCATION:IIS “A. Volta”\, Aula Magna\, Piazza Falcone e Borsellino 5\, Sassuolo (MO)\, Italia
ATTACH;FMTTYPE=image/jpeg:https://www.centrostudilivatino.it/wp-content/uploads/2019/12/incontro-coltivare-umano-scaled.jpg
END:VEVENT
BEGIN:VEVENT
DTSTART;TZID=UTC:20191129T143000
DTEND;TZID=UTC:20191129T173000
DTSTAMP:20260423T113559
CREATED:20191031T170439Z
LAST-MODIFIED:20191107T125752Z
UID:7114-1575037800-1575048600@www.centrostudilivatino.it
SUMMARY:Roma (RM) - Magistratura in crisi. Percorsi per ritrovare la giustizia
DESCRIPTION:
URL:https://www.centrostudilivatino.it/event/roma-rm-magistratura-in-crisi-percorsi-per-ritrovare-la-giustizia/
LOCATION:Senato della Repubblica – Sala Koch\, Piazza Madama 11\, Roma\, Italia
ATTACH;FMTTYPE=image/jpeg:https://www.centrostudilivatino.it/wp-content/uploads/2019/10/Magistratura-in-crisi-locandina.jpg
END:VEVENT
BEGIN:VEVENT
DTSTART;TZID=UTC:20191127T204500
DTEND;TZID=UTC:20191127T223000
DTSTAMP:20260423T113559
CREATED:20191106T153600Z
LAST-MODIFIED:20191106T153900Z
UID:7127-1574887500-1574893800@www.centrostudilivatino.it
SUMMARY:Cassina de' Pecchi (MI) - Il diritto di essere uccisi: verso la morte del diritto?
DESCRIPTION:
URL:https://www.centrostudilivatino.it/event/cassina-de-pecchi-mi-il-diritto-di-essere-uccisi-verso-la-morte-del-diritto/
LOCATION:Biblioteca Comunale\, Via Trieste 3\, Cassina de' Pecchi\, Italia
ATTACH;FMTTYPE=image/jpeg:https://www.centrostudilivatino.it/wp-content/uploads/2019/11/Suicidio-assistito-Respinti-27.11.19.jpg
END:VEVENT
BEGIN:VEVENT
DTSTART;TZID=UTC:20191125T150000
DTEND;TZID=UTC:20191125T180000
DTSTAMP:20260423T113559
CREATED:20191031T000957Z
LAST-MODIFIED:20191031T000957Z
UID:7107-1574694000-1574704800@www.centrostudilivatino.it
SUMMARY:Bologna (BO) - La non punibilità dell'aiuto al suicidio
DESCRIPTION:
URL:https://www.centrostudilivatino.it/event/bologna-bo-la-non-punibilita-dellaiuto-al-suicidio/
LOCATION:Aula Primo Zecchi “Sala delle colonne” – Tribunale di Bologna\, Via Farini 1\, Bologna\, Italia
ATTACH;FMTTYPE=image/jpeg:https://www.centrostudilivatino.it/wp-content/uploads/2019/10/la-non-punibilità-dellaiuto-al-suicidio.jpg
END:VEVENT
BEGIN:VEVENT
DTSTART;TZID=UTC:20191122T093000
DTEND;TZID=UTC:20191122T123000
DTSTAMP:20260423T113559
CREATED:20191108T174345Z
LAST-MODIFIED:20191108T174345Z
UID:7143-1574415000-1574425800@www.centrostudilivatino.it
SUMMARY:Alessandria (AL) - Etica\, diritto\, giustizia
DESCRIPTION:
URL:https://www.centrostudilivatino.it/event/alessandria-al-etica-diritto-giustizia/
LOCATION:Palazzo Borsalino\, Via Cavour 84\, Alessandria\, Italia
ATTACH;FMTTYPE=image/jpeg:https://www.centrostudilivatino.it/wp-content/uploads/2019/11/Brochure-Convegno-22-11-19.jpg
END:VEVENT
BEGIN:VEVENT
DTSTART;TZID=UTC:20191115T173000
DTEND;TZID=UTC:20191115T190000
DTSTAMP:20260423T113559
CREATED:20191107T153952Z
LAST-MODIFIED:20191107T153952Z
UID:7138-1573839000-1573844400@www.centrostudilivatino.it
SUMMARY:Novara (NO) - Il diritto di essere uccisi: verso la morte del diritto
DESCRIPTION:
URL:https://www.centrostudilivatino.it/event/novara-no-il-diritto-di-essere-uccisi-verso-la-morte-del-diritto/
LOCATION:Castello Visconteo Sforzesco\, Novata\, Italia
ATTACH;FMTTYPE=image/jpeg:https://www.centrostudilivatino.it/wp-content/uploads/2019/11/Diritto.jpg
END:VEVENT
END:VCALENDAR