BEGIN:VCALENDAR
VERSION:2.0
PRODID:-//Centro Studi Rosario Livatino - ECPv6.15.20//NONSGML v1.0//EN
CALSCALE:GREGORIAN
METHOD:PUBLISH
X-WR-CALNAME:Centro Studi Rosario Livatino
X-ORIGINAL-URL:https://www.centrostudilivatino.it
X-WR-CALDESC:Eventi per Centro Studi Rosario Livatino
REFRESH-INTERVAL;VALUE=DURATION:PT1H
X-Robots-Tag:noindex
X-PUBLISHED-TTL:PT1H
BEGIN:VTIMEZONE
TZID:UTC
BEGIN:STANDARD
TZOFFSETFROM:+0000
TZOFFSETTO:+0000
TZNAME:UTC
DTSTART:20180101T000000
END:STANDARD
END:VTIMEZONE
BEGIN:VEVENT
DTSTART;TZID=UTC:20191004T180000
DTEND;TZID=UTC:20191004T200000
DTSTAMP:20260424T082403
CREATED:20190903T161559Z
LAST-MODIFIED:20190903T161559Z
UID:6954-1570212000-1570219200@www.centrostudilivatino.it
SUMMARY:Sondrio (SO) - Il "diritto di essere uccisi: verso la morte del diritto?
DESCRIPTION:
URL:https://www.centrostudilivatino.it/event/sondrio-so-il-diritto-di-essere-uccisi-verso-la-morte-del-diritto/
LOCATION:Sala Vitali del Credito Valtellinese\, Via delle Pergole 1\, Sondrio\, 23100\, Italia
ATTACH;FMTTYPE=image/jpeg:https://www.centrostudilivatino.it/wp-content/uploads/2019/09/Mantovano_Sondrio.jpeg
END:VEVENT
BEGIN:VEVENT
DTSTART;TZID=UTC:20191003T204500
DTEND;TZID=UTC:20191003T230000
DTSTAMP:20260424T082403
CREATED:20190805T205557Z
LAST-MODIFIED:20190805T205557Z
UID:6902-1570135500-1570143600@www.centrostudilivatino.it
SUMMARY:Gravedona ed Uniti (CO) - DAT\, disposizioni anticipate di trattamento. L. 219 del 22/12/2017: un necessario approfondimento nell'alleanza medico-paziente
DESCRIPTION:
URL:https://www.centrostudilivatino.it/event/gravedona-ed-uniti-co-dat-disposizioni-anticipate-di-trattamento-l-219-del-22-12-2017-un-necessario-approfondimento-nellalleanza-medico-paziente/
LOCATION:Ospedale Gravedonia ed Uniti
ATTACH;FMTTYPE=image/jpeg:https://www.centrostudilivatino.it/wp-content/uploads/2019/08/Dat.jpg
END:VEVENT
BEGIN:VEVENT
DTSTART;TZID=UTC:20190928T090000
DTEND;TZID=UTC:20190929T130000
DTSTAMP:20260424T082403
CREATED:20190906T085217Z
LAST-MODIFIED:20190906T085906Z
UID:6961-1569661200-1569762000@www.centrostudilivatino.it
SUMMARY:Roma (RM) - Scuola di bioetica
DESCRIPTION:﻿
URL:https://www.centrostudilivatino.it/event/roma-ro-scuola-di-bioetica/
LOCATION:Villa Aurelia\, Via Leone XIII\, 459\, Roma\, Italia
ATTACH;FMTTYPE=image/jpeg:https://www.centrostudilivatino.it/wp-content/uploads/2019/09/Scuola-di-Bioetica-III-programma.jpg
END:VEVENT
BEGIN:VEVENT
DTSTART;TZID=UTC:20190921T163000
DTEND;TZID=UTC:20190921T190000
DTSTAMP:20260424T082403
CREATED:20190806T111319Z
LAST-MODIFIED:20190806T112445Z
UID:6910-1569083400-1569092400@www.centrostudilivatino.it
SUMMARY:Terni (TR) - Il "diritto" di essere uccisi: verso la morte del diritto?
DESCRIPTION:
URL:https://www.centrostudilivatino.it/event/terni-tr-il-diritto-di-essere-uccisi-verso-la-morte-del-diritto/
LOCATION:Parrocchia San Giuseppe Lavoratore\, Terni
ATTACH;FMTTYPE=image/jpeg:https://www.centrostudilivatino.it/wp-content/uploads/2019/08/7cd9bdbb-6b41-47d9-816d-5a34672765ef.jpeg
END:VEVENT
BEGIN:VEVENT
DTSTART;TZID=UTC:20190920T150000
DTEND;TZID=UTC:20190920T190000
DTSTAMP:20260424T082403
CREATED:20190806T110201Z
LAST-MODIFIED:20190819T163040Z
UID:6907-1568991600-1569006000@www.centrostudilivatino.it
SUMMARY:Roma (RM) - Fine-vita: deontologia e legge dello Stato
DESCRIPTION:
URL:https://www.centrostudilivatino.it/event/roma-rm-fine-vita-deontologia-e-legge-dello-stato/
LOCATION:Palazzo Maffei Marescotti\, Via della Pigna\, 13/A\, Roma\, Italia
ATTACH;FMTTYPE=image/jpeg:https://www.centrostudilivatino.it/wp-content/uploads/2019/08/locandina-fine-vita.jpg
END:VEVENT
BEGIN:VEVENT
DTSTART;TZID=UTC:20190914T191500
DTEND;TZID=UTC:20190914T210000
DTSTAMP:20260424T082403
CREATED:20190912T155123Z
LAST-MODIFIED:20190912T155123Z
UID:6969-1568488500-1568494800@www.centrostudilivatino.it
SUMMARY:Il "diritto" di essere uccisi: verso la morte del diritto?
DESCRIPTION:
URL:https://www.centrostudilivatino.it/event/il-diritto-di-essere-uccisi-verso-la-morte-del-diritto/
LOCATION:Caffè Al Centonove\, Corso Torino 113\, Rivarolo Canavese\, Italia
ATTACH;FMTTYPE=image/jpeg:https://www.centrostudilivatino.it/wp-content/uploads/2019/09/COCKTAIL-PARTY_csl.jpg
END:VEVENT
BEGIN:VEVENT
DTSTART;TZID=UTC:20190913T113000
DTEND;TZID=UTC:20190913T130000
DTSTAMP:20260424T082403
CREATED:20190819T164606Z
LAST-MODIFIED:20190819T164606Z
UID:6929-1568374200-1568379600@www.centrostudilivatino.it
SUMMARY:Bari (BA) - Il "diritto" di essere uccisi: verso la morte del diritto?
DESCRIPTION:
URL:https://www.centrostudilivatino.it/event/bari-ba-il-diritto-di-essere-uccisi-verso-la-morte-del-diritto/
LOCATION:Biblioteca Ordine Avvocati\, Tribunale di Bari\, Bari\, Italia
ATTACH;FMTTYPE=image/jpeg:https://www.centrostudilivatino.it/wp-content/uploads/2019/08/locandina-Convegno-Il-diritto-di-essere-uccisi.jpg
END:VEVENT
BEGIN:VEVENT
DTSTART;TZID=UTC:20190912T210000
DTEND;TZID=UTC:20190912T230000
DTSTAMP:20260424T082403
CREATED:20190726T093610Z
LAST-MODIFIED:20190826T115735Z
UID:6874-1568322000-1568329200@www.centrostudilivatino.it
SUMMARY:Milano (MI) - Il diritto di essere uccisi: verso la morte del diritto?
DESCRIPTION:
URL:https://www.centrostudilivatino.it/event/milano-mi-il-diritto-di-essere-uccidi-verso-la-morte-del-diritto/
LOCATION:Teatro Rosetum\, Via Pisanello 1\, MIlano\, 20146\, Italia
ATTACH;FMTTYPE=image/jpeg:https://www.centrostudilivatino.it/wp-content/uploads/2019/07/Locandina-incontro-12-settembre.jpeg
END:VEVENT
BEGIN:VEVENT
DTSTART;TZID=UTC:20190912T150000
DTEND;TZID=UTC:20190912T180000
DTSTAMP:20260424T082403
CREATED:20190805T204952Z
LAST-MODIFIED:20190805T204952Z
UID:6898-1568300400-1568311200@www.centrostudilivatino.it
SUMMARY:Cesena (FC) - Il cd. suicidio assistito: un "diritto"?
DESCRIPTION:
URL:https://www.centrostudilivatino.it/event/cesena-fc-il-cd-suicidio-assistito-un-diritto/
LOCATION:Palazzo Ghini – Cesena
ATTACH;FMTTYPE=image/jpeg:https://www.centrostudilivatino.it/wp-content/uploads/2019/08/diritto-di-vivere.jpg
END:VEVENT
BEGIN:VEVENT
DTSTART;TZID=UTC:20190911T150000
DTEND;TZID=UTC:20190911T190000
DTSTAMP:20260424T082403
CREATED:20190805T204638Z
LAST-MODIFIED:20190905T172512Z
UID:6895-1568214000-1568228400@www.centrostudilivatino.it
SUMMARY:Roma (RM) - Eutanasia e suicidio assistito
DESCRIPTION:Quale dignità della morte e del morire?
URL:https://www.centrostudilivatino.it/event/roma-rm-eutanasia-e-suicidio-assistito/
ATTACH;FMTTYPE=image/jpeg:https://www.centrostudilivatino.it/wp-content/uploads/2019/08/IMG-20190903-WA0001.jpeg
END:VEVENT
BEGIN:VEVENT
DTSTART;TZID=UTC:20190907T110000
DTEND;TZID=UTC:20190908T130000
DTSTAMP:20260424T082403
CREATED:20190722T172646Z
LAST-MODIFIED:20190722T172900Z
UID:6866-1567854000-1567947600@www.centrostudilivatino.it
SUMMARY:Todi (PG) - Educare per il domani
DESCRIPTION:
URL:https://www.centrostudilivatino.it/event/todi-pg-educare-per-il-domani/
LOCATION:Palazzi Comunali\, Piazza del Popolo\, Todi (PG)\, Italia
ATTACH;FMTTYPE=image/jpeg:https://www.centrostudilivatino.it/wp-content/uploads/2019/07/educare-per-il-domani.jpg
END:VEVENT
BEGIN:VEVENT
DTSTART;TZID=UTC:20190711T150000
DTEND;TZID=UTC:20190711T190000
DTSTAMP:20260424T082403
CREATED:20190702T213059Z
LAST-MODIFIED:20190702T213059Z
UID:6818-1562857200-1562871600@www.centrostudilivatino.it
SUMMARY:Roma (RM) - "Diritto" o "condanna" a morire per vite "inutili"?
DESCRIPTION:
URL:https://www.centrostudilivatino.it/event/roma-rm-diritto-o-condanna-a-morire-per-vite-inutili/
LOCATION:Palazzo Maffei Marescotti\, Via della Pigna\, 13/A\, Roma\, Italia
ATTACH;FMTTYPE=image/jpeg:https://www.centrostudilivatino.it/wp-content/uploads/2019/07/diritto-o-condanna-a-morire-per-vite-inutili.jpeg
END:VEVENT
BEGIN:VEVENT
DTSTART;TZID=UTC:20190628T183000
DTEND;TZID=UTC:20190628T203000
DTSTAMP:20260424T082403
CREATED:20190620T163717Z
LAST-MODIFIED:20190620T163812Z
UID:6776-1561746600-1561753800@www.centrostudilivatino.it
SUMMARY:Potenza (PZ) - Dallo stato centralista al modello federale: il regionalismo differenziato\, un'opportunità per il Mezzogiorno?
DESCRIPTION:
URL:https://www.centrostudilivatino.it/event/potenza-pz-dallo-stato-centralista-al-modello-federale-il-regionalismo-differenziato-unopportunita-per-il-mezzogiorno/
LOCATION:Giubileo Hotel\, SS 92 Loc. Turistica Rifreddo Pignola\, 85010\, Potenza\, Italia
ATTACH;FMTTYPE=image/jpeg:https://www.centrostudilivatino.it/wp-content/uploads/2019/06/Dallo-stato-centralista-al-modello-federale.jpg
END:VEVENT
BEGIN:VEVENT
DTSTART;TZID=UTC:20190621T180000
DTEND;TZID=UTC:20190621T200000
DTSTAMP:20260424T082403
CREATED:20190605T144314Z
LAST-MODIFIED:20190605T144329Z
UID:6705-1561140000-1561147200@www.centrostudilivatino.it
SUMMARY:Saluzzo (CN) - Il "diritto" di essere uccisi: verso la morte del diritto?
DESCRIPTION:
URL:https://www.centrostudilivatino.it/event/saluzzo-cn-il-diritto-di-essere-uccisi-verso-la-morte-del-diritto/
LOCATION:Seminario Vescovile\, Via della Consolata 4\, Saluzzo (CN)\, Italia
ATTACH;FMTTYPE=image/jpeg:https://www.centrostudilivatino.it/wp-content/uploads/2019/06/ronco_saluzzo.jpg
END:VEVENT
BEGIN:VEVENT
DTSTART;TZID=UTC:20190620T143000
DTEND;TZID=UTC:20190620T183000
DTSTAMP:20260424T082403
CREATED:20190412T170105Z
LAST-MODIFIED:20190412T170105Z
UID:6479-1561041000-1561055400@www.centrostudilivatino.it
SUMMARY:Monza (MB) - Immigrazione questioni aperte: integrazione\, sicurezza\, cittadinanza
DESCRIPTION:
URL:https://www.centrostudilivatino.it/event/monza-mb-immigrazione-questioni-aperte-integrazione-sicurezza-cittadinanza/
LOCATION:Istituto scolastico Leone Dehon\, Via Appiani\, 1\, Monza\, Italia
ATTACH;FMTTYPE=image/jpeg:https://www.centrostudilivatino.it/wp-content/uploads/2019/04/Immigrazione-questioni-aperte.jpg
END:VEVENT
BEGIN:VEVENT
DTSTART;TZID=UTC:20190615T190000
DTEND;TZID=UTC:20190615T233000
DTSTAMP:20260424T082403
CREATED:20190614T104057Z
LAST-MODIFIED:20190614T104057Z
UID:6766-1560625200-1560641400@www.centrostudilivatino.it
SUMMARY:Casarano (LE) - Meeting della famiglia
DESCRIPTION:
URL:https://www.centrostudilivatino.it/event/casarano-le-meeting-della-famiglia/
LOCATION:Palazzetto dello sport – Euroitalia\, Casarano (Le)\, Italia
ATTACH;FMTTYPE=image/jpeg:https://www.centrostudilivatino.it/wp-content/uploads/2019/06/meeting-della-famiglia.jpg
END:VEVENT
BEGIN:VEVENT
DTSTART;TZID=UTC:20190614T160000
DTEND;TZID=UTC:20190614T180000
DTSTAMP:20260424T082403
CREATED:20190606T195838Z
LAST-MODIFIED:20190606T195951Z
UID:6722-1560528000-1560535200@www.centrostudilivatino.it
SUMMARY:Salerno (SA) - Il diritto ai confini della vita
DESCRIPTION:
URL:https://www.centrostudilivatino.it/event/il-diritto-ai-confini-della-vita/
LOCATION:Palazzo Sant’Agostino\, Salerno
ATTACH;FMTTYPE=image/jpeg:https://www.centrostudilivatino.it/wp-content/uploads/2019/06/IL-DIRITTO-AI-CONFINI-DELLA-VITA.jpg
END:VEVENT
BEGIN:VEVENT
DTSTART;TZID=UTC:20190607T211500
DTEND;TZID=UTC:20190607T230000
DTSTAMP:20260424T082403
CREATED:20190430T223155Z
LAST-MODIFIED:20190430T223155Z
UID:6528-1559942100-1559948400@www.centrostudilivatino.it
SUMMARY:Viareggio (LU) - Libertà dalla droga. Miti e realtà
DESCRIPTION:
URL:https://www.centrostudilivatino.it/event/viareggio-lu-liberta-dalla-droga-miti-e-realta-2/
LOCATION:Teatro della Parrocchia S. Rita\, Via dei lecci 95\, Viareggio\, Italy
ATTACH;FMTTYPE=image/jpeg:https://www.centrostudilivatino.it/wp-content/uploads/2019/04/libertàdalladroga_viareggio_solomant.jpeg
END:VEVENT
BEGIN:VEVENT
DTSTART;TZID=UTC:20190607T163000
DTEND;TZID=UTC:20190607T183000
DTSTAMP:20260424T082403
CREATED:20190520T153013Z
LAST-MODIFIED:20190520T153013Z
UID:6613-1559925000-1559932200@www.centrostudilivatino.it
SUMMARY:Pisa (PI) - Immigrazione e sicurezza dopo il d.l. 113/2018
DESCRIPTION:
URL:https://www.centrostudilivatino.it/event/pisa-pi-immigrazione-e-sicurezza-dopo-il-d-l-113-2018/
LOCATION:Comune di Pisa\, Piazza Gambacorti - sala "delle Baleari"\, Pisa\, Italia
ATTACH;FMTTYPE=image/jpeg:https://www.centrostudilivatino.it/wp-content/uploads/2019/05/Pisa-7-giugno-IMMIGRAZIONE-E-SICUREZZA.jpeg
END:VEVENT
BEGIN:VEVENT
DTSTART;TZID=UTC:20190604T103000
DTEND;TZID=UTC:20190604T130000
DTSTAMP:20260424T082403
CREATED:20190530T132210Z
LAST-MODIFIED:20190530T132210Z
UID:6662-1559644200-1559653200@www.centrostudilivatino.it
SUMMARY:Roma (RM) - Liberi e forti
DESCRIPTION:
URL:https://www.centrostudilivatino.it/event/roma-rm-liberi-e-forti/
LOCATION:Palazzo Giustiniani – Sala Zuccari\, Via della Dogana Vecchia. 29\, Roma\, Italia
ATTACH;FMTTYPE=image/jpeg:https://www.centrostudilivatino.it/wp-content/uploads/2019/05/liberi-e-forti.jpg
END:VEVENT
BEGIN:VEVENT
DTSTART;TZID=UTC:20190529T210000
DTEND;TZID=UTC:20190529T230000
DTSTAMP:20260424T082403
CREATED:20190506T132517Z
LAST-MODIFIED:20190507T081934Z
UID:6554-1559163600-1559170800@www.centrostudilivatino.it
SUMMARY:Milano (MI) - C'è ancora libertà di pensiero?
DESCRIPTION:
URL:https://www.centrostudilivatino.it/event/ce-ancora-liberta-di-pensiero/
LOCATION:Centro Culturale Angelicum\, Via Renzo Bertoni 7\, Milano
ATTACH;FMTTYPE=image/jpeg:https://www.centrostudilivatino.it/wp-content/uploads/2019/05/locandina-29-maggio-2019-MI.jpg
END:VEVENT
BEGIN:VEVENT
DTSTART;TZID=UTC:20190527T080000
DTEND;TZID=UTC:20190527T170000
DTSTAMP:20260424T082403
CREATED:20190527T143652Z
LAST-MODIFIED:20210513T113329Z
UID:6656-1558944000-1558976400@www.centrostudilivatino.it
SUMMARY:Velletri (RM) - Inaugurazione biblioteca "Rosario Livatino"
DESCRIPTION:
URL:https://www.centrostudilivatino.it/event/velletri-rm-inaugurazione-biblioteca-rosario-livatino/
LOCATION:Ipssar Ugo Tognazzi\, Viale Salvo D'Acquisto\, 61/a/b/c\, Velletri\, 00049\, Italia
ATTACH;FMTTYPE=image/jpeg:https://www.centrostudilivatino.it/wp-content/uploads/2019/05/biblioteca-Rosario-Livatino.jpg
END:VEVENT
BEGIN:VEVENT
DTSTART;TZID=UTC:20190518T100000
DTEND;TZID=UTC:20190518T130000
DTSTAMP:20260424T082403
CREATED:20190416T120621Z
LAST-MODIFIED:20190416T120621Z
UID:6487-1558173600-1558184400@www.centrostudilivatino.it
SUMMARY:Roma (RM) - Convegno "È ancora vita!"
DESCRIPTION:
URL:https://www.centrostudilivatino.it/event/roma-rm-convegno-e-ancora-vita/
LOCATION:Lumsa Università\, Via di Porta Castello 44\, Roma\, Italia
ATTACH;FMTTYPE=image/jpeg:https://www.centrostudilivatino.it/wp-content/uploads/2019/04/eutanasia-invito-fronte.jpg
END:VEVENT
BEGIN:VEVENT
DTSTART;TZID=UTC:20190517T150000
DTEND;TZID=UTC:20190517T180000
DTSTAMP:20260424T082403
CREATED:20190503T134240Z
LAST-MODIFIED:20190503T134240Z
UID:6538-1558105200-1558116000@www.centrostudilivatino.it
SUMMARY:Salerno (SA) - Vietato essere bambini. Le baby gang tra disagio esistenziale e scelte di politica criminale
DESCRIPTION:
URL:https://www.centrostudilivatino.it/event/salerno-sa-vietato-essere-bambini-le-baby-gang-tra-disagio-esistenziale-e-scelte-di-politica-criminale/
LOCATION:Salone Rappresentanza presso Provincia di Salerno\, Salerno\, Italia
ATTACH;FMTTYPE=image/jpeg:https://www.centrostudilivatino.it/wp-content/uploads/2019/05/vietato-essere-bambini.jpg
END:VEVENT
BEGIN:VEVENT
DTSTART;TZID=UTC:20190511T100000
DTEND;TZID=UTC:20190511T130000
DTSTAMP:20260424T082403
CREATED:20190503T133733Z
LAST-MODIFIED:20190503T133733Z
UID:6534-1557568800-1557579600@www.centrostudilivatino.it
SUMMARY:Palermo (PA) - Strumenti a tutela della genitorialità nell'interesse superiore del minore.
DESCRIPTION:Prospettive di riforma nel diritto di famiglia per la continuità delle relazioni familiari.
URL:https://www.centrostudilivatino.it/event/palermo-pa-strumenti-a-tutela-della-genitorialita-nellinteresse-superiore-del-minore/
LOCATION:Palazzo di Giustizia – Aula Magna Corte di Appello\, Palermo\, Italia
ATTACH;FMTTYPE=image/jpeg:https://www.centrostudilivatino.it/wp-content/uploads/2019/05/strumenti-a-tutela-della-genitorialità-nellinteresse-superiore-del-minore.jpg
END:VEVENT
BEGIN:VEVENT
DTSTART;TZID=UTC:20190509T210000
DTEND;TZID=UTC:20190509T230000
DTSTAMP:20260424T082403
CREATED:20190409T143509Z
LAST-MODIFIED:20190409T143509Z
UID:6457-1557435600-1557442800@www.centrostudilivatino.it
SUMMARY:Roma (RM) - L'Europa in prossimità del voto; sciogliere o riformare l'UE?
DESCRIPTION:
URL:https://www.centrostudilivatino.it/event/roma-rm-leuropa-in-prossimita-del-voto-sciogliere-o-riformare-lue/
LOCATION:Alleanza Cattolica – Roma\, Viale Parioli 40\, Roma\, Italia
ATTACH;FMTTYPE=image/jpeg:https://www.centrostudilivatino.it/wp-content/uploads/2019/04/Quale-via-per-lEuropa.jpeg
END:VEVENT
BEGIN:VEVENT
DTSTART;TZID=UTC:20190504T210000
DTEND;TZID=UTC:20190504T230000
DTSTAMP:20260424T082403
CREATED:20190418T113758Z
LAST-MODIFIED:20190418T113758Z
UID:6496-1557003600-1557010800@www.centrostudilivatino.it
SUMMARY:Capergnanica (CR) - Il giudice 'santo'. Rosario Livatino: un modello per i giuristi\, un testimone dei nostri tempi
DESCRIPTION:
URL:https://www.centrostudilivatino.it/event/capergnanica-cr-il-giudice-santo-rosario-livatino-un-modello-per-i-giuristi-un-testimone-dei-nostri-tempi/
ATTACH;FMTTYPE=image/jpeg:https://www.centrostudilivatino.it/wp-content/uploads/2019/04/Airoma-Livatino-il-giudice-santo.jpg
END:VEVENT
BEGIN:VEVENT
DTSTART;TZID=UTC:20190415T210000
DTEND;TZID=UTC:20190415T230000
DTSTAMP:20260424T082403
CREATED:20190401T113748Z
LAST-MODIFIED:20190401T113748Z
UID:6376-1555362000-1555369200@www.centrostudilivatino.it
SUMMARY:Cantù (CO) - Immigrazione e sicurezza. Un approccio non ideologico
DESCRIPTION:
URL:https://www.centrostudilivatino.it/event/cantu-co-immigrazione-e-sicurezza-un-approccio-non-ideologico/
LOCATION:Sala Convegni “Giovanni Zampese”\, Corso Unità d'Italia 11\, Cantù (CO)\, Italia
ATTACH;FMTTYPE=image/jpeg:https://www.centrostudilivatino.it/wp-content/uploads/2019/04/immigrazione-e-sicurezza.jpg
END:VEVENT
BEGIN:VEVENT
DTSTART;TZID=UTC:20190413T163000
DTEND;TZID=UTC:20190413T190000
DTSTAMP:20260424T082403
CREATED:20190403T171417Z
LAST-MODIFIED:20190403T171417Z
UID:6419-1555173000-1555182000@www.centrostudilivatino.it
SUMMARY:Pescara (PE) - Pillola del giorno dopo e obiezione di coscienza
DESCRIPTION:
URL:https://www.centrostudilivatino.it/event/pescara-pe-pillola-del-giorno-dopo-e-obiezione-di-coscienza/
LOCATION:Sala dei Marmi della Provincia di Pescara\, Pescara\, Italia
ATTACH;FMTTYPE=image/jpeg:https://www.centrostudilivatino.it/wp-content/uploads/2019/04/convegno-pillola-del-giorno-dopo.jpg
END:VEVENT
BEGIN:VEVENT
DTSTART;TZID=UTC:20190412T204500
DTEND;TZID=UTC:20190412T220000
DTSTAMP:20260424T082403
CREATED:20190319T174007Z
LAST-MODIFIED:20190319T181050Z
UID:6345-1555101900-1555106400@www.centrostudilivatino.it
SUMMARY:Verona (VR) - 2017: Dat - Testamento biologico
DESCRIPTION:Conferenza di Alfredo Mantovano\, con Renzo Puccetti e Francesca Caloi.
URL:https://www.centrostudilivatino.it/event/verona-vr-filosofia-scienza-e-diritto-sono-ancora-al-servizio-delluomo/
LOCATION:Auditorium del Centro Polifunzionale Don Calabria\, Via San Marco 121\, Verona\, Italia
ATTACH;FMTTYPE=image/jpeg:https://www.centrostudilivatino.it/wp-content/uploads/2019/03/filosofia-e-scienza.jpg
END:VEVENT
END:VCALENDAR