BEGIN:VCALENDAR
VERSION:2.0
PRODID:-//Centro Studi Rosario Livatino - ECPv6.15.20//NONSGML v1.0//EN
CALSCALE:GREGORIAN
METHOD:PUBLISH
X-WR-CALNAME:Centro Studi Rosario Livatino
X-ORIGINAL-URL:https://www.centrostudilivatino.it
X-WR-CALDESC:Eventi per Centro Studi Rosario Livatino
REFRESH-INTERVAL;VALUE=DURATION:PT1H
X-Robots-Tag:noindex
X-PUBLISHED-TTL:PT1H
BEGIN:VTIMEZONE
TZID:UTC
BEGIN:STANDARD
TZOFFSETFROM:+0000
TZOFFSETTO:+0000
TZNAME:UTC
DTSTART:20170101T000000
END:STANDARD
END:VTIMEZONE
BEGIN:VEVENT
DTSTART;TZID=UTC:20190411T173000
DTEND;TZID=UTC:20190411T190000
DTSTAMP:20260424T233347
CREATED:20190410T162651Z
LAST-MODIFIED:20190410T162651Z
UID:6463-1555003800-1555009200@www.centrostudilivatino.it
SUMMARY:Bologna (BO) - Sì alle leggi per la famiglia. No alla legge sulla omotransnegatività
DESCRIPTION:
URL:https://www.centrostudilivatino.it/event/bologna-bo-si-alle-leggi-per-la-famiglia-no-alla-legge-sulla-omotransnegativita/
LOCATION:Sala G. Fanti – Regione Emilia-Romagna\, Via Aldo Moro 50\, Bologna\, Italia
ATTACH;FMTTYPE=image/jpeg:https://www.centrostudilivatino.it/wp-content/uploads/2019/04/Sì-alle-leggi-per-la-famiglia-giovedì-11-aprile-2019.jpg
END:VEVENT
BEGIN:VEVENT
DTSTART;TZID=UTC:20190406T143000
DTEND;TZID=UTC:20190406T183000
DTSTAMP:20260424T233347
CREATED:20190323T085225Z
LAST-MODIFIED:20190323T085225Z
UID:6355-1554561000-1554575400@www.centrostudilivatino.it
SUMMARY:Rimini (RM) - Cultura della Pentecoste
DESCRIPTION:
URL:https://www.centrostudilivatino.it/event/rimini-rm-cultura-della-pentecoste/
LOCATION:Fiera di Rimini\, Via Emilia 155\, Rimini\, Italia
ATTACH;FMTTYPE=image/jpeg:https://www.centrostudilivatino.it/wp-content/uploads/2019/03/rns-convocazione-nazionale.jpg
END:VEVENT
BEGIN:VEVENT
DTSTART;TZID=UTC:20190403T150000
DTEND;TZID=UTC:20190403T183000
DTSTAMP:20260424T233347
CREATED:20190315T143551Z
LAST-MODIFIED:20190327T164958Z
UID:6333-1554303600-1554316200@www.centrostudilivatino.it
SUMMARY:Roma (RM) - La libertà è inviolabile. Anche quella di coscienza
DESCRIPTION:I lavori prenderanno avvio con i saluti del Senatore Prof. Gaetano Quagliariello (Presidente Fondazione Magna Carta). Introdurrà il tema il Prof. Alberto Gambino (Giurista\, pro-rettore Univ. Europea\, Roma; Presidente Scienza & Vita). Modererà l’incontro il Dott. Paolo Marchionni (Medico Legale\, ASUR Marche; Vice presidente Scienza & Vita). \nInterverranno: Prof. Maurizio Faggioni (Teologo Morale e Bioeticista\, Accademia Alfonsiana\, Roma)\, Prof. Renato Balduzzi Costituzionalista\, Univ. Cattolica del Sacro Cuore\, Milano)\, Prof. Domenico Airoma (Procuratore della Repubblica aggiunto\, Napoli Nord)\, Prof.ssa Marina Casini (Bioeticista\, Univ. Cattolica Sacro Cuore\, Roma; Presidente MPV)\, Dott.ssa Emanuela Lulli (Medico di Medicina Generale e Ginecologo\, Pesaro). Concluderà i lavori il Prof. Cesare Mirabelli (Presidente emerito Corte Costituzionale).
URL:https://www.centrostudilivatino.it/event/la-liberta-e-inviolabile-anche-quella-di-coscienza/
LOCATION:Sala dell’istituto di Santa Maria in Aquiro\, Piazza Caprenica 72\, Roma\, Italia
ATTACH;FMTTYPE=image/jpeg:https://www.centrostudilivatino.it/wp-content/uploads/2019/03/SV-La-libertà-è-inviolabile.-Anche-quella-di-coscienza_-3-Aprile-2019-600x397.jpg
END:VEVENT
BEGIN:VEVENT
DTSTART;TZID=UTC:20190330T100000
DTEND;TZID=UTC:20190330T130000
DTSTAMP:20260424T233347
CREATED:20190327T164744Z
LAST-MODIFIED:20190327T164833Z
UID:6368-1553940000-1553950800@www.centrostudilivatino.it
SUMMARY:Cosenza (CS) - Diritto penale ed emergenze sociali nel meridione: aspetti storici e giuridici
DESCRIPTION:
URL:https://www.centrostudilivatino.it/event/diritto-penale-ed-emergenze-sociali-nel-meridione/
LOCATION:Consiglio Ordine Avvocati\, Cosenza\, Italia
ATTACH;FMTTYPE=image/jpeg:https://www.centrostudilivatino.it/wp-content/uploads/2019/03/Diritto-Penale-nel-meridione.jpg
END:VEVENT
BEGIN:VEVENT
DTSTART;TZID=UTC:20190326T170000
DTEND;TZID=UTC:20190326T190000
DTSTAMP:20260424T233347
CREATED:20190305T160214Z
LAST-MODIFIED:20190305T160214Z
UID:6299-1553619600-1553626800@www.centrostudilivatino.it
SUMMARY:Islam: un problema politico. Decimo rapporto sulla Dottrina sociale della Chiesa
DESCRIPTION:
URL:https://www.centrostudilivatino.it/event/islam-un-problema-politico-decimo-rapporto-sulla-dottrina-sociale-della-chiesa/
LOCATION:Radio Vaticana – Sala Marconi\, Piazza Pia 3\, Roma\, Italia
ATTACH;FMTTYPE=image/jpeg:https://www.centrostudilivatino.it/wp-content/uploads/2019/03/Programma-X-Rapporto-DSC.jpg
END:VEVENT
BEGIN:VEVENT
DTSTART;TZID=UTC:20190316T190000
DTEND;TZID=UTC:20190316T210000
DTSTAMP:20260424T233347
CREATED:20190222T080859Z
LAST-MODIFIED:20190222T080859Z
UID:6282-1552762800-1552770000@www.centrostudilivatino.it
SUMMARY:Mesagne (BR) - Sub tutela Dei. Livatino\, testimone di fede e di diritto
DESCRIPTION:
URL:https://www.centrostudilivatino.it/event/mesagne-br-sub-tutela-dei-livatino-testimone-di-fede-e-di-diritto/
LOCATION:Teatro comunale di Mesagne (BR)\, Italy
ATTACH;FMTTYPE=image/jpeg:https://www.centrostudilivatino.it/wp-content/uploads/2019/02/livatino-testimone-fede.jpeg
END:VEVENT
BEGIN:VEVENT
DTSTART;TZID=UTC:20190222T150000
DTEND;TZID=UTC:20190222T180000
DTSTAMP:20260424T233347
CREATED:20181218T180747Z
LAST-MODIFIED:20190214T164559Z
UID:6129-1550847600-1550858400@www.centrostudilivatino.it
SUMMARY:Roma - L'ordinanza n.207 del 2018 tra aiuto al suicidio e trasformazione del ruolo della Corte Costituzionale
DESCRIPTION:
URL:https://www.centrostudilivatino.it/event/lordinanza-n-207-del-2018-tra-aiuto-al-suicidio-e-trasformazione-del-ruolo-della-corte-costituzionale/
LOCATION:Università Europea di Roma\, Via degli Aldobrandeschi 190\, Roma\, Italia
ATTACH;FMTTYPE=image/jpeg:https://www.centrostudilivatino.it/wp-content/uploads/2018/12/incontro-22-febbraio-2019-con-interventi-agg.jpg
END:VEVENT
BEGIN:VEVENT
DTSTART;TZID=UTC:20190212T173000
DTEND;TZID=UTC:20190212T190000
DTSTAMP:20260424T233347
CREATED:20190206T123538Z
LAST-MODIFIED:20190206T123538Z
UID:6216-1549992600-1549998000@www.centrostudilivatino.it
SUMMARY:Roma - Eluana\, la battaglia continua...
DESCRIPTION:
URL:https://www.centrostudilivatino.it/event/roma-eluana-la-battaglia-continua/
LOCATION:Sala degli Atti Parlamentari\, Piazza della Minerva 38\, Roma\, Italia
ATTACH;FMTTYPE=image/jpeg:https://www.centrostudilivatino.it/wp-content/uploads/2019/02/Locandina_libro_Eluana.001.jpeg
END:VEVENT
BEGIN:VEVENT
DTSTART;TZID=UTC:20190209T150000
DTEND;TZID=UTC:20190209T180000
DTSTAMP:20260424T233347
CREATED:20190111T135402Z
LAST-MODIFIED:20190111T135849Z
UID:6171-1549724400-1549735200@www.centrostudilivatino.it
SUMMARY:Milano - Quale Europa? Oltre l'alternativa sovranismo/europeismo
DESCRIPTION:
URL:https://www.centrostudilivatino.it/event/quale-europa-oltre-lalternativa-sovranismo-europeismo/
LOCATION:Teatro Rosetum\, Via Pisanello 1\, MIlano\, 20146\, Italia
ATTACH;FMTTYPE=image/jpeg:https://www.centrostudilivatino.it/wp-content/uploads/2019/01/programma-evento_090219-Rosetum-3.jpg
END:VEVENT
BEGIN:VEVENT
DTSTART;TZID=UTC:20190208T174500
DTEND;TZID=UTC:20190208T193000
DTSTAMP:20260424T233347
CREATED:20190130T210135Z
LAST-MODIFIED:20190130T210135Z
UID:6191-1549647900-1549654200@www.centrostudilivatino.it
SUMMARY:Genova - Sicurezza ed immigrazione
DESCRIPTION:
URL:https://www.centrostudilivatino.it/event/genova-sicurezza-ed-immigrazione/
LOCATION:Teatro Carlo Felice\, Largo Sandro Pertini\, Genova\, Italia
ATTACH;FMTTYPE=image/jpeg:https://www.centrostudilivatino.it/wp-content/uploads/2019/01/2019-02-08-Genova_Decreto_sicurezza-vers.-Def.jpg
END:VEVENT
BEGIN:VEVENT
DTSTART;TZID=UTC:20190119T104500
DTEND;TZID=UTC:20190119T130000
DTSTAMP:20260424T233347
CREATED:20190111T135804Z
LAST-MODIFIED:20190111T135804Z
UID:6176-1547894700-1547902800@www.centrostudilivatino.it
SUMMARY:Verona (VR) - Il business della cannabis sulla pelle dei nostri figli
DESCRIPTION:
URL:https://www.centrostudilivatino.it/event/verona-vr-il-business-della-cannabis-sulla-pelle-dei-nostri-figli/
LOCATION:Sala Ater\, Via Lenotti\, Angolo Piazza Pozza\, Verona\, Italia
ATTACH;FMTTYPE=image/jpeg:https://www.centrostudilivatino.it/wp-content/uploads/2019/01/locandina-19-gennaio-2019.jpg
END:VEVENT
BEGIN:VEVENT
DTSTART;TZID=UTC:20181220T190000
DTEND;TZID=UTC:20181220T210000
DTSTAMP:20260424T233347
CREATED:20181217T151137Z
LAST-MODIFIED:20181217T151137Z
UID:6124-1545332400-1545339600@www.centrostudilivatino.it
SUMMARY:Vernole (LE) - Andiamo fino a Betlemme
DESCRIPTION:
URL:https://www.centrostudilivatino.it/event/vernole-le-andiamo-fino-a-betlemme/
LOCATION:Chiesa Parrocchiale Vernole (LE)\, Vernole\, Italia
ATTACH;FMTTYPE=image/jpeg:https://www.centrostudilivatino.it/wp-content/uploads/2018/12/andiamo-fino-a-betlemme.jpg
END:VEVENT
BEGIN:VEVENT
DTSTART;TZID=UTC:20181218T153000
DTEND;TZID=UTC:20181218T170000
DTSTAMP:20260424T233347
CREATED:20181207T174014Z
LAST-MODIFIED:20210513T113258Z
UID:6111-1545147000-1545152400@www.centrostudilivatino.it
SUMMARY:Salerno - Rosario Livatino. Un modello per i giuristi\, un testimone per i nostri tempi
DESCRIPTION:
URL:https://www.centrostudilivatino.it/event/salerno-rosario-livatino-un-modello-per-i-giuristi-un-testimone-per-i-nostri-tempi/
ATTACH;FMTTYPE=image/jpeg:https://www.centrostudilivatino.it/wp-content/uploads/2018/12/livatino-un-modello.jpg
END:VEVENT
BEGIN:VEVENT
DTSTART;TZID=UTC:20181212T104500
DTEND;TZID=UTC:20181212T123000
DTSTAMP:20260424T233347
CREATED:20181207T173708Z
LAST-MODIFIED:20181207T173708Z
UID:6108-1544611500-1544617800@www.centrostudilivatino.it
SUMMARY:Roma - Il fine vita e l'ordinanza n.207 del 2018 della Corte Costituzionale
DESCRIPTION:
URL:https://www.centrostudilivatino.it/event/roma-il-fine-vita-e-lordinanza-n-207-del-2018-della-corte-costituzionale/
LOCATION:Università Europea di Roma\, Via degli Aldobrandeschi 190\, Roma\, Italia
ATTACH;FMTTYPE=image/jpeg:https://www.centrostudilivatino.it/wp-content/uploads/2018/12/lezione-olivetti-5.jpg
END:VEVENT
BEGIN:VEVENT
DTSTART;TZID=UTC:20181210T100000
DTEND;TZID=UTC:20181210T170000
DTSTAMP:20260424T233347
CREATED:20181126T152444Z
LAST-MODIFIED:20181126T152444Z
UID:6083-1544436000-1544461200@www.centrostudilivatino.it
SUMMARY:Verona - Nuove sostanze psicoattive: uno scenario tossicologico in evoluzione
DESCRIPTION:
URL:https://www.centrostudilivatino.it/event/verona-nuove-sostanze-psicoattive-uno-scenario-tossicologico-in-evoluzione/
LOCATION:Palazzo della Granguardia\, Piazza Brà\, Verona\, Italia
ATTACH;FMTTYPE=image/jpeg:https://www.centrostudilivatino.it/wp-content/uploads/2018/11/NPS-10-dicembre-LOCANDINA-VERTICALE.jpg
END:VEVENT
BEGIN:VEVENT
DTSTART;TZID=UTC:20181206T180000
DTEND;TZID=UTC:20181206T200000
DTSTAMP:20260424T233347
CREATED:20181126T154652Z
LAST-MODIFIED:20181126T154734Z
UID:6088-1544119200-1544126400@www.centrostudilivatino.it
SUMMARY:Napoli - Schiavi del desiderio. Politica e diritto al tempo della dittatura del relativismo
DESCRIPTION:
URL:https://www.centrostudilivatino.it/event/napoli-schiavi-del-desiderio-politica-e-diritto-al-tempo-della-dittatura-del-relativismo/
LOCATION:Istituto Sacro Cuore\, Corso Europa 84\, Napoli\, Italia
ATTACH;FMTTYPE=image/jpeg:https://www.centrostudilivatino.it/wp-content/uploads/2018/11/6-dicembre-bis.jpg
END:VEVENT
BEGIN:VEVENT
DTSTART;TZID=UTC:20181124T120000
DTEND;TZID=UTC:20181124T130000
DTSTAMP:20260424T233347
CREATED:20181122T144826Z
LAST-MODIFIED:20181122T144826Z
UID:6050-1543060800-1543064400@www.centrostudilivatino.it
SUMMARY:San Marino - Disposizioni Anticipate di Trattamento e Consenso Informato
DESCRIPTION:Nell’ambito del 2° Congresso Nazionale Cure Territoriali\, sabato 24 novembre si terrà la tavola rotonda “Disposizioni Anticipate di Trattamento e Consenso Informato”\, alla quale parteciperà – tra gli altri – l’avvocato Margherita Prandi\, del Centro Studi Livatino
URL:https://www.centrostudilivatino.it/event/disposizioni-anticipate-trattamento-consenso-informato/
LOCATION:Centro Congressi Hotel Palace\, San Marino
ATTACH;FMTTYPE=image/jpeg:https://www.centrostudilivatino.it/wp-content/uploads/2018/11/cure-territoriali.jpg
END:VEVENT
BEGIN:VEVENT
DTSTART;TZID=UTC:20181117T210000
DTEND;TZID=UTC:20181117T230000
DTSTAMP:20260424T233347
CREATED:20181106T095829Z
LAST-MODIFIED:20181106T095829Z
UID:6011-1542488400-1542495600@www.centrostudilivatino.it
SUMMARY:L'obiezione di coscienza a rischio
DESCRIPTION:
URL:https://www.centrostudilivatino.it/event/lobiezione-di-coscienza-a-rischio/
LOCATION:Teatro dei Frati Cappuccini\, Via Rubiera\, San Martino in Rio (RE)\, Italia
ATTACH;FMTTYPE=image/jpeg:https://www.centrostudilivatino.it/wp-content/uploads/2018/11/Alfredo-Mantovano-Obiezione-di-coscienza-2.jpg
END:VEVENT
BEGIN:VEVENT
DTSTART;TZID=UTC:20181116T150000
DTEND;TZID=UTC:20181116T190000
DTSTAMP:20260424T233347
CREATED:20180929T192341Z
LAST-MODIFIED:20181001T131639Z
UID:5866-1542380400-1542394800@www.centrostudilivatino.it
SUMMARY:La tutela della vita nell’ordinamento giuridico italiano
DESCRIPTION:
URL:https://www.centrostudilivatino.it/event/la-tutela-della-vita-nellordinamento-giuridico-italiano/
LOCATION:Corte Suprema di Cassazione – Aula Magna\, Piazza Cavour\, Roma\, Italia
ATTACH;FMTTYPE=image/jpeg:https://www.centrostudilivatino.it/wp-content/uploads/2018/09/Locandina-16-novembre-Roma-1.jpg
END:VEVENT
BEGIN:VEVENT
DTSTART;TZID=UTC:20181109T090000
DTEND;TZID=UTC:20181111T120000
DTSTAMP:20260424T233348
CREATED:20181018T150612Z
LAST-MODIFIED:20181108T090158Z
UID:5947-1541754000-1541937600@www.centrostudilivatino.it
SUMMARY:GENERAZIONI DI SPERANZA
DESCRIPTION:All’interno del Convegno annuale dei Centri di Aiuto alla Vita\, intitolato Generazioni di speranza. I nostri primi 40 anni e più…per fare la differenza\, il giorno 11 novembre alle ore 9\,45 il vicepresidente del Centro Studi Livatino\, Alfredo Mantovano\, parteciperà alla sessione su 40 anni di medicina e diritto davanti all’uomo-embrione: cosa è cambiato in questi anni. \nVedi il programma completo del convengo Generazioni di speranza. I nostri primi 40 anni e più…per fare la differenza
URL:https://www.centrostudilivatino.it/event/generazioni-di-speranza/
LOCATION:Hotel Tiziano\, Via Porta d'Europa\, Lecce\, 73100\, Italia
ATTACH;FMTTYPE=image/jpeg:https://www.centrostudilivatino.it/wp-content/uploads/2018/10/primalecce3.jpg
END:VEVENT
BEGIN:VEVENT
DTSTART;TZID=UTC:20181108T143000
DTEND;TZID=UTC:20181108T180000
DTSTAMP:20260424T233348
CREATED:20181031T185949Z
LAST-MODIFIED:20181031T185949Z
UID:5983-1541687400-1541700000@www.centrostudilivatino.it
SUMMARY:70 anni della Costituzione. Vita e realtà sul territorio
DESCRIPTION:
URL:https://www.centrostudilivatino.it/event/70-anni-della-costituzione-vita-e-realta-sul-territorio/
ATTACH;FMTTYPE=image/jpeg:https://www.centrostudilivatino.it/wp-content/uploads/2018/10/locandina_incontri_sulla_costituzione.jpg
END:VEVENT
BEGIN:VEVENT
DTSTART;TZID=UTC:20181024T203000
DTEND;TZID=UTC:20181024T223000
DTSTAMP:20260424T233348
CREATED:20181008T095345Z
LAST-MODIFIED:20181008T095601Z
UID:5903-1540413000-1540420200@www.centrostudilivatino.it
SUMMARY:Il 68 del diritto. La fantasia al potere (giudiziario)
DESCRIPTION:
URL:https://www.centrostudilivatino.it/event/il-68-del-diritto-la-fantasia-al-potere-giudiziario/
LOCATION:Alleanza Cattolica – Roma\, Viale Parioli 40\, Roma\, Italia
ATTACH;FMTTYPE=image/jpeg:https://www.centrostudilivatino.it/wp-content/uploads/2018/10/Il-68-del-diritto.jpg
END:VEVENT
BEGIN:VEVENT
DTSTART;TZID=UTC:20181012T190000
DTEND;TZID=UTC:20181012T200000
DTSTAMP:20260424T233348
CREATED:20181008T091438Z
LAST-MODIFIED:20181008T091618Z
UID:5896-1539370800-1539374400@www.centrostudilivatino.it
SUMMARY:"Veritatis Splendor" e "Fides et Ratio": la sfida di un umanesimo integrale
DESCRIPTION:
URL:https://www.centrostudilivatino.it/event/veritatis-splendor-e-fides-et-ratio-la-sfida-di-un-umanesimo-integrale/
LOCATION:Parrocchia Santa Maria della Consolazione\, Via Milo 11\, Catania\, Italia
ATTACH;FMTTYPE=image/jpeg:https://www.centrostudilivatino.it/wp-content/uploads/2018/10/sfida-umanesimo-integrale-e1538990165827.jpeg
END:VEVENT
BEGIN:VEVENT
DTSTART;TZID=UTC:20181005T143000
DTEND;TZID=UTC:20181005T193000
DTSTAMP:20260424T233348
CREATED:20180806T091849Z
LAST-MODIFIED:20181116T142022Z
UID:5764-1538749800-1538767800@www.centrostudilivatino.it
SUMMARY:Determinazione di fine vita fra Costituzione e Convenzione Europea dei Diritti dell'Uomo: diritti o delitti?
DESCRIPTION:
URL:https://www.centrostudilivatino.it/event/determinazione-di-fine-vita-fra-costituzione-e-convenzione-europea-dei-diritti-delluomo-diritti-o-delitti/
LOCATION:Università Ca’ Foscari\, C.po Santa Margherita\, Dorsoduro\, Venezia\, 3689\, Italia
END:VEVENT
BEGIN:VEVENT
DTSTART;VALUE=DATE:20180929
DTEND;VALUE=DATE:20181001
DTSTAMP:20260424T233348
CREATED:20180710T200907Z
LAST-MODIFIED:20180817T083725Z
UID:5722-1538179200-1538351999@www.centrostudilivatino.it
SUMMARY:Scuola di bioetica
DESCRIPTION:
URL:https://www.centrostudilivatino.it/event/scuola-di-bioetica/
LOCATION:Villa Aurelia\, Via Leone XIII\, 459\, Roma\, Italia
END:VEVENT
BEGIN:VEVENT
DTSTART;TZID=UTC:20180926T203000
DTEND;TZID=UTC:20180926T223000
DTSTAMP:20260424T233348
CREATED:20180904T165859Z
LAST-MODIFIED:20180924T162532Z
UID:5825-1537993800-1538001000@www.centrostudilivatino.it
SUMMARY:Il 68 del diritto
DESCRIPTION:L’incontro in programma con Alfredo Mantovano è rimandato a data da destinarsi.
URL:https://www.centrostudilivatino.it/event/il-68-del-diritto/
LOCATION:Alleanza Cattolica – Roma\, Viale Parioli 40\, Roma\, Italia
ATTACH;FMTTYPE=image/jpeg:https://www.centrostudilivatino.it/wp-content/uploads/2018/09/Il-68-del-diritto.jpg
END:VEVENT
BEGIN:VEVENT
DTSTART;TZID=UTC:20180921T150000
DTEND;TZID=UTC:20180921T180000
DTSTAMP:20260424T233348
CREATED:20180811T160808Z
LAST-MODIFIED:20180831T162300Z
UID:5782-1537542000-1537552800@www.centrostudilivatino.it
SUMMARY:Triptorelina e disforia di genere      
DESCRIPTION:
URL:https://www.centrostudilivatino.it/event/triptorelina-e-disforia-di-genere/
LOCATION:Università Europea di Roma\, Via degli Aldobrandeschi 190\, Roma\, Italia
END:VEVENT
BEGIN:VEVENT
DTSTART;TZID=UTC:20180918T143000
DTEND;TZID=UTC:20180918T183000
DTSTAMP:20260424T233348
CREATED:20180806T081941Z
LAST-MODIFIED:20181011T081257Z
UID:5760-1537281000-1537295400@www.centrostudilivatino.it
SUMMARY:Libertà dalla droga
DESCRIPTION:  \nLa partecipazione al Convegno dà diritto a 3 crediti formativi per gli Avvocati. \nPer motivi organizzativi è gradita la segnalazione della presenza compilando il seguente form (non Avvocati):\nRegistrazione presenze \nPer gli Avvocati interessati al conseguimento dei crediti formativi si richiede la compilazione di uno dei seguenti moduli: \nForo di Milano \nAltri Fori \nAugurandoci di incontrarLa in tale occasione\,\nLa salutiamo con viva cordialità \nCentro Studi Livatino\, Milano
URL:https://www.centrostudilivatino.it/event/liberta-dalla-droga/
LOCATION:Palazzina ANMIG\, Salone Valente - ingresso da via San Barnaba\, 29\, Milano\, MI\, Italia
END:VEVENT
BEGIN:VEVENT
DTSTART;TZID=UTC:20180913T181500
DTEND;TZID=UTC:20180913T200000
DTSTAMP:20260424T233348
CREATED:20180807T084326Z
LAST-MODIFIED:20180807T084326Z
UID:5775-1536862500-1536868800@www.centrostudilivatino.it
SUMMARY:Per una nuova democrazia
DESCRIPTION:
URL:https://www.centrostudilivatino.it/event/per-una-nuova-democrazia/
LOCATION:Auditorium Palazzo del Governatore\, Piazza Garibaldi 2\, Parma\, Italia
END:VEVENT
BEGIN:VEVENT
DTSTART;TZID=UTC:20180901T150000
DTEND;TZID=UTC:20180901T183000
DTSTAMP:20260424T233348
CREATED:20180806T092936Z
LAST-MODIFIED:20180806T093128Z
UID:5771-1535814000-1535826600@www.centrostudilivatino.it
SUMMARY:Coscienza e fine vita
DESCRIPTION:
URL:https://www.centrostudilivatino.it/event/coscienza-e-fine-vita/
LOCATION:Palazzo Appostolico di Loreto\, Piazza della Madonna\, Loreto\, Italia
END:VEVENT
END:VCALENDAR